BEGIN:VCALENDAR
VERSION:2.0
PRODID:-//Hallet Oak Foundation Inc - ECPv6.15.20//NONSGML v1.0//EN
CALSCALE:GREGORIAN
METHOD:PUBLISH
X-WR-CALNAME:Hallet Oak Foundation Inc
X-ORIGINAL-URL:https://halletoakgallery.com
X-WR-CALDESC:Events for Hallet Oak Foundation Inc
REFRESH-INTERVAL;VALUE=DURATION:PT1H
X-Robots-Tag:noindex
X-PUBLISHED-TTL:PT1H
BEGIN:VTIMEZONE
TZID:America/Chicago
BEGIN:DAYLIGHT
TZOFFSETFROM:-0600
TZOFFSETTO:-0500
TZNAME:CDT
DTSTART:20230312T080000
END:DAYLIGHT
BEGIN:STANDARD
TZOFFSETFROM:-0500
TZOFFSETTO:-0600
TZNAME:CST
DTSTART:20231105T070000
END:STANDARD
BEGIN:DAYLIGHT
TZOFFSETFROM:-0600
TZOFFSETTO:-0500
TZNAME:CDT
DTSTART:20240310T080000
END:DAYLIGHT
BEGIN:STANDARD
TZOFFSETFROM:-0500
TZOFFSETTO:-0600
TZNAME:CST
DTSTART:20241103T070000
END:STANDARD
BEGIN:DAYLIGHT
TZOFFSETFROM:-0600
TZOFFSETTO:-0500
TZNAME:CDT
DTSTART:20250309T080000
END:DAYLIGHT
BEGIN:STANDARD
TZOFFSETFROM:-0500
TZOFFSETTO:-0600
TZNAME:CST
DTSTART:20251102T070000
END:STANDARD
BEGIN:DAYLIGHT
TZOFFSETFROM:-0600
TZOFFSETTO:-0500
TZNAME:CDT
DTSTART:20260308T080000
END:DAYLIGHT
BEGIN:STANDARD
TZOFFSETFROM:-0500
TZOFFSETTO:-0600
TZNAME:CST
DTSTART:20261101T070000
END:STANDARD
END:VTIMEZONE
BEGIN:VEVENT
DTSTART;TZID=America/Chicago:20250802T090000
DTEND;TZID=America/Chicago:20250802T170000
DTSTAMP:20260423T180549
CREATED:20250801T225425Z
LAST-MODIFIED:20250801T225510Z
UID:10004344-1754125200-1754154000@halletoakgallery.com
SUMMARY:Michael Windberg Workshop - Pay in Advance
DESCRIPTION:Contact Michael Windberg for details\, call or text 361-649-2833 \n“Bring what you are working on or what you may want to start. ” – Composition\, Light Direction\, Mixing for Color Harmony \n9 -5 pm on Saturday and 1 – 5 pm on Sunday. \nClass is limited to eight Students\, $150 due before class date. Subject for this workshop is
URL:https://halletoakgallery.com/event/michael-windberg-workshop-pay-in-advance-4/
LOCATION:Hallet Oak Gallery
CATEGORIES:Art Lessons
ATTACH;FMTTYPE=image/jpeg:https://halletoakgallery.com/wp-content/uploads/2025/04/5x7windbergIMG_8757.jpg
ORGANIZER;CN="Michael Windberg - Artist":MAILTO:mnwindberg@gmail.com
END:VEVENT
BEGIN:VEVENT
DTSTART;TZID=America/Chicago:20250726T160000
DTEND;TZID=America/Chicago:20250823T200000
DTSTAMP:20260423T180549
CREATED:20250122T225438Z
LAST-MODIFIED:20250123T231246Z
UID:10004226-1753545600-1755979200@halletoakgallery.com
SUMMARY:Last Saturday Night Live! Bring Your Hand-Made Sign or Photograph for Awards!
DESCRIPTION:July 26\, 2025\,  4 PM to 8 PM – Last Saturday Night Live! What International Language Can You Find on A Sign? Bring Your Hand-Made Sign or Photograph between 4 PM & 5 PM for Awards! Open to all ages. Join us to see the art exhibits and enjoy live music. Free.
URL:https://halletoakgallery.com/event/last-saturday-night-live/
LOCATION:Hallet Oak Gallery
ATTACH;FMTTYPE=image/jpeg:https://halletoakgallery.com/wp-content/uploads/2025/01/5x7_202402_art_opeing_MG_2221-copy.jpg
END:VEVENT
BEGIN:VEVENT
DTSTART;TZID=America/Chicago:20250726T120000
DTEND;TZID=America/Chicago:20250726T150000
DTSTAMP:20260423T180549
CREATED:20250122T225736Z
LAST-MODIFIED:20250124T164050Z
UID:10004227-1753531200-1753542000@halletoakgallery.com
SUMMARY:Last Saturday Open House!
DESCRIPTION:Last Saturdays Open House! July 26\, 2025\,  12 PM to 3 PM – \nComplimentary light refreshments! \nEnjoy scavenger hunt for all ages with prizes! \nHallet Oak Gallery’s Featured Artists & their Revolving  New Artworks \nPaintings \n\nMOSES ADAMS – Mixed Media\nLARRY CHARLES – Watercolor\nMARY GULLETTE – Mixed Media\nPHYLLIS RIVERA – Oil\nLOIS WEISS – Oil\nMICHAEL WINDBERG – Oil\nPAIGE WOODRING – Mixed Media\n\nPhotography \n\nKEN KOPACKI – Fine Art Photography\nMIEKO MAHI – Industrial Photography\nSTEVEN PITUCH – Fine Art Photography\n\n3D Art \n\nLINDA CEJKA – Jewelry\nJULIE MARSH – Glass Sculpture\nJAMES PHILLIP – Wood Sculpture\n\n  \nFree Admission
URL:https://halletoakgallery.com/event/last-saturday-open-house-4/
LOCATION:Hallet Oak Gallery
CATEGORIES:Open House
ATTACH;FMTTYPE=image/jpeg:https://halletoakgallery.com/wp-content/uploads/2025/01/5x7_2022_exhibit_xmas_IMG_2570-copy.jpg
END:VEVENT
BEGIN:VEVENT
DTSTART;TZID=America/Chicago:20250629T080000
DTEND;TZID=America/Chicago:20250629T170000
DTSTAMP:20260423T180549
CREATED:20250415T031113Z
LAST-MODIFIED:20250507T155617Z
UID:10004337-1751184000-1751216400@halletoakgallery.com
SUMMARY:Michael Windberg Workshop - Pay in Advance - This class started late June due to schedule
DESCRIPTION:Contact Michael Windberg for details\, call or text 361-649-2833 \n“Understanding the Landscape” – Composition\, Light Direction\, Mixing for Color Harmony \n9 -5 pm on Saturday and 1 – 5 pm on Sunday. \nClass is limited to eight Students\, $150 due before class date. Subject for this workshop is
URL:https://halletoakgallery.com/event/michael-windberg-workshop-pay-in-advance-3/
LOCATION:Hallet Oak Gallery
ATTACH;FMTTYPE=image/jpeg:https://halletoakgallery.com/wp-content/uploads/2025/04/5x7windbergIMG_8757.jpg
ORGANIZER;CN="Michael Windberg - Artist":MAILTO:mnwindberg@gmail.com
END:VEVENT
BEGIN:VEVENT
DTSTART;TZID=America/Chicago:20250628T160000
DTEND;TZID=America/Chicago:20250628T200000
DTSTAMP:20260423T180549
CREATED:20250122T225323Z
LAST-MODIFIED:20250123T231014Z
UID:10004225-1751126400-1751140800@halletoakgallery.com
SUMMARY:Last Saturday Night Live! Decorate Our Cupcakes & Eat It Too!
DESCRIPTION:June 28\, 2025\, 4 PM to 8 PM –  Last Saturday Night Live! Decorate Our Cupcakes & Eat It Too! Contest is open to all ages! Join us to see the art exhibits and enjoy live music. Free.
URL:https://halletoakgallery.com/event/last-saturday-night-live-decorate-our-cupcakes-eat-it-too/
LOCATION:Hallet Oak Gallery
CATEGORIES:Art Exhibit & Reception
ATTACH;FMTTYPE=image/jpeg:https://halletoakgallery.com/wp-content/uploads/2019/01/web5x7_hog_art_opening_IMG_0940.jpg
END:VEVENT
BEGIN:VEVENT
DTSTART;TZID=America/Chicago:20250628T120000
DTEND;TZID=America/Chicago:20250628T150000
DTSTAMP:20260423T180549
CREATED:20250122T225051Z
LAST-MODIFIED:20250124T163756Z
UID:10004224-1751112000-1751122800@halletoakgallery.com
SUMMARY:Last Saturday Open House!
DESCRIPTION:Last Saturdays Open House! June 28\, 2025\,  12 PM to 3 PM – \nComplimentary light refreshments! \nEnjoy scavenger hunt for all ages with prizes! \nHallet Oak Gallery’s Featured Artists & their Revolving  New Artworks \nPaintings \n\nMOSES ADAMS – Mixed Media\nLARRY CHARLES – Watercolor\nMARY GULLETTE – Mixed Media\nPHYLLIS RIVERA – Oil\nLOIS WEISS – Oil\nMICHAEL WINDBERG – Oil\nPAIGE WOODRING – Mixed Media\n\nPhotography \n\nKEN KOPACKI – Fine Art Photography\nMIEKO MAHI – Industrial Photography\nSTEVEN PITUCH – Fine Art Photography\n\n3D Art \n\nLINDA CEJKA – Jewelry\nJULIE MARSH – Glass Sculpture\nJAMES PHILLIP – Wood Sculpture\n\n  \nFree Admission
URL:https://halletoakgallery.com/event/last-saturday-open-house-3/
LOCATION:Hallet Oak Gallery
CATEGORIES:Open House
ATTACH;FMTTYPE=image/jpeg:https://halletoakgallery.com/wp-content/uploads/2025/01/5x7_gallery_openingIMG_1856-copy.jpg
END:VEVENT
BEGIN:VEVENT
DTSTART;TZID=America/Chicago:20250628T090000
DTEND;TZID=America/Chicago:20250628T170000
DTSTAMP:20260423T180549
CREATED:20250415T030918Z
LAST-MODIFIED:20250507T155816Z
UID:10004336-1751101200-1751130000@halletoakgallery.com
SUMMARY:Michael Windberg Workshop - Pay in Advance - This class started in late June due to schedule
DESCRIPTION:Contact Michael Windberg for details\, call or text 361-649-2833 \n“Understanding the Landscape” – Composition\, Light Direction\, Mixing for Color Harmony \n9 -5 pm on Saturday and 1 – 5 pm on Sunday. \nClass is limited to eight Students\, $150 due before class date. Subject for this workshop is
URL:https://halletoakgallery.com/event/michael-windberg-workshop-pay-in-advance-2/
LOCATION:Hallet Oak Gallery
ATTACH;FMTTYPE=image/jpeg:https://halletoakgallery.com/wp-content/uploads/2025/04/5x7windbergIMG_8757.jpg
ORGANIZER;CN="Michael Windberg - Artist":MAILTO:mnwindberg@gmail.com
END:VEVENT
BEGIN:VEVENT
DTSTART;TZID=America/Chicago:20250619T120000
DTEND;TZID=America/Chicago:20250619T160000
DTSTAMP:20260423T180549
CREATED:20250122T224815Z
LAST-MODIFIED:20250123T230220Z
UID:10004223-1750334400-1750348800@halletoakgallery.com
SUMMARY:Juneteenth Celebration
DESCRIPTION:Special Exhibits. Free. \nGene Grant will be exhibit. Refreshments will be served\, free admission.
URL:https://halletoakgallery.com/event/juneteenth-celebration-3/
LOCATION:Hallet Oak Gallery
CATEGORIES:Art Exhibit & Reception
ATTACH;FMTTYPE=image/jpeg:https://halletoakgallery.com/wp-content/uploads/2025/01/5x7_b_gene_grant_IMG_6192-copy.jpg
END:VEVENT
BEGIN:VEVENT
DTSTART;TZID=America/Chicago:20250531T120000
DTEND;TZID=America/Chicago:20250531T150000
DTSTAMP:20260423T180549
CREATED:20250122T224431Z
LAST-MODIFIED:20250124T163659Z
UID:10004222-1748692800-1748703600@halletoakgallery.com
SUMMARY:Last Saturday Open House!
DESCRIPTION:Last Saturdays Open House! May 31\, 2025\,  12 PM to 3 PM – \nComplimentary light refreshments! \nEnjoy scavenger hunt for all ages with prizes! \nHallet Oak Gallery’s Featured Artists & their Revolving  New Artworks \nPaintings \n\nMOSES ADAMS – Mixed Media\nLARRY CHARLES – Watercolor\nMARY GULLETTE – Mixed Media\nPHYLLIS RIVERA – Oil\nLOIS WEISS – Oil\nMICHAEL WINDBERG – Oil\nPAIGE WOODRING – Mixed Media\n\nPhotography \n\nKEN KOPACKI – Fine Art Photography\nMIEKO MAHI – Industrial Photography\nSTEVEN PITUCH – Fine Art Photography\n\n3D Art \n\nLINDA CEJKA – Jewelry\nJULIE MARSH – Glass Sculpture\nJAMES PHILLIP – Wood Sculpture\n\n  \nFree Admission
URL:https://halletoakgallery.com/event/last-saturday-open-house-2/
LOCATION:Hallet Oak Gallery
CATEGORIES:Open House
ATTACH;FMTTYPE=image/jpeg:https://halletoakgallery.com/wp-content/uploads/2025/01/5x7_fall_opening_IMG_3396-copy.jpg
END:VEVENT
BEGIN:VEVENT
DTSTART;TZID=America/Chicago:20250524T140000
DTEND;TZID=America/Chicago:20250524T160000
DTSTAMP:20260423T180549
CREATED:20250124T233615Z
LAST-MODIFIED:20250326T154142Z
UID:10004307-1748095200-1748102400@halletoakgallery.com
SUMMARY:Hallettsville Cultural Events Center Live Musical Performance by Kamil Bonner
DESCRIPTION:Hallettsville Cultural Events Center Live Musical Performance by \nKamil Bonner\, Singer Musican \nSaturday\, March 8\, 2025\, 2:00 PM to 4:00 PM  Live Music \nDoors open at 1:30 PM and close at 4:30 PM \nFor more information call Hallettsville Cultural Events Center by leaving message at 361-272-3660.
URL:https://halletoakgallery.com/event/hallettsville-cultural-events-center-live-musical-performance-2/
LOCATION:Hallet Oak Gallery
ATTACH;FMTTYPE=image/png:https://halletoakgallery.com/wp-content/uploads/2025/01/HCEC-Logo-Vector-02_Outlines.png
END:VEVENT
BEGIN:VEVENT
DTSTART;TZID=America/Chicago:20250521T100000
DTEND;TZID=America/Chicago:20250521T120000
DTSTAMP:20260423T180549
CREATED:20250325T175739Z
LAST-MODIFIED:20250325T223926Z
UID:10004333-1747821600-1747828800@halletoakgallery.com
SUMMARY:Private Booking
DESCRIPTION:For more information contact Angela Napiwocki\, LavacaCountyHomeschoolers@gmail.com
URL:https://halletoakgallery.com/event/lavaca-county-homeschoolers-private-booking-2/
LOCATION:Hallet Oak Gallery
END:VEVENT
BEGIN:VEVENT
DTSTART;TZID=America/Chicago:20250518T150000
DTEND;TZID=America/Chicago:20250518T170000
DTSTAMP:20260423T180549
CREATED:20250319T191810Z
LAST-MODIFIED:20250319T191810Z
UID:10004331-1747580400-1747587600@halletoakgallery.com
SUMMARY:League of Women Voters South Central Texas Annual Meeting  - Private Booking
DESCRIPTION:League of Women Voters South Central Texas Annual Meeting  May 18\,2025\, 3pm to 5pm .For more information contact Janis Richardson janis@janisrichardson.com.
URL:https://halletoakgallery.com/event/league-of-women-voters-south-central-texas-annual-meeting-private-booking/
LOCATION:Hallet Oak Gallery
ATTACH;FMTTYPE=image/png:https://halletoakgallery.com/wp-content/uploads/2024/07/LWVSCentralTXrgb.png
END:VEVENT
BEGIN:VEVENT
DTSTART;TZID=America/Chicago:20250514T160000
DTEND;TZID=America/Chicago:20250514T180000
DTSTAMP:20260423T180549
CREATED:20250124T173936Z
LAST-MODIFIED:20250311T180252Z
UID:10004298-1747238400-1747245600@halletoakgallery.com
SUMMARY:Private Booking: South Central Texas Art League
DESCRIPTION:South Central Texas Art League (SCTAL) Program: Doors open at 3:30 PM and presentation  starts promptly at 4:00 PM. \nFor schedule changes or for more information\, see Facebook page: Hallettsville Art League – the South Central Texas Art League. 
URL:https://halletoakgallery.com/event/private-booking-south-central-texas-art-league-3/
LOCATION:Hallet Oak Gallery
ATTACH;FMTTYPE=image/jpeg:https://halletoakgallery.com/wp-content/uploads/2016/10/14046045_1371549192859811_4741156120691733003_n.jpg
END:VEVENT
BEGIN:VEVENT
DTSTART;TZID=America/Chicago:20250507T100000
DTEND;TZID=America/Chicago:20250507T120000
DTSTAMP:20260423T180549
CREATED:20250325T175451Z
LAST-MODIFIED:20250325T223903Z
UID:10004332-1746612000-1746619200@halletoakgallery.com
SUMMARY:Private Booking
DESCRIPTION:For more information contact Angela Napiwocki\, lavacacountyhomeschoolers@gmail.com
URL:https://halletoakgallery.com/event/lavaca-county-homeschoolers-private-booking/
LOCATION:Hallet Oak Gallery
END:VEVENT
BEGIN:VEVENT
DTSTART;TZID=America/Chicago:20250504T080000
DTEND;TZID=America/Chicago:20250504T170000
DTSTAMP:20260423T180549
CREATED:20250415T030626Z
LAST-MODIFIED:20250415T030638Z
UID:10004335-1746345600-1746378000@halletoakgallery.com
SUMMARY:Michael Windberg Work Shop - Pay in Advance
DESCRIPTION:Contact Michael Windberg for details\, call or text 361-649-2833 \n“Understanding the Landscape” – Composition\, Light Direction\, Mixing for Color Harmony \n9 -5 pm on Saturday and 1 – 5 pm on Sunday. \nClass is limited to eight Students\, $150 due before class date. Subject for this workshop is
URL:https://halletoakgallery.com/event/michael-windberg-work-shop-pay-in-advance/
LOCATION:Hallet Oak Gallery
ATTACH;FMTTYPE=image/jpeg:https://halletoakgallery.com/wp-content/uploads/2025/04/5x7windbergIMG_8757.jpg
ORGANIZER;CN="Michael Windberg - Artist":MAILTO:mnwindberg@gmail.com
END:VEVENT
BEGIN:VEVENT
DTSTART;TZID=America/Chicago:20250503T090000
DTEND;TZID=America/Chicago:20250503T170000
DTSTAMP:20260423T180549
CREATED:20250415T030412Z
LAST-MODIFIED:20250415T030412Z
UID:10004334-1746262800-1746291600@halletoakgallery.com
SUMMARY:Michael Windberg Workshop - Pay in Advance
DESCRIPTION:Contact Michael Windberg for details\, call or text 361-649-2833 \n“Understanding the Landscape” – Composition\, Light Direction\, Mixing for Color Harmony \n9 -5 pm on Saturday and 1 – 5 pm on Sunday. \nClass is limited to eight Students\, $150 due before class date. Subject for this workshop is
URL:https://halletoakgallery.com/event/michael-windberg-workshop-pay-in-advance/
LOCATION:Hallet Oak Gallery
ATTACH;FMTTYPE=image/jpeg:https://halletoakgallery.com/wp-content/uploads/2025/04/5x7windbergIMG_8757.jpg
ORGANIZER;CN="Michael Windberg - Artist":MAILTO:mnwindberg@gmail.com
END:VEVENT
BEGIN:VEVENT
DTSTART;TZID=America/Chicago:20250426T160000
DTEND;TZID=America/Chicago:20250426T200000
DTSTAMP:20260423T180549
CREATED:20250121T200038Z
LAST-MODIFIED:20250124T163615Z
UID:10004219-1745683200-1745697600@halletoakgallery.com
SUMMARY:Last Saturday Night Live! Bring Your Decorated Cake for Judging! You Can Keep the Cake!
DESCRIPTION:April 26\, 2025\, 4 PM to 8 PM – Last Saturday Night Live! Bring your decorated baked cakes for judging and awards. You can keep the cake! Contest is open to all ages.  Join us to see the art exhibits and enjoy live music. Free. Last evening to see the Western Art Student Display. \nApril 26\, 2025 – Summer Camp Registration Deadline. Call 361-217-7030 and leave message or subscribe to Gallery newsletter for details or email. RSVP with Nominal Fee. \n 
URL:https://halletoakgallery.com/event/10201/
LOCATION:Hallet Oak Gallery
CATEGORIES:Art Exhibit & Reception
ATTACH;FMTTYPE=image/jpeg:https://halletoakgallery.com/wp-content/uploads/2025/01/adalyn_pohl_age_13_cake_image0.jpeg
END:VEVENT
BEGIN:VEVENT
DTSTART;TZID=America/Chicago:20250423T160000
DTEND;TZID=America/Chicago:20250423T190000
DTSTAMP:20260423T180549
CREATED:20250419T012214Z
LAST-MODIFIED:20250419T012315Z
UID:10004338-1745424000-1745434800@halletoakgallery.com
SUMMARY:Private Booking: L.C.D.
DESCRIPTION:For more information contact: Marilyn Thibodeaux 361-772-8876
URL:https://halletoakgallery.com/event/private-booking-l-c-d/
LOCATION:Hallet Oak Gallery
END:VEVENT
BEGIN:VEVENT
DTSTART;TZID=America/Chicago:20250329T120000
DTEND;TZID=America/Chicago:20250329T150000
DTSTAMP:20260423T180549
CREATED:20250110T040226Z
LAST-MODIFIED:20250123T234745Z
UID:10004217-1743249600-1743260400@halletoakgallery.com
SUMMARY:Last Saturdays Open House!
DESCRIPTION:Last Saturdays Open House! March 29\, 2025\,  12 PM to 3 PM – \nStudent Western Art Exhibit on display. \nComplimentary light refreshments! \nEnjoy scavenger hunt for all ages with prizes! \nHallet Oak Gallery’s Featured Artists & their Revolving  New Artworks \nPaintings \n\nMOSES ADAMS – Mixed Media\nLARRY CHARLES – Watercolor\nMARY GULLETTE – Mixed Media\nPHYLLIS RIVERA – Oil\nLOIS WEISS – Oil\nMICHAEL WINDBERG – Oil\nPAIGE WOODRING – Mixed Media\n\nPhotography \n\nKEN KOPACKI – Fine Art Photography\nMIEKO MAHI – Industrial Photography\nSTEVEN PITUCH – Fine Art Photography\n\n3D Art \n\nLINDA CEJKA – Jewelry\nJULIE MARSH – Glass Sculpture\nJAMES PHILLIP – Wood Sculpture\n\n  \nFree Admission
URL:https://halletoakgallery.com/event/last-saturdays-open-house/
LOCATION:Hallet Oak Gallery
CATEGORIES:Art Center with Exhibit,Art Exhibit & Reception,Artist Reception - Free
ATTACH;FMTTYPE=image/jpeg:https://halletoakgallery.com/wp-content/uploads/2025/01/5x7_gallery_exhibit_IMG_0764.jpg
END:VEVENT
BEGIN:VEVENT
DTSTART;TZID=America/Chicago:20250320T120000
DTEND;TZID=America/Chicago:20250320T183000
DTSTAMP:20260423T180549
CREATED:20250110T034404Z
LAST-MODIFIED:20250319T203131Z
UID:10004215-1742472000-1742495400@halletoakgallery.com
SUMMARY:March 20 – March 29  – Student Western Art Exhibit on Display Opening Show
DESCRIPTION:  \nHallet Oak Gallery’s 2025 Western Art Student Exhibition  \nShowcasing the artworks by Hallettsville High School and Moulton Elementary \nMarch 20 – March 29\, 2025 \nOpen Hours: Last Saturdays 12pm-4pm & 4pm-8pm \n  \nA special Hallet Oak Gallery open-house reception will be held on the first day of spring\, \nThursday\, March 20\, 2025. \nSchedule of event: \n12:00 PM – Doors open\, refreshments will be served. \nChalk art outside\,  inside view artworks\, enjoy scavenger hunts with prizes. \n4:OO PM Appetizers will be served! \n5:30 PM — Student recognition award ceremony. Winners\, please arrive by 5:30 pm to receive your award and see what you won! Awards are sponsored by Peoples State Bank. \n6:30  PM— Doors close. \n  \nEveryone is welcome\, bring your family and friends! Free. \nHallet Oak Gallery\, 115 N. Main St.\, Hallettsville\, TX 77964 \nSee www.halletoakgallery.com  or call 361-217-7030 for details! \n 
URL:https://halletoakgallery.com/event/march-20-april-26-student-western-art-exhibit-on-display-opening-show/
LOCATION:Hallet Oak Gallery
CATEGORIES:Art Center with Exhibit,Art Exhibit & Reception
ATTACH;FMTTYPE=image/jpeg:https://halletoakgallery.com/wp-content/uploads/2025/01/5x7_20250307_hhs_entry_IMG_2275.jpg
END:VEVENT
BEGIN:VEVENT
DTSTART;TZID=America/Chicago:20250308T140000
DTEND;TZID=America/Chicago:20250308T160000
DTSTAMP:20260423T180549
CREATED:20250124T231705Z
LAST-MODIFIED:20250224T210729Z
UID:10004306-1741442400-1741449600@halletoakgallery.com
SUMMARY:Hallettsville Cultural Events Center Live Music by KAMIL
DESCRIPTION:Hallettsville Cultural Events Center Live Musical Performance \nKAMIL Bonner: Singer\, Performer \nR& B\, Soul\, Country\, Classical \nPerforms Saturday\, March 8\, 2025 \n2 pm  to 4 pm \nDoors open at 1:30 PM and close at 4:30 PM \nFree admission \nFor more information call Hallettsville Cultural Events Center by leaving message at 361-272-3660. \n115 N. Main St \nHallettsville\, TX 77964 \n  \n 
URL:https://halletoakgallery.com/event/hallettsville-cultural-events-center-live-musical-performance/
LOCATION:Hallet Oak Gallery
ATTACH;FMTTYPE=image/png:https://halletoakgallery.com/wp-content/uploads/2025/01/HCEC-Logo-Vector-02_Outlines.png
END:VEVENT
BEGIN:VEVENT
DTSTART;TZID=America/Chicago:20250222T160000
DTEND;TZID=America/Chicago:20250222T200000
DTSTAMP:20260423T180549
CREATED:20250110T032032Z
LAST-MODIFIED:20250203T232822Z
UID:10003846-1740240000-1740254400@halletoakgallery.com
SUMMARY:2025 Artists’ Perspectives Art Opening
DESCRIPTION:New Art Exhibit – “2025 Artists’ Perspectives” at Hallet Oak Gallery\, Hallettsville\, TX – Hallet Oak Gallery announces the highly anticipated 2025 Art Open House Series “2025 Artists’ Perspectives.” This new show will feature a collection of local and regional artists presenting an exciting array of mixed media\, oil paintings\, photography\, and three-dimensional artwork. The exhibit will be on view throughout the year with revolving new works of art. \n  \nTo kick off the exhibition\, a Special Art Opening Reception will be held on February 22\, 2025\, from 4:00 pm to 8:00 pm.  This event will provide a unique opportunity to meet the talented artists behind the works on display while enjoying light refreshments and mingling in the Gallery. The reception is free and open to the public. The Gallery will also be open during the day to receive public from 12:00 pm to 3:00 pm. \nHallet Oak Gallery’s 2025 Artists & Artworks: \n  \nPaintings \nMOSES ADAMS – Mixed Media \nLARRY CHARLES – Watercolor \nMARY GULLETTE – Mixed Media \nPHYLLIS RIVERA – Oil \nLOIS WEISS – Oil \nMICHAEL WINDBERG – Oil \nPAIGE WOODRING – Mixed Media \n  \nPhotography \nKEN KOPACKI – Fine Art Photography \nMIEKO MAHI – Industrial Photography \nSTEVEN PITUCH – Fine Art Photography \n  \n3D Art \nLINDA CEJKA – Jewelry \nKHRISTINA KNEBEL – Mixed Media Sculpture \nJULIE MARSH – Glass Sculpture \nJAMES PHILLIP – Wood Sculpture \n  \nAbout New Gallery Regular Open Hours through November 2025 \n\nEnjoy Last Saturdays Open House12:00 pm to 3:00 pm\nExperience Last Saturdays Night Live 4:00 pm to 8:00 pm\n\nVisitors are encouraged to explore the Gallery and immerse themselves in the vibrant perspectives of the artists. The exhibition is free and open to the public. Membership is not required. For more information\, including upcoming special events\, visit www.halletoakgallery.com or leave message at 361-217-7030.
URL:https://halletoakgallery.com/event/2025-artists-perspectives-art-opening/
LOCATION:Hallet Oak Gallery
CATEGORIES:Art Center with Exhibit,Art Exhibit & Reception,Artist Reception - Free,date night
ATTACH;FMTTYPE=image/jpeg:https://halletoakgallery.com/wp-content/uploads/2025/01/4x4_opening_exhibit_IMG_6187.jpg
END:VEVENT
BEGIN:VEVENT
DTSTART;TZID=America/Chicago:20250212T160000
DTEND;TZID=America/Chicago:20250212T180000
DTSTAMP:20260423T180549
CREATED:20250124T170016Z
LAST-MODIFIED:20250124T170016Z
UID:10004239-1739376000-1739383200@halletoakgallery.com
SUMMARY:Private Booking: South Central Texas Art League
DESCRIPTION:South Central Texas Art League (SCTAL) Program: Doors open at 4 PM and presentation  starts promptly at 4:15 PM. F \nFor schedule changes or for more information\, see Facebook page: Hallettsville Art League – the South Central Texas Art League. 
URL:https://halletoakgallery.com/event/private-booking-south-central-texas-art-league/
LOCATION:Hallet Oak Gallery
ATTACH;FMTTYPE=image/jpeg:https://halletoakgallery.com/wp-content/uploads/2016/10/14046045_1371549192859811_4741156120691733003_n.jpg
END:VEVENT
BEGIN:VEVENT
DTSTART;TZID=America/Chicago:20250122T120000
DTEND;TZID=America/Chicago:20250122T160000
DTSTAMP:20260423T180549
CREATED:20250122T231514Z
LAST-MODIFIED:20250122T231805Z
UID:10004229-1737547200-1737561600@halletoakgallery.com
SUMMARY:Last Saturday Open House!
DESCRIPTION:Join us to see and enjoy artworks!
URL:https://halletoakgallery.com/event/last-saturday-open-house-5/
LOCATION:Hallet Oak Gallery
CATEGORIES:Open House
END:VEVENT
BEGIN:VEVENT
DTSTART;TZID=America/Chicago:20250122T080000
DTEND;TZID=America/Chicago:20250122T170000
DTSTAMP:20260423T180549
CREATED:20250122T224213Z
LAST-MODIFIED:20250122T224213Z
UID:10004221-1737532800-1737565200@halletoakgallery.com
SUMMARY:Last Saturday Open House!
DESCRIPTION:Join us to see the art exhibits and enjoy live music.
URL:https://halletoakgallery.com/event/last-saturday-open-house/
LOCATION:Hallet Oak Gallery
CATEGORIES:Art Center with Exhibit,Open House
END:VEVENT
BEGIN:VEVENT
DTSTART;TZID=America/Chicago:20250111T140000
DTEND;TZID=America/Chicago:20250111T180000
DTSTAMP:20260423T180549
CREATED:20240220T135447Z
LAST-MODIFIED:20240220T135728Z
UID:10003814-1736604000-1736618400@halletoakgallery.com
SUMMARY:Annual Art Auction Fundraiser - A Special Soiree!
DESCRIPTION:Annual Art Auction Fundraiser Soiree. Saturday\, January 11\, 2025 2 pm – 6 pm \n$55 per ticket or $100 per couple. RSVP Required. Leave voice message at 361-217-7030. \nSilent Auction & Live Auction Items may be dropped the day before Soiree from 4 pm to 7 pm – A docent will be there on Friday\, January 10\, 2025 to receive donation items\, such as desired artworks\,  beautiful gift baskets\, and/or unique travel experiences.
URL:https://halletoakgallery.com/event/annual-art-auction-fundraiser-a-special-soiree/
LOCATION:Hallet Oak Gallery
CATEGORIES:Annual Event with Nominal fee
ATTACH;FMTTYPE=image/jpeg:https://halletoakgallery.com/wp-content/uploads/2024/02/4x4_gala_magejpeg_1.jpg
END:VEVENT
BEGIN:VEVENT
DTSTART;TZID=America/Chicago:20250102T120000
DTEND;TZID=America/Chicago:20250102T150000
DTSTAMP:20260423T180549
CREATED:20240129T155617Z
LAST-MODIFIED:20250110T024407Z
UID:10000880-1735819200-1735830000@halletoakgallery.com
SUMMARY:A docent is ready to receive you for tours and art activities!
DESCRIPTION:Free Admission Thurs-Sat 12-3pm
URL:https://halletoakgallery.com/event/a-docent-is-ready-to-receive-you-for-tours-and-art-activities/2025-01-02/
LOCATION:Hallet Oak Gallery
CATEGORIES:Regular Open Hours
ATTACH;FMTTYPE=image/jpeg:https://halletoakgallery.com/wp-content/uploads/2024/01/debbie_halling.jpeg
ORGANIZER;CN="Hallet Oak Gallery":MAILTO:venue@halletoakgallery.com
END:VEVENT
BEGIN:VEVENT
DTSTART;TZID=America/Chicago:20241206T100000
DTEND;TZID=America/Chicago:20241206T120000
DTSTAMP:20260423T180549
CREATED:20241106T175751Z
LAST-MODIFIED:20241106T175751Z
UID:10003821-1733479200-1733486400@halletoakgallery.com
SUMMARY:Private Tour
DESCRIPTION:Private tour for Edna Christian Academy. Contact M. K.
URL:https://halletoakgallery.com/event/private-tour/
LOCATION:Hallet Oak Gallery
ORGANIZER;CN="Hallet Oak Gallery":MAILTO:venue@halletoakgallery.com
END:VEVENT
BEGIN:VEVENT
DTSTART;TZID=America/Chicago:20241104T183000
DTEND;TZID=America/Chicago:20241104T193000
DTSTAMP:20260423T180549
CREATED:20240829T165032Z
LAST-MODIFIED:20240829T174414Z
UID:10003820-1730745000-1730748600@halletoakgallery.com
SUMMARY:Private Booking: Cub Scouts Pack 223 of Hallettsville & Art Activity
DESCRIPTION:Parents and siblings will be present. \nSupplies provided by Gallery. \nGoal:  100 hand-made gifts for two nursing homes to be distributed in December 2024 by Cub Scouts. \nFor more information\, contact: \nChristopher Freytag\, D.C.\, Cub Master\nCub Scouts Pack 223 of Hallettsville \nPh: (361) 798-4300
URL:https://halletoakgallery.com/event/private-booking-cub-scouts/
LOCATION:Hallet Oak Gallery
CATEGORIES:Cub Scouts
ATTACH;FMTTYPE=image/jpeg:https://halletoakgallery.com/wp-content/uploads/2018/08/cubscouts_hallettsville.jpeg
END:VEVENT
BEGIN:VEVENT
DTSTART;TZID=America/Chicago:20241101T120000
DTEND;TZID=America/Chicago:20241101T150000
DTSTAMP:20260423T180549
CREATED:20240131T132102Z
LAST-MODIFIED:20240131T132102Z
UID:10001528-1730462400-1730473200@halletoakgallery.com
SUMMARY:A docent is ready to receive you for tours and art activities!
DESCRIPTION:Free Admission Thurs-Sat 12-3 pm
URL:https://halletoakgallery.com/event/a-docent-is-ready-to-receive-you-for-tours-and-art-activities-2/2024-11-01/
LOCATION:Hallet Oak Gallery
CATEGORIES:Art Center with Exhibit,Regular Open Hours
ATTACH;FMTTYPE=image/jpeg:https://halletoakgallery.com/wp-content/uploads/2024/01/4x4_miekomahi_portrait_IMG_2739.jpg
ORGANIZER;CN="Hallet Oak Gallery":MAILTO:venue@halletoakgallery.com
END:VEVENT
END:VCALENDAR