BEGIN:VCALENDAR
VERSION:2.0
PRODID:-//Hallet Oak Foundation Inc - ECPv6.15.20//NONSGML v1.0//EN
CALSCALE:GREGORIAN
METHOD:PUBLISH
X-ORIGINAL-URL:https://halletoakgallery.com
X-WR-CALDESC:Events for Hallet Oak Foundation Inc
REFRESH-INTERVAL;VALUE=DURATION:PT1H
X-Robots-Tag:noindex
X-PUBLISHED-TTL:PT1H
BEGIN:VTIMEZONE
TZID:UTC
BEGIN:STANDARD
TZOFFSETFROM:+0000
TZOFFSETTO:+0000
TZNAME:UTC
DTSTART:20140101T000000
END:STANDARD
END:VTIMEZONE
BEGIN:VEVENT
DTSTART;TZID=UTC:20151017T093000
DTEND;TZID=UTC:20151017T120000
DTSTAMP:20260424T063601
CREATED:20151018T002959Z
LAST-MODIFIED:20151016T230438Z
UID:10000083-1445074200-1445083200@halletoakgallery.com
SUMMARY:Yvonne Mikulencak Judging Art Competition
DESCRIPTION:Yvonne Mikulencak will be judging art competition for Texas Mushroom Festival\, Madisonville\, TX.  Photos may be taken.
URL:https://halletoakgallery.com/event/yvonne-mikulencak-judging-art-competition/
LOCATION:Hallet Oak Gallery
END:VEVENT
END:VCALENDAR