BEGIN:VCALENDAR
VERSION:2.0
PRODID:-//Hallet Oak Foundation Inc - ECPv6.15.20//NONSGML v1.0//EN
CALSCALE:GREGORIAN
METHOD:PUBLISH
X-ORIGINAL-URL:https://halletoakgallery.com
X-WR-CALDESC:Events for Hallet Oak Foundation Inc
REFRESH-INTERVAL;VALUE=DURATION:PT1H
X-Robots-Tag:noindex
X-PUBLISHED-TTL:PT1H
BEGIN:VTIMEZONE
TZID:UTC
BEGIN:STANDARD
TZOFFSETFROM:+0000
TZOFFSETTO:+0000
TZNAME:UTC
DTSTART:20150101T000000
END:STANDARD
END:VTIMEZONE
BEGIN:VEVENT
DTSTART;TZID=UTC:20161015T190000
DTEND;TZID=UTC:20161015T210000
DTSTAMP:20260424T091754
CREATED:20161010T200429Z
LAST-MODIFIED:20161010T200553Z
UID:10000266-1476558000-1476565200@halletoakgallery.com
SUMMARY:Vic's Saturday Open Mic at the HOG!
DESCRIPTION:Something New\, Something Blue! \nAnnouncing Vic’s Saturday Open Mic at the HOG! \nLoud Rhythm\, Blues\, and Classic Rock \nSaturday\, October 15\, 2016 \n7 PM to 9 PM \nPerforming will be Vic Dyer and Friends \nHallet Oak Gallery welcome’s the first fundraising event featuring live performances: Vic’s Saturday Open Mic at the HOG on October 15\, 2016. Vic Dyer is a local Rhythm/Blues\, Classic Rock Guitar electric guitar instructor and performer. Vic’s Saturday Open Mic at the HOG\, will be open Saturday’s from 7 – 9 PM. Doors open at 6:00 PM. Tickets are $10\, $8 seniors. BYOB. Light snacks provided. Bring a guitar for half-price discount. All proceeds benefit the Hallet Oak Foundation\, a 501 ( c ) (3) non-profit organization DBA Hallet Oak Gallery and Friends of Hallettsville Downtown Revitalization. This event promises to be an evening of learning something new and listening to the blues. The electric guitars will be loud. Vic Dyer will be teaching guitar lessons for beginners and intermediate guitarist during the week. To learn more\, visit halletoakgallery.com or call 361-217-7030. Hallet Oak Gallery is located in the historic Kahn & Stanzel Bldg.\, 115 N. Main Street\, Hallettsville\, TX 77964.
URL:https://halletoakgallery.com/event/vics-saturday-open-mic-at-the-hog/
LOCATION:Hallet Oak Gallery
ATTACH;FMTTYPE=image/jpeg:https://halletoakgallery.com/wp-content/uploads/2016/10/bwsmvic_dyer.jpg
END:VEVENT
END:VCALENDAR