BEGIN:VCALENDAR
VERSION:2.0
PRODID:-//Hallet Oak Foundation Inc - ECPv6.15.20//NONSGML v1.0//EN
CALSCALE:GREGORIAN
METHOD:PUBLISH
X-WR-CALNAME:Hallet Oak Foundation Inc
X-ORIGINAL-URL:https://halletoakgallery.com
X-WR-CALDESC:Events for Hallet Oak Foundation Inc
REFRESH-INTERVAL;VALUE=DURATION:PT1H
X-Robots-Tag:noindex
X-PUBLISHED-TTL:PT1H
BEGIN:VTIMEZONE
TZID:UTC
BEGIN:STANDARD
TZOFFSETFROM:+0000
TZOFFSETTO:+0000
TZNAME:UTC
DTSTART:20140101T000000
END:STANDARD
END:VTIMEZONE
BEGIN:VEVENT
DTSTART;TZID=UTC:20150801T090000
DTEND;TZID=UTC:20150801T120000
DTSTAMP:20260424T105643
CREATED:20150801T172825Z
LAST-MODIFIED:20150801T172825Z
UID:10000045-1438419600-1438430400@halletoakgallery.com
SUMMARY:HOG Open on the Square
DESCRIPTION:Hallet Oak Gallery open on the Square.  Doors are open from 9 to 12 for an artist gathering!
URL:https://halletoakgallery.com/event/hog-open-on-the-square/
LOCATION:Hallet Oak Gallery
ORGANIZER;CN="Unnamed Organizer":MAILTO:info@halletoakgallery.com
END:VEVENT
END:VCALENDAR