BEGIN:VCALENDAR
VERSION:2.0
PRODID:-//Hallet Oak Foundation Inc - ECPv6.15.20//NONSGML v1.0//EN
CALSCALE:GREGORIAN
METHOD:PUBLISH
X-WR-CALNAME:Hallet Oak Foundation Inc
X-ORIGINAL-URL:https://halletoakgallery.com
X-WR-CALDESC:Events for Hallet Oak Foundation Inc
REFRESH-INTERVAL;VALUE=DURATION:PT1H
X-Robots-Tag:noindex
X-PUBLISHED-TTL:PT1H
BEGIN:VTIMEZONE
TZID:UTC
BEGIN:STANDARD
TZOFFSETFROM:+0000
TZOFFSETTO:+0000
TZNAME:UTC
DTSTART:20140101T000000
END:STANDARD
END:VTIMEZONE
BEGIN:VEVENT
DTSTART;TZID=UTC:20170819T180000
DTEND;TZID=UTC:20170819T200000
DTSTAMP:20260424T045922
CREATED:20170801T031222Z
LAST-MODIFIED:20170818T162224Z
UID:10000323-1503165600-1503172800@halletoakgallery.com
SUMMARY:Texas A&M AgriLife Extension progam - How to Interview
DESCRIPTION:Contact Gayle Bludau for details and RSVP. 361-798-2221 \nProgram for preparing teens for job and college interviews. 6 pm to 7 pm  Teen actors \nDinner will be at a restaurant from 7 to 8 pm. \nWe are going to evaluate UTUBE videos! Get ready to laugh and learn what not to do!
URL:https://halletoakgallery.com/event/texas-am-agrilife-extension-progam/
ATTACH;FMTTYPE=image/jpeg:https://halletoakgallery.com/wp-content/uploads/2015/04/IMG_0531-e1430369423237.jpg
END:VEVENT
BEGIN:VEVENT
DTSTART;TZID=UTC:20150812T090000
DTEND;TZID=UTC:20150812T120000
DTSTAMP:20260424T045922
CREATED:20150807T202543Z
LAST-MODIFIED:20150807T203021Z
UID:10000046-1439370000-1439380800@halletoakgallery.com
SUMMARY:4 H Event: Intermediate Photography Camp
DESCRIPTION:This is the last portion of the June camp. Contact Gayle Bludau\, 4-H Coordinator\, at 361-798-2221 to register for Intermediate Photography Camp in a 1893 historical building downtown Hallettsville!  Mieko Mahi\, freelance petroleum photographer\, is teaching this class.  One parent or adult required for students under 12 years of age. Manual operated camera with tripod suggested\, yet not mandatory\, iPhone or i pad is acceptable. \nhttp://lavaca.agrilife.org/
URL:https://halletoakgallery.com/event/4-h-intermediate-photography/
LOCATION:Hallet Oak Gallery
END:VEVENT
BEGIN:VEVENT
DTSTART;TZID=UTC:20150618T090000
DTEND;TZID=UTC:20150620T150000
DTSTAMP:20260424T045922
CREATED:20150515T203145Z
LAST-MODIFIED:20150602T045023Z
UID:10000037-1434618000-1434812400@halletoakgallery.com
SUMMARY:4 H Event: Intermediate Photography Camp
DESCRIPTION:Contact Gayle Bludau\, 4-H Coordinator\, at 361-798-2221 to register for Intermediate Photography Camp in a 1893 historical building downtown Hallettsville!  Mieko Mahi\, freelance petroleum photographer will teach this three day photography course.  One parent or adult required for students under 12 years of age. Manual operated camera with tripod suggested\, yet not mandatory\, iPhone or i pad is acceptable.  Location photography tours and lunch will be served.
URL:https://halletoakgallery.com/event/4-h-event-intermediate-photography-camp/
LOCATION:Hallet Oak Gallery
END:VEVENT
BEGIN:VEVENT
DTSTART;TZID=UTC:20150606T190000
DTEND;TZID=UTC:20150606T230000
DTSTAMP:20260424T045922
CREATED:20150514T054203Z
LAST-MODIFIED:20150602T043746Z
UID:10000036-1433617200-1433631600@halletoakgallery.com
SUMMARY:4 H Event: Night Photography Class
DESCRIPTION:Contact Gayle Bludau\, 4-H Coordinator\, at 361-798-2221 to register for this first time night photography class in a 1893 historical building downtown Hallettsivlle!  Mieko Mahi\, freelance petroleum photographer will teach night photography.  One parent or adult required for students under 12 years of age. Manual operated camera with tripod suggested\, yet not mandatory\, iPhone or ipad is acceptable.   Pizza will be served and movie will be shown.
URL:https://halletoakgallery.com/event/4-h-event-night-photography-class/
LOCATION:Hallet Oak Gallery
END:VEVENT
END:VCALENDAR