BEGIN:VCALENDAR
VERSION:2.0
PRODID:-//Hallet Oak Foundation Inc - ECPv6.15.20//NONSGML v1.0//EN
CALSCALE:GREGORIAN
METHOD:PUBLISH
X-ORIGINAL-URL:https://halletoakgallery.com
X-WR-CALDESC:Events for Hallet Oak Foundation Inc
REFRESH-INTERVAL;VALUE=DURATION:PT1H
X-Robots-Tag:noindex
X-PUBLISHED-TTL:PT1H
BEGIN:VTIMEZONE
TZID:UTC
BEGIN:STANDARD
TZOFFSETFROM:+0000
TZOFFSETTO:+0000
TZNAME:UTC
DTSTART:20140101T000000
END:STANDARD
END:VTIMEZONE
BEGIN:VEVENT
DTSTART;TZID=UTC:20151110T180000
DTEND;TZID=UTC:20151110T210000
DTSTAMP:20260424T033803
CREATED:20151026T210534Z
LAST-MODIFIED:20151026T210534Z
UID:10000087-1447178400-1447189200@halletoakgallery.com
SUMMARY:Ongoing "Come & Go" Painting Class by Michael Windberg! Any medium\, any level.
DESCRIPTION:Michael Windberg\, classical realism oil painter\, presents “Come and Go Oil Painting Class” every Tuesday evening from 6:00 PM to 9:00 PM.\nThis class offers a unique opportunity to learn\, study\, and work on the painting projects you have started or would like to begin at any level. \nPlease register in advance by contacting Michael Windberg directly at 361-649-2833\, or email Michael at mnwindberg@gmail.com \nMichael Windberg has been teaching classes and workshops for the last decade and has assisted his father\, Dalhart Windberg for twenty-five years.\nAll classes are taught in the medium of Oil and in the traditional techniques of representational art with emphases on composition\, values\, and techniques. All opaque mediums\, wet\, or dry\, are welcome. \n“I encourage painters of all levels to join us. All you will need is the desire to expand your knowledge.” – Michael Windberg
URL:https://halletoakgallery.com/event/ongoing-come-go-painting-class-by-michael-windberg-any-medium-any-level/
LOCATION:Hallet Oak Gallery
ATTACH;FMTTYPE=image/jpeg:https://halletoakgallery.com/wp-content/uploads/2015/10/3x4smIMG_2891.jpg
ORGANIZER;CN="Michael Windberg - Artist":MAILTO:mnwindberg@gmail.com
END:VEVENT
BEGIN:VEVENT
DTSTART;TZID=UTC:20151103T180000
DTEND;TZID=UTC:20151103T210000
DTSTAMP:20260424T033803
CREATED:20151026T205744Z
LAST-MODIFIED:20151026T205744Z
UID:10000086-1446573600-1446584400@halletoakgallery.com
SUMMARY:Ongoing "Come & Go" Painting Class by Michael Windberg\, every Tuesday evening!
DESCRIPTION:Michael Windberg\, classical realism oil painter\, presents “Come and Go Oil Painting Class” every Tuesday evening from 6:00 PM to 9:00 PM.\nThis class offers a unique opportunity to learn\, study\, and work on the painting projects you have started or would like to begin at any level. \nPlease register in advance by contacting Michael Windberg directly at 361-649-2833\, or email Michael at mnwindberg@gmail.com \nMichael Windberg has been teaching classes and workshops for the last decade and has assisted his father\, Dalhart Windberg for twenty-five years.\nAll classes are taught in the medium of Oil and in the traditional techniques of representational art with emphases on composition\, values\, and techniques. All opaque mediums\, wet\, or dry\, are welcome. \n“I encourage painters of all levels to join us. All you will need is the desire to expand your knowledge.” – Michael Windberg
URL:https://halletoakgallery.com/event/ongoing-come-go-painting-class-by-michael-windberg-every-tuesday-evening/
LOCATION:Hallet Oak Gallery
ATTACH;FMTTYPE=image/jpeg:https://halletoakgallery.com/wp-content/uploads/2015/10/3x4smIMG_2758.jpg
ORGANIZER;CN="Michael Windberg - Artist":MAILTO:mnwindberg@gmail.com
END:VEVENT
BEGIN:VEVENT
DTSTART;TZID=UTC:20151027T180000
DTEND;TZID=UTC:20151027T210000
DTSTAMP:20260424T033803
CREATED:20150807T223641Z
LAST-MODIFIED:20150807T223641Z
UID:10000058-1445968800-1445979600@halletoakgallery.com
SUMMARY:Come & Go Painting Class by Michael Windberg
DESCRIPTION:Michael Windberg\, classical realism oil painter\, presents “Come and Go Oil Painting Class” every Tuesday evening from 6:00 PM to 9:00 PM.\nThis class offers a unique opportunity to learn\, study\, and work on the painting projects you have started or would like to begin at any level. \nPlease register in advance by contacting Michael Windberg directly at 361-649-2833\, or email Michael at mnwindberg@gmail.com \nMichael Windberg has been teaching classes and workshops for the last decade and has assisted his father\, Dalhart Windberg for twenty-five years.\nAll classes are taught in the medium of Oil and in the traditional techniques of representational art with emphases on composition\, values\, and techniques. All opaque mediums\, wet\, or dry\, are welcome.   \n“I encourage painters of all levels to join us.  All you will need is the desire to expand your knowledge.” – Michael Windberg
URL:https://halletoakgallery.com/event/come-go-painting-class-by-michael-windberg-3/
LOCATION:Hallet Oak Gallery
ORGANIZER;CN="Michael Windberg - Artist":MAILTO:mnwindberg@gmail.com
END:VEVENT
BEGIN:VEVENT
DTSTART;TZID=UTC:20151020T180000
DTEND;TZID=UTC:20151020T210000
DTSTAMP:20260424T033803
CREATED:20150807T223535Z
LAST-MODIFIED:20150807T223535Z
UID:10000056-1445364000-1445374800@halletoakgallery.com
SUMMARY:Come & Go Painting Class by Michael Windberg
DESCRIPTION:Michael Windberg\, classical realism oil painter\, presents “Come and Go Oil Painting Class” every Tuesday evening from 6:00 PM to 9:00 PM.\nThis class offers a unique opportunity to learn\, study\, and work on the painting projects you have started or would like to begin at any level. \nPlease register in advance by contacting Michael Windberg directly at 361-649-2833\, or email Michael at mnwindberg@gmail.com \nMichael Windberg has been teaching classes and workshops for the last decade and has assisted his father\, Dalhart Windberg for twenty-five years.\nAll classes are taught in the medium of Oil and in the traditional techniques of representational art with emphases on composition\, values\, and techniques. All opaque mediums\, wet\, or dry\, are welcome.   \n“I encourage painters of all levels to join us.  All you will need is the desire to expand your knowledge.” – Michael Windberg
URL:https://halletoakgallery.com/event/come-go-painting-class-by-michael-windberg-2/
LOCATION:Hallet Oak Gallery
ORGANIZER;CN="Michael Windberg - Artist":MAILTO:mnwindberg@gmail.com
END:VEVENT
BEGIN:VEVENT
DTSTART;TZID=UTC:20151013T180000
DTEND;TZID=UTC:20151013T210000
DTSTAMP:20260424T033803
CREATED:20150807T225918Z
LAST-MODIFIED:20151014T003336Z
UID:10000060-1444759200-1444770000@halletoakgallery.com
SUMMARY:Canceled Tonight Only: Come and Go Painting by Michael Windberg
DESCRIPTION:Michael Windberg\, classical realism oil painter\, presents “Come and Go Oil Painting Class” every Tuesday evening from 6:00 PM to 9:00 PM.\nThis class offers a unique opportunity to learn\, study\, and work on the painting projects you have started or would like to begin at any level. \nPlease register in advance by contacting Michael Windberg directly at 361-649-2833\, or email Michael at mnwindberg@gmail.com \nMichael Windberg has been teaching classes and workshops for the last decade and has assisted his father\, Dalhart Windberg for twenty-five years.\nAll classes are taught in the medium of Oil and in the traditional techniques of representational art with emphases on composition\, values\, and techniques. All opaque mediums\, wet\, or dry\, are welcome. \n“I encourage painters of all levels to join us. All you will need is the desire to expand your knowledge.” – Michael Windberg
URL:https://halletoakgallery.com/event/come-and-go-painting-by-michael-windberg/
LOCATION:Hallet Oak Gallery
ORGANIZER;CN="Michael Windberg - Artist":MAILTO:mnwindberg@gmail.com
END:VEVENT
BEGIN:VEVENT
DTSTART;TZID=UTC:20150915T180000
DTEND;TZID=UTC:20150915T210000
DTSTAMP:20260424T033803
CREATED:20150807T215311Z
LAST-MODIFIED:20150807T215748Z
UID:10000049-1442340000-1442350800@halletoakgallery.com
SUMMARY:Intro to Oil Painting by Michael Windberg
DESCRIPTION:Michael Windberg\, classical realism oil painter\, will teach an introductory class to oil painting. This Introduction Workshop will be for four consecutive Tuesdays from 6:00 pm to 9:00 pm.\nStarting on Tuesday\, Sept. 1st through Sept. 29th\, 2015.  Cost is $30 per class. Please register in advance by contacting Michael Windberg directly at 361–649-2833\, or email Michael at mnwindberg@gmail.com \nMichael Windberg has been teaching classes and workshops for the last decade and has assisted his father\, Dalhart Windberg for twenty-five years.\nAll classes are taught in the medium of Oil and in the traditional techniques of representational art with emphases on composition\, values\, and techniques. All opaque mediums\, wet\, or dry\, are welcome.   \n“I encourage painters of all levels to join us.  All you will need is the desire to expand your knowledge.” – Michael Windberg
URL:https://halletoakgallery.com/event/intro-to-oil-painting-by-michael-windberg-2/
LOCATION:Hallet Oak Gallery
ORGANIZER;CN="Michael Windberg - Artist":MAILTO:mnwindberg@gmail.com
END:VEVENT
BEGIN:VEVENT
DTSTART;TZID=UTC:20150908T180000
DTEND;TZID=UTC:20150908T210000
DTSTAMP:20260424T033803
CREATED:20150807T214407Z
LAST-MODIFIED:20150825T194731Z
UID:10000048-1441735200-1441746000@halletoakgallery.com
SUMMARY:Intro to Oil Painting by Michael Windberg
DESCRIPTION:Michael Windberg\, classical realism oil painter\, will teach an introductory class to oil painting. This Introduction Workshop will be for four consecutive Tuesdays from 6:00 pm to 9:00 pm.\nStarting on Tuesday\, September 1st\, 2015.  Cost is $30 per class. Please register in advance by contacting Michael Windberg directly at 361–649-2833\, or email Michael at mnwindberg@gmail.com \nMichael Windberg has been teaching classes and workshops for the last decade and has assisted his father\, Dalhart Windberg for twenty-five years.\nAll classes are taught in the medium of Oil and in the tradional techniques of representational art with emphases on composition\, values\, and techniques. All opaque mediums\, wet\, or dry\, are welcome.   \n“I encourage painters of all levels to join us.  All you will need is the desire to expand your knowledge.” – Michael Windberg
URL:https://halletoakgallery.com/event/intro-to-oil-painting-by-michael-windberg/
LOCATION:Hallet Oak Gallery
ORGANIZER;CN="Michael Windberg - Artist":MAILTO:mnwindberg@gmail.com
END:VEVENT
BEGIN:VEVENT
DTSTART;TZID=UTC:20150901T180000
DTEND;TZID=UTC:20150901T210000
DTSTAMP:20260424T033803
CREATED:20150807T214045Z
LAST-MODIFIED:20150825T193833Z
UID:10000047-1441130400-1441141200@halletoakgallery.com
SUMMARY:Intro to Oil Painting by Michael Windberg
DESCRIPTION:Michael Windberg\, classical realism oil painter\, will teach an introductory class to oil painting. This Introduction Workshop will be for four consecutive Tuesdays from 6:00 pm to 9:00 pm.\nStarting on Tuesday\, September 1st\, 2015.  Cost is $30 per class. Please register in advance by contacting Michael Windberg directly at 361–649-2833\, or email Michael at mrwindberg@gmail.com \nMichael Windberg has been teaching classes and workshops for the last decade and has assisted his father\, Dalhart Windberg for twenty-five years.\nAll classes are taught in the medium of Oil and in the traditional techniques of representational art with emphases on composition\, values\, and techniques. All opaque mediums\, wet\, or dry\, are welcome.   \n“I encourage painters of all levels to join us.  All you will need is the desire to expand your knowledge.” – Michael Windberg
URL:https://halletoakgallery.com/event/intro-to-oil-painting-a-workshop-by-michael-windberg/
LOCATION:Hallet Oak Gallery
ATTACH;FMTTYPE=image/jpeg:https://halletoakgallery.com/wp-content/uploads/2015/08/2x2mw.jpg
ORGANIZER;CN="Michael Windberg - Artist":MAILTO:mnwindberg@gmail.com
END:VEVENT
END:VCALENDAR