BEGIN:VCALENDAR
VERSION:2.0
PRODID:-//Hallet Oak Foundation Inc - ECPv6.15.20//NONSGML v1.0//EN
CALSCALE:GREGORIAN
METHOD:PUBLISH
X-WR-CALNAME:Hallet Oak Foundation Inc
X-ORIGINAL-URL:https://halletoakgallery.com
X-WR-CALDESC:Events for Hallet Oak Foundation Inc
REFRESH-INTERVAL;VALUE=DURATION:PT1H
X-Robots-Tag:noindex
X-PUBLISHED-TTL:PT1H
BEGIN:VTIMEZONE
TZID:America/Chicago
BEGIN:DAYLIGHT
TZOFFSETFROM:-0600
TZOFFSETTO:-0500
TZNAME:CDT
DTSTART:20240310T080000
END:DAYLIGHT
BEGIN:STANDARD
TZOFFSETFROM:-0500
TZOFFSETTO:-0600
TZNAME:CST
DTSTART:20241103T070000
END:STANDARD
BEGIN:DAYLIGHT
TZOFFSETFROM:-0600
TZOFFSETTO:-0500
TZNAME:CDT
DTSTART:20250309T080000
END:DAYLIGHT
BEGIN:STANDARD
TZOFFSETFROM:-0500
TZOFFSETTO:-0600
TZNAME:CST
DTSTART:20251102T070000
END:STANDARD
BEGIN:DAYLIGHT
TZOFFSETFROM:-0600
TZOFFSETTO:-0500
TZNAME:CDT
DTSTART:20260308T080000
END:DAYLIGHT
BEGIN:STANDARD
TZOFFSETFROM:-0500
TZOFFSETTO:-0600
TZNAME:CST
DTSTART:20261101T070000
END:STANDARD
BEGIN:DAYLIGHT
TZOFFSETFROM:-0600
TZOFFSETTO:-0500
TZNAME:CDT
DTSTART:20270314T080000
END:DAYLIGHT
BEGIN:STANDARD
TZOFFSETFROM:-0500
TZOFFSETTO:-0600
TZNAME:CST
DTSTART:20271107T070000
END:STANDARD
END:VTIMEZONE
BEGIN:VEVENT
DTSTART;TZID=America/Chicago:20260321T093000
DTEND;TZID=America/Chicago:20260321T113000
DTSTAMP:20260423T161618
CREATED:20260204T194822Z
LAST-MODIFIED:20260204T195750Z
UID:10004422-1774085400-1774092600@halletoakgallery.com
SUMMARY:Private Booking\,  M.T.
DESCRIPTION:Contact Marilyn Thibodeaux\, Lavaca County Democratic Party\,  for more information about this convention.
URL:https://halletoakgallery.com/event/private-booking-m-t/
LOCATION:Private Party
END:VEVENT
BEGIN:VEVENT
DTSTART;TZID=America/Chicago:20251022T180000
DTEND;TZID=America/Chicago:20251022T200000
DTSTAMP:20260423T161618
CREATED:20251017T195150Z
LAST-MODIFIED:20251017T195157Z
UID:10004415-1761156000-1761163200@halletoakgallery.com
SUMMARY:Private Booking: L.C.D.
DESCRIPTION:For more information contact: Marilyn Thibodeaux 361-772-8876
URL:https://halletoakgallery.com/event/private-booking-l-c-d-2/
LOCATION:Hallet Oak Gallery
END:VEVENT
BEGIN:VEVENT
DTSTART;TZID=America/Chicago:20250423T160000
DTEND;TZID=America/Chicago:20250423T190000
DTSTAMP:20260423T161618
CREATED:20250419T012214Z
LAST-MODIFIED:20250419T012315Z
UID:10004338-1745424000-1745434800@halletoakgallery.com
SUMMARY:Private Booking: L.C.D.
DESCRIPTION:For more information contact: Marilyn Thibodeaux 361-772-8876
URL:https://halletoakgallery.com/event/private-booking-l-c-d/
LOCATION:Hallet Oak Gallery
END:VEVENT
END:VCALENDAR