BEGIN:VCALENDAR
VERSION:2.0
PRODID:-//Hallet Oak Foundation Inc - ECPv6.15.20//NONSGML v1.0//EN
CALSCALE:GREGORIAN
METHOD:PUBLISH
X-ORIGINAL-URL:https://halletoakgallery.com
X-WR-CALDESC:Events for Hallet Oak Foundation Inc
REFRESH-INTERVAL;VALUE=DURATION:PT1H
X-Robots-Tag:noindex
X-PUBLISHED-TTL:PT1H
BEGIN:VTIMEZONE
TZID:UTC
BEGIN:STANDARD
TZOFFSETFROM:+0000
TZOFFSETTO:+0000
TZNAME:UTC
DTSTART:20140101T000000
END:STANDARD
END:VTIMEZONE
BEGIN:VEVENT
DTSTART;TZID=UTC:20151219T140000
DTEND;TZID=UTC:20151219T180000
DTSTAMP:20260424T020114
CREATED:20151027T004217Z
LAST-MODIFIED:20151201T062709Z
UID:10000093-1450533600-1450548000@halletoakgallery.com
SUMMARY:Spotlight on Blanche & Roy Cavarretta\, Gourd Art on Display. Majek Vineyard & Winery wine-tasting at the HOG!
DESCRIPTION:Spotlight on the Arts:  Blanche & Roy Cavarretta–Gourd Artists\nWine Tasting–Majek Vineyard and Winery’s top wines\nEvery Saturday in December 2-6 PM\nRoy and Blanche Cavarretta at the Hallet Oak Gallery.\nThe Hallet Oak Gallery\, Center for the Arts\, will feature Spotlight on the Arts and Wine Tastings every Saturday from 2:00 – 6:00 PM. The Spotlight will focus on individual artists\, public organizations\, and musicians and will be accompanied by wine tasting and food samples of Czech\, Polish and German heritage.  Proceeds from the tastings help support the Gallery and art in Hallettsville. \nThe December Spotlight will be on Blanche and Roy Cavarretta\, whose gourd art will be on display.  Majek Vineyard and Winery will be serving their top wines. \nKnown for his pen and ink landmark drawings and intricate gourd art\, Roy Cavarretta is Lavaca County’s most cherished artist.  His work has been featured in Texas Monthly\, Texas Highways\, Southwest Art\, Texas Farm & Home\, and Western Art & Architecture. Roy lives in Lavaca County and shares a studio with his wife\, Blanche\, an artist as well.  They tour together to showcase their art. \nThe Cavarrettas will be in the Gallery Saturday\, December 12\, to visit with the public.  Support the arts and local vineyard by enjoying a wine-tasting and purchasing a bottle of your favorite.  View the Cavarrettas’ work as well as the Christmas tree decorated by local student artists.   \nSpotlight on the Artist Display & Wine Tasting \nSaturday Dec 5   2:00 pm to 6 pm\nSaturday\, Dec 12 2:00 pm to 6 pm Greet the Cavarrettas\nSaturday\, Dec 19 2:00 pm to 6 pm \nThe Hallet Oak Gallery is located at 115 N. Main St. on the Square in Hallettsville in the historic Kahn and Stanzel Building designed by famed architect James Reily Gordon.  The Gallery seeks to enhance art appreciation for the community as a whole—from grade school students to senior citizens—and to introduce visitors to Hallettsville to the talents and flavors of this region. Tours and visits are free.  Donations are welcomed.\nLois Weiss – Contributing Writer for the Arts –
URL:https://halletoakgallery.com/event/majek-vineyard-winery-wine-tasting-at-the-hog-2/
LOCATION:Hallet Oak Gallery
ATTACH;FMTTYPE=image/jpeg:https://halletoakgallery.com/wp-content/uploads/2015/10/Majek_logo_large.jpg
END:VEVENT
BEGIN:VEVENT
DTSTART;TZID=UTC:20151212T140000
DTEND;TZID=UTC:20151212T180000
DTSTAMP:20260424T020114
CREATED:20151027T004818Z
LAST-MODIFIED:20151201T062615Z
UID:10000094-1449928800-1449943200@halletoakgallery.com
SUMMARY:Spot Light on Blanche and Roy Cavarretta\, Gourd Artist - Meet in Person. Majek Vineyard & Winery wine-tasting at the HOG!
DESCRIPTION:Spotlight on the Arts:  Blanche & Roy Cavarretta–Gourd Artists\nWine Tasting–Majek Vineyard and Winery’s top wines\nEvery Saturday in December 2-6 PM   \nThe Hallet Oak Gallery\, Center for the Arts\, will feature Spotlight on the Arts and Wine Tastings every Saturday from 2:00 – 6:00 PM. The Spotlight will focus on individual artists\, public organizations\, and musicians and will be accompanied by wine tasting and food samples of Czech\, Polish and German heritage.  Proceeds from the tastings help support the Gallery and art in Hallettsville. \nThe December Spotlight will be on Blanche and Roy Cavarretta\, whose gourd art will be on display.  Majek Vineyard and Winery will be serving their top wines. \nKnown for his pen and ink landmark drawings and intricate gourd art\, Roy Cavarretta is Lavaca County’s most cherished artist.  His work has been featured in Texas Monthly\, Texas Highways\, Southwest Art\, Texas Farm & Home\, and Western Art & Architecture. Roy lives in Lavaca County and shares a studio with his wife\, Blanche\, an artist as well.  They tour together to showcase their art. \nThe Cavarrettas will be in the Gallery Saturday\, December 12\, to visit with the public.  Support the arts and local vineyard by enjoying a wine-tasting and purchasing a bottle of your favorite.  View the Cavarrettas’ work as well as the Christmas tree decorated by local student artists.   \nSpotlight on the Artist Display & Wine Tasting \nSaturday Dec 5   2:00 pm to 6 pm\nSaturday\, Dec 12 2:00 pm to 6 pm Greet the Cavarrettas\nSaturday\, Dec 19 2:00 pm to 6 pm \nThe Hallet Oak Gallery is located at 115 N. Main St. on the Square in Hallettsville in the historic Kahn and Stanzel Building designed by famed architect James Reily Gordon.  The Gallery seeks to enhance art appreciation for the community as a whole—from grade school students to senior citizens—and to introduce visitors to Hallettsville to the talents and flavors of this region. Tours and visits are free.  Donations are welcomed.\nLois Weiss – Contributing Writer for the Arts –
URL:https://halletoakgallery.com/event/majek-vineyard-winery-wine-tasting-at-the-hog-3/
LOCATION:Hallet Oak Gallery
ATTACH;FMTTYPE=image/jpeg:https://halletoakgallery.com/wp-content/uploads/2015/10/Majek_logo_large.jpg
END:VEVENT
BEGIN:VEVENT
DTSTART;TZID=UTC:20151205T140000
DTEND;TZID=UTC:20151205T180000
DTSTAMP:20260424T020114
CREATED:20151027T003944Z
LAST-MODIFIED:20151201T062351Z
UID:10000092-1449324000-1449338400@halletoakgallery.com
SUMMARY:Spotlight on Blanche & Roy Cavarretta\, Gourd Art on Display. Majek Vineyard & Winery wine-tasting at the HOG!
DESCRIPTION:Spotlight on the Arts:  Blanche & Roy Cavarretta–Gourd Artists\nWine Tasting–Majek Vineyard and Winery’s top wines\nEvery Saturday in December 2-6 PM\nRoy and Blanche Cavarretta at the Hallet Oak Gallery.\nThe Hallet Oak Gallery\, Center for the Arts\, will feature Spotlight on the Arts and Wine Tastings every Saturday from 2:00 – 6:00 PM. The Spotlight will focus on individual artists\, public organizations\, and musicians and will be accompanied by wine tasting and food samples of Czech\, Polish and German heritage.  Proceeds from the tastings help support the Gallery and art in Hallettsville. \nThe December Spotlight will be on Blanche and Roy Cavarretta\, whose gourd art will be on display.  Majek Vineyard and Winery will be serving their top wines. \nKnown for his pen and ink landmark drawings and intricate gourd art\, Roy Cavarretta is Lavaca County’s most cherished artist.  His work has been featured in Texas Monthly\, Texas Highways\, Southwest Art\, Texas Farm & Home\, and Western Art & Architecture. Roy lives in Lavaca County and shares a studio with his wife\, Blanche\, an artist as well.  They tour together to showcase their art. \nThe Cavarrettas will be in the Gallery Saturday\, December 12\, to visit with the public.  Support the arts and local vineyard by enjoying a wine-tasting and purchasing a bottle of your favorite.  View the Cavarrettas’ work as well as the Christmas tree decorated by local student artists.   \nSpotlight on the Artist Display & Wine Tasting \nSaturday Dec 5   2:00 pm to 6 pm\nSaturday\, Dec 12 2:00 pm to 6 pm Greet the Cavarrettas\nSaturday\, Dec 19 2:00 pm to 6 pm \nThe Hallet Oak Gallery is located at 115 N. Main St. on the Square in Hallettsville in the historic Kahn and Stanzel Building designed by famed architect James Reily Gordon.  The Gallery seeks to enhance art appreciation for the community as a whole—from grade school students to senior citizens—and to introduce visitors to Hallettsville to the talents and flavors of this region. Tours and visits are free.  Donations are welcomed.\nLois Weiss – Contributing Writer for the Arts – \nMerry Christmas\, and Happy New Year!
URL:https://halletoakgallery.com/event/majek-vineyard-winery-wine-tasting-at-the-hog/
LOCATION:Hallet Oak Gallery
ATTACH;FMTTYPE=image/jpeg:https://halletoakgallery.com/wp-content/uploads/2015/10/sm3x4Wine-Bottles.jpg
END:VEVENT
END:VCALENDAR