BEGIN:VCALENDAR
VERSION:2.0
PRODID:-//Hallet Oak Foundation Inc - ECPv6.15.20//NONSGML v1.0//EN
CALSCALE:GREGORIAN
METHOD:PUBLISH
X-WR-CALNAME:Hallet Oak Foundation Inc
X-ORIGINAL-URL:https://halletoakgallery.com
X-WR-CALDESC:Events for Hallet Oak Foundation Inc
REFRESH-INTERVAL;VALUE=DURATION:PT1H
X-Robots-Tag:noindex
X-PUBLISHED-TTL:PT1H
BEGIN:VTIMEZONE
TZID:America/Chicago
BEGIN:DAYLIGHT
TZOFFSETFROM:-0600
TZOFFSETTO:-0500
TZNAME:CDT
DTSTART:20200308T080000
END:DAYLIGHT
BEGIN:STANDARD
TZOFFSETFROM:-0500
TZOFFSETTO:-0600
TZNAME:CST
DTSTART:20201101T070000
END:STANDARD
BEGIN:DAYLIGHT
TZOFFSETFROM:-0600
TZOFFSETTO:-0500
TZNAME:CDT
DTSTART:20210314T080000
END:DAYLIGHT
BEGIN:STANDARD
TZOFFSETFROM:-0500
TZOFFSETTO:-0600
TZNAME:CST
DTSTART:20211107T070000
END:STANDARD
BEGIN:DAYLIGHT
TZOFFSETFROM:-0600
TZOFFSETTO:-0500
TZNAME:CDT
DTSTART:20220313T080000
END:DAYLIGHT
BEGIN:STANDARD
TZOFFSETFROM:-0500
TZOFFSETTO:-0600
TZNAME:CST
DTSTART:20221106T070000
END:STANDARD
BEGIN:DAYLIGHT
TZOFFSETFROM:-0600
TZOFFSETTO:-0500
TZNAME:CDT
DTSTART:20230312T080000
END:DAYLIGHT
BEGIN:STANDARD
TZOFFSETFROM:-0500
TZOFFSETTO:-0600
TZNAME:CST
DTSTART:20231105T070000
END:STANDARD
BEGIN:DAYLIGHT
TZOFFSETFROM:-0600
TZOFFSETTO:-0500
TZNAME:CDT
DTSTART:20240310T080000
END:DAYLIGHT
BEGIN:STANDARD
TZOFFSETFROM:-0500
TZOFFSETTO:-0600
TZNAME:CST
DTSTART:20241103T070000
END:STANDARD
BEGIN:DAYLIGHT
TZOFFSETFROM:-0600
TZOFFSETTO:-0500
TZNAME:CDT
DTSTART:20250309T080000
END:DAYLIGHT
BEGIN:STANDARD
TZOFFSETFROM:-0500
TZOFFSETTO:-0600
TZNAME:CST
DTSTART:20251102T070000
END:STANDARD
BEGIN:DAYLIGHT
TZOFFSETFROM:-0600
TZOFFSETTO:-0500
TZNAME:CDT
DTSTART:20260308T080000
END:DAYLIGHT
BEGIN:STANDARD
TZOFFSETFROM:-0500
TZOFFSETTO:-0600
TZNAME:CST
DTSTART:20261101T070000
END:STANDARD
END:VTIMEZONE
BEGIN:VEVENT
DTSTART;TZID=America/Chicago:20250518T150000
DTEND;TZID=America/Chicago:20250518T170000
DTSTAMP:20260423T232127
CREATED:20250319T191810Z
LAST-MODIFIED:20250319T191810Z
UID:10004331-1747580400-1747587600@halletoakgallery.com
SUMMARY:League of Women Voters South Central Texas Annual Meeting  - Private Booking
DESCRIPTION:League of Women Voters South Central Texas Annual Meeting  May 18\,2025\, 3pm to 5pm .For more information contact Janis Richardson janis@janisrichardson.com.
URL:https://halletoakgallery.com/event/league-of-women-voters-south-central-texas-annual-meeting-private-booking/
LOCATION:Hallet Oak Gallery
ATTACH;FMTTYPE=image/png:https://halletoakgallery.com/wp-content/uploads/2024/07/LWVSCentralTXrgb.png
END:VEVENT
BEGIN:VEVENT
DTSTART;TZID=America/Chicago:20240915T140000
DTEND;TZID=America/Chicago:20240915T170000
DTSTAMP:20260423T232127
CREATED:20240728T181136Z
LAST-MODIFIED:20240808T223617Z
UID:10003818-1726408800-1726419600@halletoakgallery.com
SUMMARY:Private Booking: League of Women Voters South Central Texas
DESCRIPTION:For more information contact Janis Richardson\, Hallettsville.
URL:https://halletoakgallery.com/event/private-booking-league-of-women-voters-south-central-texas/
LOCATION:Hallet Oak Gallery
ATTACH;FMTTYPE=image/png:https://halletoakgallery.com/wp-content/uploads/2024/07/LWVSCentralTXrgb.png
END:VEVENT
BEGIN:VEVENT
DTSTART;TZID=America/Chicago:20230521T130000
DTEND;TZID=America/Chicago:20230521T170000
DTSTAMP:20260423T232127
CREATED:20230416T202838Z
LAST-MODIFIED:20230416T203008Z
UID:10000724-1684674000-1684688400@halletoakgallery.com
SUMMARY:Private Event Booking\, League of Women Voters of South Central Texas
DESCRIPTION:League of Women Voters of South Central Texas\, for more information contact Janis Richardson at janis@janicsrichardson.com
URL:https://halletoakgallery.com/event/private-event-booking-league-of-women-voters-of-south-central-texas/
LOCATION:Hallet Oak Gallery
END:VEVENT
BEGIN:VEVENT
DTSTART;TZID=America/Chicago:20210821T130000
DTEND;TZID=America/Chicago:20210821T170000
DTSTAMP:20260423T232127
CREATED:20210712T140927Z
LAST-MODIFIED:20210712T140927Z
UID:10000640-1629550800-1629565200@halletoakgallery.com
SUMMARY:League of Women Voters of Lavaca County Lecture\, a non-profit booking
DESCRIPTION:For more information on League of Women Voters of Lavaca County Lecture\, contact Janis@janishrichardson.com
URL:https://halletoakgallery.com/event/league-of-women-voters-of-lavaca-county-lecture-a-non-profit-booking/
LOCATION:Hallet Oak Gallery
END:VEVENT
END:VCALENDAR