BEGIN:VCALENDAR
VERSION:2.0
PRODID:-//Hallet Oak Foundation Inc - ECPv6.15.20//NONSGML v1.0//EN
CALSCALE:GREGORIAN
METHOD:PUBLISH
X-WR-CALNAME:Hallet Oak Foundation Inc
X-ORIGINAL-URL:https://halletoakgallery.com
X-WR-CALDESC:Events for Hallet Oak Foundation Inc
REFRESH-INTERVAL;VALUE=DURATION:PT1H
X-Robots-Tag:noindex
X-PUBLISHED-TTL:PT1H
BEGIN:VTIMEZONE
TZID:UTC
BEGIN:STANDARD
TZOFFSETFROM:+0000
TZOFFSETTO:+0000
TZNAME:UTC
DTSTART:20140101T000000
END:STANDARD
END:VTIMEZONE
BEGIN:VEVENT
DTSTART;TZID=UTC:20151214T063000
DTEND;TZID=UTC:20151214T210000
DTSTAMP:20260424T054745
CREATED:20151126T054030Z
LAST-MODIFIED:20151128T194018Z
UID:10000113-1450074600-1450126800@halletoakgallery.com
SUMMARY:JD Wellfed & Guest: Chuck Hawthorne - Original American Songs
DESCRIPTION:Photo by Pete Holland. \nMUSIC NIGHT AT THE HOG\nJD Wellfed & Guest: Chuck Hawthorne\nDecember 14\, 2015 @ 7:00 pm – 9:00 pm\nTickets $10.00 or $8 for Seniors \nPopular South Central Texas singer and songwriter JD Wellfed (John Reeves) of Sweet Home will lead the fourth in a series of musical evenings Monday night at the Hallet Oak Gallery.  Featured guest Chuck Hawthorne\, a veteran with 21 years of military service\, developed his voice in Texas and on board the USS Iwo Jima.  He sings about people he knew in his hometown\, on numerous deployments\, and many points in between.  In the relaxed atmosphere at the HOG the performers interact with the audience\, entertaining questions and sharing insight into their music. \nJD Wellfed began writing poems in junior high and songs in his early twenties. “Anything and everything” inspires his music\, which draws on folk\, bluegrass\, and a plethora of other influences.  JD founded the Sweet Home Music Fest\, which gave artists a platform for original music while raising funds for several community causes.   \nMusic Night at the HOG is held the 2nd Monday of every month.  Doors open at 6:30 p.m.   Bring your own drinks.  Ice and cups provided.  Checks and cash accepted for $10 door fee. \nFor more information contact jd@thewellfeds.com.   \nThe Hallet Oak Gallery is located at the Kahn & Stanzel Building (K&S)\, 115 N. Main Street\, Hallettsville\, TX 77964.   \n-Lois Weiss\, Contributing writer for the arts. –
URL:https://halletoakgallery.com/event/jd-wellfed-guest-chuck-hawthorne-original-american-songs/
LOCATION:Hallet Oak Gallery
ATTACH;FMTTYPE=image/jpeg:https://halletoakgallery.com/wp-content/uploads/2015/11/sm3078956.jpg
ORGANIZER;CN="John Reeves":MAILTO:jd@thewellfeds.com
END:VEVENT
BEGIN:VEVENT
DTSTART;TZID=UTC:20151109T063000
DTEND;TZID=UTC:20151109T210000
DTSTAMP:20260424T054745
CREATED:20151014T004117Z
LAST-MODIFIED:20151030T205615Z
UID:10000081-1447050600-1447102800@halletoakgallery.com
SUMMARY:Monday Night Music at the HOG! JDWellfed & Guests: Joe Kirkpatrick and Michael Stroup
DESCRIPTION:MUSIC NIGHT AT THE HOG\nJD Wellfed & Guests: Joe Kirkpatrick and Michael Stroup–Original American Songs\nNovember 9\, 2015 @ 7:00 pm – 9:00 pm\nTickets $10.00 or $8 for seniors \nPopular South Central Texas singer and songwriter JD Wellfed (John Reeves) of Sweet Home will lead the third in a series of musical evenings Monday night at the Hallet Oak Gallery.  Featured guests are Joe Kirkpatrick and Michael Stroup.  Known locally for their Americana music\, Kirkpatrick and Stroup are big city favorites.  The trio will perform original songs and tell the stories behind them.  They will welcome questions and share insights about their music.   \nJoe Kirkpatrick plays lead guitar and sings.  Michael Stroup’s love for traditional American music began early\, learning guitar as he watched two uncles play.  Specializing in folk\, bluegrass\, and class country music\, Stroup now incorporates western swing and old cowboy music in his repertoire.  \nJD Wellfed began writing poems in junior high and songs in his early twenties. “Anything and everything” inspires his music\, which draws on folk\, bluegrass\, and a plethora of other influences.  JD founded the Sweet Home Music Fest\, which gave artists a platform for original music while raising funds for several community causes.   \nMusic Night at the HOG is held every 2nd Monday of the month.  Doors open at 6:30 p.m.   Bring your own drinks.  Ice and cups provided.  Checks and cash accepted for $10 door fee. \nFor more information contact jd@thewellfeds.com.   \nThe Hallet Oak Gallery is located at the Kahn & Stanzel Building (K&S)\, 115 N. Main Street\, Hallettsville\, TX 77964.
URL:https://halletoakgallery.com/event/monday-night-music-at-the-hog-jdwellfed-guests-joe-kirkpatrick-and-michael-stroup/
LOCATION:Hallet Oak Gallery
ATTACH;FMTTYPE=image/jpeg:https://halletoakgallery.com/wp-content/uploads/2015/09/MeandJoe.jpg
ORGANIZER;CN="John Reeves":MAILTO:jd@thewellfeds.com
END:VEVENT
END:VCALENDAR