BEGIN:VCALENDAR
VERSION:2.0
PRODID:-//Hallet Oak Foundation Inc - ECPv6.15.20//NONSGML v1.0//EN
CALSCALE:GREGORIAN
METHOD:PUBLISH
X-ORIGINAL-URL:https://halletoakgallery.com
X-WR-CALDESC:Events for Hallet Oak Foundation Inc
REFRESH-INTERVAL;VALUE=DURATION:PT1H
X-Robots-Tag:noindex
X-PUBLISHED-TTL:PT1H
BEGIN:VTIMEZONE
TZID:UTC
BEGIN:STANDARD
TZOFFSETFROM:+0000
TZOFFSETTO:+0000
TZNAME:UTC
DTSTART:20140101T000000
END:STANDARD
END:VTIMEZONE
BEGIN:VEVENT
DTSTART;TZID=UTC:20160105T163000
DTEND;TZID=UTC:20160105T183000
DTSTAMP:20260424T033800
CREATED:20151224T103608Z
LAST-MODIFIED:20151224T103638Z
UID:10000057-1452011400-1452018600@halletoakgallery.com
SUMMARY:Friends of Hallettsville Downtown Revitalization
DESCRIPTION:
URL:https://halletoakgallery.com/event/friends-of-hallettsville-downtown-revitalization/
LOCATION:Hallet Oak Gallery
ATTACH;FMTTYPE=image/jpeg:https://halletoakgallery.com/wp-content/uploads/2015/10/cropped_Panorama1.jpg
END:VEVENT
BEGIN:VEVENT
DTSTART;TZID=UTC:20151201T043000
DTEND;TZID=UTC:20151201T174500
DTSTAMP:20260424T033800
CREATED:20151124T004027Z
LAST-MODIFIED:20151124T004041Z
UID:10000111-1448944200-1448991900@halletoakgallery.com
SUMMARY:Friends of Hallettsville Downtown Revitalization Meeting
DESCRIPTION:Join us on Tuesday\, December 1\, 4:45-5:45 at the Hallett Oak Gallery for the next Friends meeting. Stacey Norris\, Director of La Grange’s Main Street Program\, will be our special guest to share how La Grange has brought new life to their downtown. Come at 4:30 to visit – we’ll get started promptly at 4:45. And\, help us grow our group by bringing a friend!
URL:https://halletoakgallery.com/event/friends-of-hallettsville-downtown-revitalization-meeting/
LOCATION:Hallet Oak Gallery
ATTACH;FMTTYPE=image/jpeg:https://halletoakgallery.com/wp-content/uploads/2015/10/cropped_Panorama1.jpg
END:VEVENT
END:VCALENDAR