BEGIN:VCALENDAR
VERSION:2.0
PRODID:-//Hallet Oak Foundation Inc - ECPv6.15.20//NONSGML v1.0//EN
CALSCALE:GREGORIAN
METHOD:PUBLISH
X-WR-CALNAME:Hallet Oak Foundation Inc
X-ORIGINAL-URL:https://halletoakgallery.com
X-WR-CALDESC:Events for Hallet Oak Foundation Inc
REFRESH-INTERVAL;VALUE=DURATION:PT1H
X-Robots-Tag:noindex
X-PUBLISHED-TTL:PT1H
BEGIN:VTIMEZONE
TZID:UTC
BEGIN:STANDARD
TZOFFSETFROM:+0000
TZOFFSETTO:+0000
TZNAME:UTC
DTSTART:20160101T000000
END:STANDARD
END:VTIMEZONE
BEGIN:VEVENT
DTSTART;TZID=UTC:20170824T083000
DTEND;TZID=UTC:20170824T103000
DTSTAMP:20260424T031437
CREATED:20170823T024823Z
LAST-MODIFIED:20170824T041202Z
UID:10000349-1503563400-1503570600@halletoakgallery.com
SUMMARY:Indivisible Lavaca County Hosts Breakfast Reception for Beto O'Rourk\, US Rep. TX -1 6
DESCRIPTION:Indivisible Lavaca County reception from 8:30 a.m. to 10:30 a.m. \nFor more information contact Carie Bellanger at carie.bellanger@cancer.org or web site: www.indivisiblelavaca.com and/or Facebook page: public page and group: www.facebook.com/indivisiblelavaca/ \nMeet Beto in Hallettsville!\nThursday\, August 24\, 9 – 10 am\nHallet Oak Gallery\, 115 N. Main Street\, Hallettsville\, TX \nBeto O’Rourke\, U.S. Rep. TX-16\, is running to represent the good people of Texas in the U.S. Senate. He has been traveling throughout Texas for almost 30 days to talk directly to Texans\, and will be stopping in here to meet people and share information this Thursday morning.. \n\nPlease come meet Beto and help us spread the word! \n\n\nINDIVISIBLE Lavaca County\, TX\n\n\nNever doubt  that a small group of thoughtful\, committed people can change the world. Indeed\, it is the only thing that ever has.\n– Margaret Mead – \n\nIndivisible Lavaca County is a non-partisan group of citizens from United States Congressional District 27. We have united to strengthen our role as citizens in our democracy. We are committed to promoting our founders’ dream of “Liberty and Justice for all.”
URL:https://halletoakgallery.com/event/indivisible-lavaca-county-hosts-breakfast-reception/
LOCATION:Hallet Oak Gallery
ATTACH;FMTTYPE=image/png:https://halletoakgallery.com/wp-content/uploads/2017/08/7d8152_d67b854617a9498b8f4eb4f86b5e47fb-mv2.png
END:VEVENT
END:VCALENDAR