BEGIN:VCALENDAR
VERSION:2.0
PRODID:-//Hallet Oak Foundation Inc - ECPv6.15.20//NONSGML v1.0//EN
CALSCALE:GREGORIAN
METHOD:PUBLISH
X-ORIGINAL-URL:https://halletoakgallery.com
X-WR-CALDESC:Events for Hallet Oak Foundation Inc
REFRESH-INTERVAL;VALUE=DURATION:PT1H
X-Robots-Tag:noindex
X-PUBLISHED-TTL:PT1H
BEGIN:VTIMEZONE
TZID:UTC
BEGIN:STANDARD
TZOFFSETFROM:+0000
TZOFFSETTO:+0000
TZNAME:UTC
DTSTART:20150101T000000
END:STANDARD
END:VTIMEZONE
BEGIN:VEVENT
DTSTART;TZID=UTC:20161128T150000
DTEND;TZID=UTC:20161128T193000
DTSTAMP:20260423T223815
CREATED:20161115T023858Z
LAST-MODIFIED:20161115T085309Z
UID:10000281-1480345200-1480361400@halletoakgallery.com
SUMMARY:Private Event: Hallettsville Elementary Teachers' Christmas Party
DESCRIPTION:Hallettsville Elementary Christmas Party \nD.H.
URL:https://halletoakgallery.com/event/hallettsville-elementary-teachers-christmas-party/
LOCATION:Private Party
ATTACH;FMTTYPE=image/jpeg:https://halletoakgallery.com/wp-content/uploads/2016/11/hallettsville_elementary_logo.jpeg
END:VEVENT
END:VCALENDAR