BEGIN:VCALENDAR
VERSION:2.0
PRODID:-//Hallet Oak Foundation Inc - ECPv6.15.20//NONSGML v1.0//EN
CALSCALE:GREGORIAN
METHOD:PUBLISH
X-WR-CALNAME:Hallet Oak Foundation Inc
X-ORIGINAL-URL:https://halletoakgallery.com
X-WR-CALDESC:Events for Hallet Oak Foundation Inc
REFRESH-INTERVAL;VALUE=DURATION:PT1H
X-Robots-Tag:noindex
X-PUBLISHED-TTL:PT1H
BEGIN:VTIMEZONE
TZID:UTC
BEGIN:STANDARD
TZOFFSETFROM:+0000
TZOFFSETTO:+0000
TZNAME:UTC
DTSTART:20140101T000000
END:STANDARD
END:VTIMEZONE
BEGIN:VEVENT
DTSTART;TZID=UTC:20150502T170000
DTEND;TZID=UTC:20150502T200000
DTSTAMP:20260423T180645
CREATED:20150430T083907Z
LAST-MODIFIED:20150430T084826Z
UID:10000027-1430586000-1430596800@halletoakgallery.com
SUMMARY:H.C.E.C. Event: James Phillips
DESCRIPTION:James Phillips\, who is currently carving two bison out of the 250 year old Hallet Oak Tree\, named and cared for by Doris Zumwalt and the Hallettsville Garden Club.  James\, known as a rock-star artist\, will talk about his bigger-than-life career. To learn more about his work\, visit his site: http://inshoresculpture.com/  or come visit him in person in Hallettsville\, Texas.
URL:https://halletoakgallery.com/event/h-c-e-c-event-james-phillips/
LOCATION:Hallet Oak Gallery
END:VEVENT
END:VCALENDAR