BEGIN:VCALENDAR
VERSION:2.0
PRODID:-//Hallet Oak Foundation Inc - ECPv6.15.20//NONSGML v1.0//EN
CALSCALE:GREGORIAN
METHOD:PUBLISH
X-WR-CALNAME:Hallet Oak Foundation Inc
X-ORIGINAL-URL:https://halletoakgallery.com
X-WR-CALDESC:Events for Hallet Oak Foundation Inc
REFRESH-INTERVAL;VALUE=DURATION:PT1H
X-Robots-Tag:noindex
X-PUBLISHED-TTL:PT1H
BEGIN:VTIMEZONE
TZID:UTC
BEGIN:STANDARD
TZOFFSETFROM:+0000
TZOFFSETTO:+0000
TZNAME:UTC
DTSTART:20140101T000000
END:STANDARD
END:VTIMEZONE
BEGIN:VEVENT
DTSTART;TZID=UTC:20160415T190000
DTEND;TZID=UTC:20160415T210000
DTSTAMP:20260423T222243
CREATED:20160415T105147Z
LAST-MODIFIED:20160415T105147Z
UID:10000175-1460746800-1460754000@halletoakgallery.com
SUMMARY:Bob Barrera Evening Workshop
DESCRIPTION:Contact Bob Barrera for details.
URL:https://halletoakgallery.com/event/bob-barrera-evening-workshop/
LOCATION:Hallet Oak Gallery
ATTACH;FMTTYPE=image/jpeg:https://halletoakgallery.com/wp-content/uploads/2015/04/IMG_1446-1.jpg
ORGANIZER;CN="Bob Barrera%2C Artist":MAILTO:bbarrera361@gmail.com
END:VEVENT
BEGIN:VEVENT
DTSTART;TZID=UTC:20160311T190000
DTEND;TZID=UTC:20160311T210000
DTSTAMP:20260423T222243
CREATED:20160307T170004Z
LAST-MODIFIED:20160309T081449Z
UID:10000163-1457722800-1457730000@halletoakgallery.com
SUMMARY:Bob Barrera's Strokes with a Sip Painting Class
DESCRIPTION:A Painting Workshop by Bob Barrera! $35 reserves your spot\, only 30 spots available. Please contact Bob Barrera in advance to place a deposit and ensure your spot. Materials and canvas provided. Bring your own drinks\, koozies\, wine glasses! Ice provided to keep your drinks chilled. Reserve Today! bbarrera361@gmail.com or call/text: 361-258-1931\nShare this: \n 
URL:https://halletoakgallery.com/event/bob-barrerras-brush-stroke-painting-class/
LOCATION:Hallet Oak Gallery
ATTACH;FMTTYPE=image/jpeg:https://halletoakgallery.com/wp-content/uploads/2015/04/IMG_1435-3.jpg
ORGANIZER;CN="Bob Barrera%2C Artist":MAILTO:bbarrera361@gmail.com
END:VEVENT
BEGIN:VEVENT
DTSTART;TZID=UTC:20160108T190000
DTEND;TZID=UTC:20160108T210000
DTSTAMP:20260423T222243
CREATED:20151231T052104Z
LAST-MODIFIED:20151231T052300Z
UID:10000069-1452279600-1452286800@halletoakgallery.com
SUMMARY:Strokes with a Sip by Bob Barrera
DESCRIPTION:A Painting Workshop by Bob Barrera! $35 reserves your spot\, only 30 spots available. Please contact Bob Barrera in advance to place a deposit and ensure your spot. Materials and canvas provided. Bring your own drinks\, koozies\, wine glasses! Ice provided to keep your drinks chilled. Reserve Today! bbarrera361@gmail.com or call/text: 361-258-1931\nShare this:
URL:https://halletoakgallery.com/event/strokes-with-a-sip-by-bob-barrera/
LOCATION:Hallet Oak Gallery
ATTACH;FMTTYPE=image/jpeg:https://halletoakgallery.com/wp-content/uploads/2015/12/ssbirdsad.jpg
ORGANIZER;CN="Bob Barrera%2C Artist":MAILTO:bbarrera361@gmail.com
END:VEVENT
BEGIN:VEVENT
DTSTART;TZID=UTC:20151211T190000
DTEND;TZID=UTC:20151211T210000
DTSTAMP:20260423T222243
CREATED:20151203T212643Z
LAST-MODIFIED:20151203T212748Z
UID:10000125-1449860400-1449867600@halletoakgallery.com
SUMMARY:"Stroke with a Sip" Painting Class by Bob Barrera!
DESCRIPTION:A Painting Workshop by Bob Barrera! $35 reserves your spot\, only 30 spots available. Please contact Bob Barrera in advance to place a deposit and ensure your spot. Materials and canvas provided. Bring your own drinks\, koozies\, wine glasses! Ice provided to keep your drinks chilled. Reserve Today! bbarrera361@gmail.com or call/text: 361-258-1931\nShare this:
URL:https://halletoakgallery.com/event/stroke-with-a-sip-painting-class-by-bob-barrera/
LOCATION:Hallet Oak Gallery
ATTACH;FMTTYPE=image/jpeg:https://halletoakgallery.com/wp-content/uploads/2015/09/smIMG_14352.jpg
ORGANIZER;CN="Bob Barrera%2C Artist":MAILTO:bbarrera361@gmail.com
END:VEVENT
BEGIN:VEVENT
DTSTART;TZID=UTC:20151113T190000
DTEND;TZID=UTC:20151113T210000
DTSTAMP:20260423T222243
CREATED:20151109T053018Z
LAST-MODIFIED:20151109T053059Z
UID:10000105-1447441200-1447448400@halletoakgallery.com
SUMMARY:Strokes with a Sip by Bob Barrera
DESCRIPTION:A Painting Workshop by Bob Barrera! $35 reserves your spot\, only 30 spots available. Please contact Bob Barrera in advance to place a deposit and ensure your spot. Materials and canvas provided. Bring your own drinks\, koozies\, wine glasses! Ice provided to keep your drinks chilled. Reserve Today! bbarrera361@gmail.com or call/text: 361-258-1931\nShare this:
URL:https://halletoakgallery.com/event/440/
LOCATION:Hallet Oak Gallery
ATTACH;FMTTYPE=image/jpeg:https://halletoakgallery.com/wp-content/uploads/2015/11/20151113_bob_barrera.jpg
ORGANIZER;CN="Bob Barrera%2C Artist":MAILTO:bbarrera361@gmail.com
END:VEVENT
BEGIN:VEVENT
DTSTART;TZID=UTC:20150919T183000
DTEND;TZID=UTC:20150919T210000
DTSTAMP:20260423T222243
CREATED:20150907T221236Z
LAST-MODIFIED:20150911T024241Z
UID:10000019-1442687400-1442696400@halletoakgallery.com
SUMMARY:Stroke with a Sip by Bob Barrera
DESCRIPTION:Stroke with a Sip by Bob Barrera\nSeptember 19 @ 7:00 pm – 9:00 pm\n$35.00 \nA Painting Workshop by Bob Barrera! $35 reserves your spot\, only 30 spots available. Please contact Bob Barrera in advance to place a deposit and ensure your spot.\nMaterials and canvas provided. Bring your own drinks\, koozies\, wine glasses! Ice provided to keep your drinks chilled. Reserve Today! Email Bob at bbarrera361@gmail.com or call 361-258-1931.
URL:https://halletoakgallery.com/event/stroke-with-a-sip-by-bob-barrera-3/
LOCATION:Hallet Oak Gallery
ATTACH;FMTTYPE=image/jpeg:https://halletoakgallery.com/wp-content/uploads/2015/09/smIMG_14352.jpg
ORGANIZER;CN="Bob Barrera%2C Artist":MAILTO:bbarrera361@gmail.com
END:VEVENT
BEGIN:VEVENT
DTSTART;TZID=UTC:20150919T140000
DTEND;TZID=UTC:20150919T160000
DTSTAMP:20260423T222243
CREATED:20150911T024805Z
LAST-MODIFIED:20150911T024945Z
UID:10000071-1442671200-1442678400@halletoakgallery.com
SUMMARY:Family/Kids Painting Class
DESCRIPTION:Family/Kids Class from 2:00 pm till 4 pm. Ages 7 & up!  We will be painting the spongebob painting. Limited spaces available. $20/painter! Families welcome!\nSpots fill  quickly so reserve today. Call or Text: 361-258-1931 or email bbarrera361@gmail.com   \nPlease specify the time of the class you’d like to reserve seats for and how many spots!\nThanks! Can’t wait to see you there! – Bob Barrerra
URL:https://halletoakgallery.com/event/familykids-class/
LOCATION:Hallet Oak Gallery
ATTACH;FMTTYPE=image/jpeg:https://halletoakgallery.com/wp-content/uploads/2015/09/10848607_1065878453437388_871698170975715076_o.jpg
ORGANIZER;CN="Bob Barrera%2C Artist":MAILTO:bbarrera361@gmail.com
END:VEVENT
BEGIN:VEVENT
DTSTART;TZID=UTC:20150904T190000
DTEND;TZID=UTC:20150904T210000
DTSTAMP:20260423T222243
CREATED:20150630T092820Z
LAST-MODIFIED:20150825T195000Z
UID:10000043-1441393200-1441400400@halletoakgallery.com
SUMMARY:Lavaca Nights! Meet the Artist!
DESCRIPTION:Meet the Artists! Artworks presently on display are by Robert Barrera\, Larry Bozka\, wildlife photographer; Roy Cavarretta\, pen and ink reproductions as well as carved gourd art; Patsy Evins\, glass art jewelry and paintings; Gisela Floto\, contemporary photography; Cherri Fryer\, pottery; Alberto Godoy\, oil paintings; Art Juarez\, historical photography; Ofi Juarez\, historical photography; Valentia Kisseleva\, pen and ink; Yan Lee\, pen and ink reproductions; Mieko Mahi\, industrial art; Marcus Mann\, oil painting and reproductions; Michael Moore\, fused-glass art and jewelry; Hege Nolop\, jewelry; Chu Okoli\, oil paintings; Elizabeth Payne\, acrylic paintings; James Phillips\, wood sculptor; Danny Stephens\, bronze sculptor; and Baca St. Onge\, fused-glass jewelry; Michael Windberg\, classical realism oil paintings. All works are for sale.
URL:https://halletoakgallery.com/event/lavaca-nights-meet-the-artist/
LOCATION:Hallet Oak Gallery
ORGANIZER;CN="Bob Barrera%2C Artist":MAILTO:bbarrera361@gmail.com
END:VEVENT
BEGIN:VEVENT
DTSTART;TZID=UTC:20150904T070000
DTEND;TZID=UTC:20150904T210000
DTSTAMP:20260423T222243
CREATED:20150826T100109Z
LAST-MODIFIED:20150826T100109Z
UID:10000011-1441350000-1441400400@halletoakgallery.com
SUMMARY:Stroke with a Sip by Bob Barrera
DESCRIPTION:A Painting Workshop by Bob Barrera! $35 reserves your spot\, only 30 spots available. Please contact Bob Barrera in advance to place a deposit and ensure your spot. Materials\nand canvas provided. Bring your own drinks\, koozies\, wine glasses! Ice provided to keep your drinks chilled. Reserve Today! bbarrera361@gmail.com or 361-259-1931
URL:https://halletoakgallery.com/event/stroke-with-a-sip-by-bob-barrera/
LOCATION:Hallet Oak Gallery
ORGANIZER;CN="Bob Barrera%2C Artist":MAILTO:bbarrera361@gmail.com
END:VEVENT
BEGIN:VEVENT
DTSTART;TZID=UTC:20150821T190000
DTEND;TZID=UTC:20150821T210000
DTSTAMP:20260423T222243
CREATED:20150814T033816Z
LAST-MODIFIED:20150820T201118Z
UID:10000001-1440183600-1440190800@halletoakgallery.com
SUMMARY:Stroke with a Sip
DESCRIPTION:A Painting Workshop by Bob Barrera! $35 reserves your spot\, only 30 spots available. Please contact Bob Barrera in advance to place a deposit and ensure your spot. Materials and canvas provided. Bring your own drinks\, koozies\, wine glasses! Ice provided to keep your drinks chilled. Reserve Today! bbarrera361@gmail.com or 361-259-1931
URL:https://halletoakgallery.com/event/stroke-with-a-sip/
LOCATION:Hallet Oak Gallery
ATTACH;FMTTYPE=image/jpeg:https://halletoakgallery.com/wp-content/uploads/2015/08/sip2.jpg
ORGANIZER;CN="Bob Barrera%2C Artist":MAILTO:bbarrera361@gmail.com
END:VEVENT
BEGIN:VEVENT
DTSTART;TZID=UTC:20150807T190000
DTEND;TZID=UTC:20150807T210000
DTSTAMP:20260423T222243
CREATED:20150630T092454Z
LAST-MODIFIED:20150730T051821Z
UID:10000042-1438974000-1438981200@halletoakgallery.com
SUMMARY:Strokes with a Sip
DESCRIPTION:A Painting Workshop by Bob Barrera! $35 reserves your spot\, only 30 spots available.  Please contact Bob Barrera in advance to place a deposit and ensure your spot.  Materials\nand canvas provided.  Bring your own drinks\, koozies\, wine glasses! Ice provided to keep your drinks chilled.  Reserve Today! bbarrera361@gmail.com or 361-259-1931
URL:https://halletoakgallery.com/event/lavaca-nights-meet-the-artists/
LOCATION:Hallet Oak Gallery
ORGANIZER;CN="Bob Barrera%2C Artist":MAILTO:bbarrera361@gmail.com
END:VEVENT
END:VCALENDAR