BEGIN:VCALENDAR
VERSION:2.0
PRODID:-//Hallet Oak Foundation Inc - ECPv6.15.20//NONSGML v1.0//EN
CALSCALE:GREGORIAN
METHOD:PUBLISH
X-WR-CALNAME:Hallet Oak Foundation Inc
X-ORIGINAL-URL:https://halletoakgallery.com
X-WR-CALDESC:Events for Hallet Oak Foundation Inc
REFRESH-INTERVAL;VALUE=DURATION:PT1H
X-Robots-Tag:noindex
X-PUBLISHED-TTL:PT1H
BEGIN:VTIMEZONE
TZID:America/Chicago
BEGIN:DAYLIGHT
TZOFFSETFROM:-0600
TZOFFSETTO:-0500
TZNAME:CDT
DTSTART:20190310T080000
END:DAYLIGHT
BEGIN:STANDARD
TZOFFSETFROM:-0500
TZOFFSETTO:-0600
TZNAME:CST
DTSTART:20191103T070000
END:STANDARD
BEGIN:DAYLIGHT
TZOFFSETFROM:-0600
TZOFFSETTO:-0500
TZNAME:CDT
DTSTART:20200308T080000
END:DAYLIGHT
BEGIN:STANDARD
TZOFFSETFROM:-0500
TZOFFSETTO:-0600
TZNAME:CST
DTSTART:20201101T070000
END:STANDARD
BEGIN:DAYLIGHT
TZOFFSETFROM:-0600
TZOFFSETTO:-0500
TZNAME:CDT
DTSTART:20210314T080000
END:DAYLIGHT
BEGIN:STANDARD
TZOFFSETFROM:-0500
TZOFFSETTO:-0600
TZNAME:CST
DTSTART:20211107T070000
END:STANDARD
BEGIN:DAYLIGHT
TZOFFSETFROM:-0600
TZOFFSETTO:-0500
TZNAME:CDT
DTSTART:20220313T080000
END:DAYLIGHT
BEGIN:STANDARD
TZOFFSETFROM:-0500
TZOFFSETTO:-0600
TZNAME:CST
DTSTART:20221106T070000
END:STANDARD
BEGIN:DAYLIGHT
TZOFFSETFROM:-0600
TZOFFSETTO:-0500
TZNAME:CDT
DTSTART:20230312T080000
END:DAYLIGHT
BEGIN:STANDARD
TZOFFSETFROM:-0500
TZOFFSETTO:-0600
TZNAME:CST
DTSTART:20231105T070000
END:STANDARD
BEGIN:DAYLIGHT
TZOFFSETFROM:-0600
TZOFFSETTO:-0500
TZNAME:CDT
DTSTART:20240310T080000
END:DAYLIGHT
BEGIN:STANDARD
TZOFFSETFROM:-0500
TZOFFSETTO:-0600
TZNAME:CST
DTSTART:20241103T070000
END:STANDARD
BEGIN:DAYLIGHT
TZOFFSETFROM:-0600
TZOFFSETTO:-0500
TZNAME:CDT
DTSTART:20250309T080000
END:DAYLIGHT
BEGIN:STANDARD
TZOFFSETFROM:-0500
TZOFFSETTO:-0600
TZNAME:CST
DTSTART:20251102T070000
END:STANDARD
BEGIN:DAYLIGHT
TZOFFSETFROM:-0600
TZOFFSETTO:-0500
TZNAME:CDT
DTSTART:20260308T080000
END:DAYLIGHT
BEGIN:STANDARD
TZOFFSETFROM:-0500
TZOFFSETTO:-0600
TZNAME:CST
DTSTART:20261101T070000
END:STANDARD
BEGIN:DAYLIGHT
TZOFFSETFROM:-0600
TZOFFSETTO:-0500
TZNAME:CDT
DTSTART:20270314T080000
END:DAYLIGHT
BEGIN:STANDARD
TZOFFSETFROM:-0500
TZOFFSETTO:-0600
TZNAME:CST
DTSTART:20271107T070000
END:STANDARD
END:VTIMEZONE
BEGIN:VEVENT
DTSTART;TZID=America/Chicago:20260110T140000
DTEND;TZID=America/Chicago:20260110T180000
DTSTAMP:20260423T161808
CREATED:20260109T212022Z
LAST-MODIFIED:20260109T212349Z
UID:10004418-1768053600-1768068000@halletoakgallery.com
SUMMARY:Hallet Oak Gallery Art Auction Fundraiser - A Special Soiree!
DESCRIPTION:The public is invited to attend the Hallet Oak Gallery Annual Auction Fundraiser—A Special Soirée! Enjoy an elegant and welcoming art auction experience featuring live and silent bidding\, live music\, and opportunities to meet artists and community members. Participation is open to everyone\, including first-time auction attendees. Membership is not required. \nEvent Details \n\nDate: Saturday\, January 10\, 2026\nTime: 2:00 PM – 6:00 PM\nLocation: Hallet Oak Gallery\, 115 N. Main Street\, Hallettsville\, TX\nLive Music: David Faskas\, Classical Guitarist\nDress: Festive Cocktail Attire\nTickets: $55 per individual | $100 per couple\nRSVP Required: Please leave a message at 361-217-7030\n\nSilent and live auction donations may be dropped off the day before the event between 4:00 PM and 7:00 PM. The baskets of handmade or bought gifts are perfect for this occasion. \nHallet Oak Foundation is a 501(c)(3) nonprofit cultural arts organization that operates Hallet Oak Gallery—as a place to see and enjoy art with science\, technology\, engineering\, art\, and math–based resources. \nHallet Oak Gallery will be open February through November with regular daily hours. \nFor more information\, email venue@halletoakgallery.com or leave a voice message. To donate online\, visit www.halletoakgallery.com\, or send a check made out to Hallet Oak Foundation at 115 N. Main Street or P.O. Box 662\, Hallettsville\, TX 77964. Please indicate the purpose on the check’s memo line.
URL:https://halletoakgallery.com/event/hallet-oak-gallery-art-auction-fundraiser-a-special-soiree/
LOCATION:Hallet Oak Gallery
CATEGORIES:Live Musical Performance
ATTACH;FMTTYPE=image/jpeg:https://halletoakgallery.com/wp-content/uploads/2026/01/5x7_david_faskas_IMG_3177-1.jpg
END:VEVENT
BEGIN:VEVENT
DTSTART;TZID=America/Chicago:20250619T120000
DTEND;TZID=America/Chicago:20250619T160000
DTSTAMP:20260423T161808
CREATED:20250122T224815Z
LAST-MODIFIED:20250123T230220Z
UID:10004223-1750334400-1750348800@halletoakgallery.com
SUMMARY:Juneteenth Celebration
DESCRIPTION:Special Exhibits. Free. \nGene Grant will be exhibit. Refreshments will be served\, free admission.
URL:https://halletoakgallery.com/event/juneteenth-celebration-3/
LOCATION:Hallet Oak Gallery
CATEGORIES:Art Exhibit & Reception
ATTACH;FMTTYPE=image/jpeg:https://halletoakgallery.com/wp-content/uploads/2025/01/5x7_b_gene_grant_IMG_6192-copy.jpg
END:VEVENT
BEGIN:VEVENT
DTSTART;TZID=America/Chicago:20220115T140000
DTEND;TZID=America/Chicago:20220115T180000
DTSTAMP:20260423T161808
CREATED:20210126T172528Z
LAST-MODIFIED:20220115T005220Z
UID:10000638-1642255200-1642269600@halletoakgallery.com
SUMMARY:Hallet Oak Gallery Fundraiser Art Auction Soiree
DESCRIPTION:Saturday\, January 15  \nHALLETTSVILLE: Hallet Oak Gallery Fundraiser Art Auction Soiree \n2:00 PM – 6:00 PM \nMeet the Artists. Light Refreshments. Live Classical Guitarist\, David Faskas \nSilent Art Auction and Live Auction with Auctioneer \nFestive Attire \nHallet Oak Gallery\, 115 N. Main St.\, Hallettsville\, TX 77964 \nwww.halletoakgallery.com   Leave message at 361-217-7030 for details. \n$55 per ticket or $100 per couple\, RSVP required
URL:https://halletoakgallery.com/event/hallet-oak-gallery-fundraiser-art-auction-soiree/
LOCATION:Hallet Oak Gallery
CATEGORIES:Fundraising
ATTACH;FMTTYPE=image/jpeg:https://halletoakgallery.com/wp-content/uploads/2021/01/webIMG_5932.jpg
END:VEVENT
BEGIN:VEVENT
DTSTART;TZID=America/Chicago:20200627T110000
DTEND;TZID=America/Chicago:20200627T150000
DTSTAMP:20260423T161808
CREATED:20200120T120902Z
LAST-MODIFIED:20200120T121204Z
UID:10000340-1593255600-1593270000@halletoakgallery.com
SUMMARY:Gallery is Open! See sculptures\, photography\, collage\, mixed media\, carvings\, drawing\, and jewelry for sale! Meet the artists!
DESCRIPTION:Every Saturday\, June 6 – 27 2020 Artists Exhibit and Scavenger Hunts for Children. Space Tunnel will be open. \n11 AM to 3 PM \nHALLETTSVILLE: Painting\, sculpture\, photography\, collage\, mixed media\, carvings\, drawing\, and jewelry artists include: Moses Adams\, Dianne Appelt\, Blanche Cavarretta\, Roy Cavarretta\, Linda Cejka\, Larry Charles\, Erica Estrada\, Mary Gullette\, Debbie Halling\, Ken Kopacki\, Mieko Mahi\, Paula Patterson\, Dennis Pesek\, James Phillips\, Steven Pituch\, Georgia Pohl\, Phyllis Rivera\, Timothy Sadler\, Lois Weiss\, Michael Windberg\, and Bria Woods. \nLois Weiss\, oil painter\, Paula Patterson\, acrylic painter and Steven Pituch\, oil painter and photographer\, will be present throughout June \nHallet Oak Gallery\, 115 N. Main St.\, Hallettsville\, TX 77964 www.halletoakgallery.com 361-217-7030 \nFree
URL:https://halletoakgallery.com/event/gallery-is-open-see-sculptures-photography-collage-mixed-media-carvings-drawing-and-jewelry-for-sale/2020-06-27/
LOCATION:Hallet Oak Gallery
CATEGORIES:Art Center with Exhibit,Gallery is Open,Historical,Historical Building,Space Tunnel
ATTACH;FMTTYPE=image/jpeg:https://halletoakgallery.com/wp-content/uploads/2020/01/web_opening_MG_8206.jpg
ORGANIZER;CN="Hallet Oak Gallery":MAILTO:venue@halletoakgallery.com
END:VEVENT
END:VCALENDAR