BEGIN:VCALENDAR
VERSION:2.0
PRODID:-//Hallet Oak Foundation Inc - ECPv6.15.20//NONSGML v1.0//EN
CALSCALE:GREGORIAN
METHOD:PUBLISH
X-WR-CALNAME:Hallet Oak Foundation Inc
X-ORIGINAL-URL:https://halletoakgallery.com
X-WR-CALDESC:Events for Hallet Oak Foundation Inc
REFRESH-INTERVAL;VALUE=DURATION:PT1H
X-Robots-Tag:noindex
X-PUBLISHED-TTL:PT1H
BEGIN:VTIMEZONE
TZID:America/Chicago
BEGIN:DAYLIGHT
TZOFFSETFROM:-0600
TZOFFSETTO:-0500
TZNAME:CDT
DTSTART:20190310T080000
END:DAYLIGHT
BEGIN:STANDARD
TZOFFSETFROM:-0500
TZOFFSETTO:-0600
TZNAME:CST
DTSTART:20191103T070000
END:STANDARD
BEGIN:DAYLIGHT
TZOFFSETFROM:-0600
TZOFFSETTO:-0500
TZNAME:CDT
DTSTART:20200308T080000
END:DAYLIGHT
BEGIN:STANDARD
TZOFFSETFROM:-0500
TZOFFSETTO:-0600
TZNAME:CST
DTSTART:20201101T070000
END:STANDARD
BEGIN:DAYLIGHT
TZOFFSETFROM:-0600
TZOFFSETTO:-0500
TZNAME:CDT
DTSTART:20210314T080000
END:DAYLIGHT
BEGIN:STANDARD
TZOFFSETFROM:-0500
TZOFFSETTO:-0600
TZNAME:CST
DTSTART:20211107T070000
END:STANDARD
BEGIN:DAYLIGHT
TZOFFSETFROM:-0600
TZOFFSETTO:-0500
TZNAME:CDT
DTSTART:20220313T080000
END:DAYLIGHT
BEGIN:STANDARD
TZOFFSETFROM:-0500
TZOFFSETTO:-0600
TZNAME:CST
DTSTART:20221106T070000
END:STANDARD
END:VTIMEZONE
BEGIN:VEVENT
DTSTART;TZID=America/Chicago:20211002T080000
DTEND;TZID=America/Chicago:20211002T093000
DTSTAMP:20260423T180402
CREATED:20210126T162905Z
LAST-MODIFIED:20210126T164238Z
UID:10000609-1633161600-1633167000@halletoakgallery.com
SUMMARY:Hallet Oak Gallery Beautification Day
DESCRIPTION:Saturday\, February 6  \nHALLETTSVILLE: Hallet Oak Gallery Beautification Day \n8:00 AM – 9:30 AM \nInside the Gallery – Children’s Art Project by Linda Cejka \nOutdoors – Cleanup Projects for Adults \nOver 15 may pick up trash with adults\, must be prepared with proper clothing. \nCommunity Service Certificates provided for students \nHallet Oak Gallery\, 115 N. Main St.\, Hallettsville\, TX 77964 \nwww.halletoakgallery.com \nRSVP for details\, leave voice message: 361-217-7030 \nFree and open to the public. Membership not required. \n  \nHallet Oak Gallery will award six $150 student service scholarships donated by Robert Blair\, Marilyn Prazak Chovanetz\, and Cheryl & Duwayne Engelhardt. See www.halletoakgallery.com for details. Selection will be based on most Hallet Oak Gallery youth volunteer hours and most creative young artist exhibit in Gallery.
URL:https://halletoakgallery.com/event/hallet-oak-gallery-beautification-day/2021-10-02/
LOCATION:Hallet Oak Gallery
CATEGORIES:Adopt-a-Highway,art,Art Lessons,Beautification Day
ATTACH;FMTTYPE=image/jpeg:https://halletoakgallery.com/wp-content/uploads/2021/01/web_IMG_1304.jpg
END:VEVENT
BEGIN:VEVENT
DTSTART;TZID=America/Chicago:20201201T163000
DTEND;TZID=America/Chicago:20201201T180000
DTSTAMP:20260423T180402
CREATED:20200123T170933Z
LAST-MODIFIED:20200123T170933Z
UID:10000592-1606840200-1606845600@halletoakgallery.com
SUMMARY:Friends of the River Committee Meeting
DESCRIPTION:  \nDecember 1\, First Tuesday of Every Month  \nFriends of the River Committee Meeting \nHALLETTSVILLE: Friends of Hallettsville Downtown Revitalization (FHDR) \n4:30 PM to 6 PM \nDress: Casual. Refreshments will be served. Cash Bar. \nEl Vaquero Mexican Restaurant\, Downtown Hallettsville \nwww.halletoakgallery.com 361-217-7030 \nFree. Membership not required.
URL:https://halletoakgallery.com/event/friends-of-the-river-committee-meeting-4/
LOCATION:Ell Vaquero Mexican Restaurant\, 114 N. La Grange St.\, Hallettsivlle\, TX\, 77964
CATEGORIES:Beautification
ATTACH;FMTTYPE=image/jpeg:https://halletoakgallery.com/wp-content/uploads/2020/01/river_postcard.jpeg
END:VEVENT
BEGIN:VEVENT
DTSTART;TZID=America/Chicago:20201103T163000
DTEND;TZID=America/Chicago:20201103T180000
DTSTAMP:20260423T180402
CREATED:20200123T165814Z
LAST-MODIFIED:20200123T165814Z
UID:10000583-1604421000-1604426400@halletoakgallery.com
SUMMARY:Friends of the River Committee Meeting
DESCRIPTION:November 3\, 2020\, First Tuesday of Every Month  \nFriends of the River Committee Meeting \nHALLETTSVILLE: Friends of Hallettsville Downtown Revitalization (FHDR) \n4:30 PM to 6:00 PM \nDress: Casual. Refreshments will be served. Cash Bar. \nEl Vaquero Mexican Restaurant\, Downtown Hallettsville \nwww.halletoakgallery.com 361-217-7030 \nFree. Membership not required.
URL:https://halletoakgallery.com/event/friends-of-the-river-committee-meeting-3/
LOCATION:Ell Vaquero Mexican Restaurant\, 114 N. La Grange St.\, Hallettsivlle\, TX\, 77964
CATEGORIES:Beautification
ATTACH;FMTTYPE=image/jpeg:https://halletoakgallery.com/wp-content/uploads/2020/01/river_postcard.jpeg
END:VEVENT
BEGIN:VEVENT
DTSTART;TZID=America/Chicago:20201006T163000
DTEND;TZID=America/Chicago:20201006T180000
DTSTAMP:20260423T180402
CREATED:20200123T155207Z
LAST-MODIFIED:20200123T155207Z
UID:10000576-1602001800-1602007200@halletoakgallery.com
SUMMARY:Friends of the River Committee Meeting
DESCRIPTION:October 6\, 2020\, First Tuesday of Every Month  \nFriends of the River Committee Meeting \nHALLETTSVILLE: Friends of Hallettsville Downtown Revitalization (FHDR) \n4:30 PM to 6 PM \nDress: Casual. Refreshments will be served. Cash Bar. \nEl Vaquero Mexican Restaurant\, Downtown Hallettsville \nwww.halletoakgallery.com 361-217-7030 \nFree. Membership not required.
URL:https://halletoakgallery.com/event/friends-of-the-river-committee-meeting-2/
LOCATION:Ell Vaquero Mexican Restaurant\, 114 N. La Grange St.\, Hallettsivlle\, TX\, 77964
CATEGORIES:Beautification
ATTACH;FMTTYPE=image/jpeg:https://halletoakgallery.com/wp-content/uploads/2020/01/river_postcard.jpeg
END:VEVENT
BEGIN:VEVENT
DTSTART;TZID=America/Chicago:20200707T163000
DTEND;TZID=America/Chicago:20200707T180000
DTSTAMP:20260423T180402
CREATED:20200123T141533Z
LAST-MODIFIED:20200123T141533Z
UID:10000552-1594139400-1594144800@halletoakgallery.com
SUMMARY:Friends of the River Meeting
DESCRIPTION:July 7\, 2020\, First Tuesday of Every Month  \nFriends of the River Committee Meeting \nHALLETTSVILLE: Friends of Hallettsville Downtown Revitalization (FHDR) \n4:30 PM to 6 PM \nDress: Casual. Refreshments will be served. Cash Bar. \nEl Vaquero Mexican Restaurant\, Downtown Hallettsville \nwww.halletoakgallery.com 361-217-7030 \nFree. Membership not required.
URL:https://halletoakgallery.com/event/friends-of-the-river-meeting-2/
LOCATION:Ell Vaquero Mexican Restaurant\, 114 N. La Grange St.\, Hallettsivlle\, TX\, 77964
CATEGORIES:Beautification
ATTACH;FMTTYPE=image/jpeg:https://halletoakgallery.com/wp-content/uploads/2020/01/river_postcard.jpeg
END:VEVENT
BEGIN:VEVENT
DTSTART;TZID=America/Chicago:20200602T163000
DTEND;TZID=America/Chicago:20200602T180000
DTSTAMP:20260423T180402
CREATED:20200120T131326Z
LAST-MODIFIED:20200120T131326Z
UID:10000550-1591115400-1591120800@halletoakgallery.com
SUMMARY:Friends of the River Gathering
DESCRIPTION:June 2\, 2020\, First Tuesday of Every Month  \nFriends of the River Committee Meeting \nHALLETTSVILLE: Friends of Hallettsville Downtown Revitalization (FHDR) \n4:30 PM to 6 PM \nDress: Casual. Refreshments will be served. Cash Bar. \nEl Vaquero Mexican Restaurant\, Downtown Hallettsville \nwww.halletoakgallery.com 361-217-7030 \nFree. Membership not required.
URL:https://halletoakgallery.com/event/friends-of-the-river-gathering/
LOCATION:Hallet Oak Gallery
CATEGORIES:Beautification
ATTACH;FMTTYPE=image/jpeg:https://halletoakgallery.com/wp-content/uploads/2020/01/river_postcard.jpeg
END:VEVENT
BEGIN:VEVENT
DTSTART;TZID=America/Chicago:20200505T163000
DTEND;TZID=America/Chicago:20200505T180000
DTSTAMP:20260423T180402
CREATED:20200120T120251Z
LAST-MODIFIED:20200120T120251Z
UID:10000335-1588696200-1588701600@halletoakgallery.com
SUMMARY:Friends of the River Meeting
DESCRIPTION:May 5\, 2020\, First Tuesday of Every Month  \nFriends of the River Committee Meeting \nHALLETTSVILLE: Friends of Hallettsville Downtown Revitalization (FHDR) \n4:30 PM to 6 PM \nDress: Casual. Refreshments will be served. Cash Bar. \nEl Vaquero Mexican Restaurant\, Downtown Hallettsville \nwww.halletoakgallery.com 361-217-7030 \nFree. Membership not required.
URL:https://halletoakgallery.com/event/friends-of-the-river-meeting/
LOCATION:Ell Vaquero Mexican Restaurant\, 114 N. La Grange St.\, Hallettsivlle\, TX\, 77964
CATEGORIES:Beautification
ATTACH;FMTTYPE=image/jpeg:https://halletoakgallery.com/wp-content/uploads/2020/01/river_postcard.jpeg
END:VEVENT
BEGIN:VEVENT
DTSTART;TZID=America/Chicago:20200204T163000
DTEND;TZID=America/Chicago:20200204T180000
DTSTAMP:20260423T180402
CREATED:20200119T153649Z
LAST-MODIFIED:20200119T153851Z
UID:10000544-1580833800-1580839200@halletoakgallery.com
SUMMARY:River Committee Meeting
DESCRIPTION:February 4\, 2020\, First Tuesday of Every Month  \nHALLETTSVILLE: Friends of Hallettsville Downtown Revitalization (FHDR) \n4:30 PM to 6 PM Topic: Friends of the River Committee Meeting \nDress: Casual. Refreshments will be served. Cash Bar. \nEl Vaquero Mexican Restaurant\, Downtown Hallettsville \nwww.halletoakgallery.com 361-217-7030 \nFree. Membership not required \n 
URL:https://halletoakgallery.com/event/river-committee-meeting/
LOCATION:Ell Vaquero Mexican Restaurant\, 114 N. La Grange St.\, Hallettsivlle\, TX\, 77964
CATEGORIES:Beautification
ATTACH;FMTTYPE=image/jpeg:https://halletoakgallery.com/wp-content/uploads/2018/09/school_project_still_art_by_linda_cejka.jpeg
END:VEVENT
END:VCALENDAR