BEGIN:VCALENDAR
VERSION:2.0
PRODID:-//Hallet Oak Foundation Inc - ECPv6.15.20//NONSGML v1.0//EN
CALSCALE:GREGORIAN
METHOD:PUBLISH
X-WR-CALNAME:Hallet Oak Foundation Inc
X-ORIGINAL-URL:https://halletoakgallery.com
X-WR-CALDESC:Events for Hallet Oak Foundation Inc
REFRESH-INTERVAL;VALUE=DURATION:PT1H
X-Robots-Tag:noindex
X-PUBLISHED-TTL:PT1H
BEGIN:VTIMEZONE
TZID:America/Chicago
BEGIN:DAYLIGHT
TZOFFSETFROM:-0600
TZOFFSETTO:-0500
TZNAME:CDT
DTSTART:20210314T080000
END:DAYLIGHT
BEGIN:STANDARD
TZOFFSETFROM:-0500
TZOFFSETTO:-0600
TZNAME:CST
DTSTART:20211107T070000
END:STANDARD
BEGIN:DAYLIGHT
TZOFFSETFROM:-0600
TZOFFSETTO:-0500
TZNAME:CDT
DTSTART:20220313T080000
END:DAYLIGHT
BEGIN:STANDARD
TZOFFSETFROM:-0500
TZOFFSETTO:-0600
TZNAME:CST
DTSTART:20221106T070000
END:STANDARD
BEGIN:DAYLIGHT
TZOFFSETFROM:-0600
TZOFFSETTO:-0500
TZNAME:CDT
DTSTART:20230312T080000
END:DAYLIGHT
BEGIN:STANDARD
TZOFFSETFROM:-0500
TZOFFSETTO:-0600
TZNAME:CST
DTSTART:20231105T070000
END:STANDARD
BEGIN:DAYLIGHT
TZOFFSETFROM:-0600
TZOFFSETTO:-0500
TZNAME:CDT
DTSTART:20240310T080000
END:DAYLIGHT
BEGIN:STANDARD
TZOFFSETFROM:-0500
TZOFFSETTO:-0600
TZNAME:CST
DTSTART:20241103T070000
END:STANDARD
END:VTIMEZONE
BEGIN:VTIMEZONE
TZID:UTC
BEGIN:STANDARD
TZOFFSETFROM:+0000
TZOFFSETTO:+0000
TZNAME:UTC
DTSTART:20150101T000000
END:STANDARD
END:VTIMEZONE
BEGIN:VEVENT
DTSTART;TZID=America/Chicago:20231214T173000
DTEND;TZID=America/Chicago:20231214T183000
DTSTAMP:20260424T032450
CREATED:20231121T215115Z
LAST-MODIFIED:20231121T215115Z
UID:10000730-1702575000-1702578600@halletoakgallery.com
SUMMARY:Private Booking\, Girl Scouts
DESCRIPTION:For more information contact Darlene Immekus.
URL:https://halletoakgallery.com/event/private-booking-girl-scouts/
LOCATION:Hallet Oak Gallery
CATEGORIES:Girl Scouts
ATTACH;FMTTYPE=image/jpeg:https://halletoakgallery.com/wp-content/uploads/2016/10/girlscounts.jpg
END:VEVENT
BEGIN:VEVENT
DTSTART;TZID=America/Chicago:20221208T173000
DTEND;TZID=America/Chicago:20221208T183000
DTSTAMP:20260424T032450
CREATED:20221027T232202Z
LAST-MODIFIED:20221027T232202Z
UID:10000426-1670520600-1670524200@halletoakgallery.com
SUMMARY:Private Booking: Girl Scouts Christmas Party
DESCRIPTION:
URL:https://halletoakgallery.com/event/private-booking-girl-scouts-christmas-party/
LOCATION:Hallet Oak Gallery
CATEGORIES:Girl Scouts
ATTACH;FMTTYPE=image/jpeg:https://halletoakgallery.com/wp-content/uploads/2016/10/girlscounts.jpg
END:VEVENT
BEGIN:VEVENT
DTSTART;TZID=UTC:20181213T170000
DTEND;TZID=UTC:20181213T183000
DTSTAMP:20260424T032450
CREATED:20181107T092549Z
LAST-MODIFIED:20181107T093255Z
UID:10000236-1544720400-1544725800@halletoakgallery.com
SUMMARY:Girl Scout Meeting - Christmas Party - Private Event
DESCRIPTION:For more information\, contact Darlene Immekus. Acrylic on canvas Christmas Tree painting activity.
URL:https://halletoakgallery.com/event/girl-scout-meeting-art-activity/
LOCATION:Hallet Oak Gallery
CATEGORIES:Girl Scouts
ATTACH;FMTTYPE=image/jpeg:https://halletoakgallery.com/wp-content/uploads/2016/10/girlscounts.jpg
END:VEVENT
BEGIN:VEVENT
DTSTART;TZID=UTC:20181108T183000
DTEND;TZID=UTC:20181108T183000
DTSTAMP:20260424T032450
CREATED:20181107T093058Z
LAST-MODIFIED:20181107T093155Z
UID:10000238-1541701800-1541701800@halletoakgallery.com
SUMMARY:Girl Scout Meeting with Art Activity - Private Event
DESCRIPTION:For more information contact Darlene Immekus. Nativity Sets Gift Making Project.
URL:https://halletoakgallery.com/event/girl-scouts-christmas-party-with-art-activity-private-event/
CATEGORIES:Girl Scouts
ATTACH;FMTTYPE=image/jpeg:https://halletoakgallery.com/wp-content/uploads/2016/10/girlscounts.jpg
END:VEVENT
BEGIN:VEVENT
DTSTART;TZID=UTC:20180308T170000
DTEND;TZID=UTC:20180308T183000
DTSTAMP:20260424T032450
CREATED:20180216T230451Z
LAST-MODIFIED:20221027T232430Z
UID:10000381-1520528400-1520533800@halletoakgallery.com
SUMMARY:Girl Scouts Jewerly Badge
DESCRIPTION:Girl Scout Jewelry Badge with Linda Cejka\, jewelry instructor.
URL:https://halletoakgallery.com/event/girl-scouts-jewerly-badge/
LOCATION:Hallet Oak Gallery
CATEGORIES:Art Lessons,Girl Scouts
ATTACH;FMTTYPE=image/jpeg:https://halletoakgallery.com/wp-content/uploads/2016/10/girlscounts.jpg
END:VEVENT
BEGIN:VEVENT
DTSTART;TZID=UTC:20171207T170000
DTEND;TZID=UTC:20171207T190000
DTSTAMP:20260424T032450
CREATED:20171202T073219Z
LAST-MODIFIED:20171202T073219Z
UID:10000205-1512666000-1512673200@halletoakgallery.com
SUMMARY:Girl Scouts Acrylic Painting Project - Private Event
DESCRIPTION:Acrylic art on Canvas.
URL:https://halletoakgallery.com/event/girl-scouts-acrylic-painting-project-private-event-2/
ATTACH;FMTTYPE=image/jpeg:https://halletoakgallery.com/wp-content/uploads/2016/10/girlscounts.jpg
END:VEVENT
BEGIN:VEVENT
DTSTART;TZID=UTC:20161208T170000
DTEND;TZID=UTC:20161208T183000
DTSTAMP:20260424T032450
CREATED:20161026T053150Z
LAST-MODIFIED:20161026T053150Z
UID:10000269-1481216400-1481221800@halletoakgallery.com
SUMMARY:Girl Scouts Acrylic Painting Project - Private Event
DESCRIPTION:Acrylic on canvas painting project.
URL:https://halletoakgallery.com/event/girl-scouts-acrylic-painting-project-private-event/
LOCATION:Hallet Oak Gallery
ATTACH;FMTTYPE=image/jpeg:https://halletoakgallery.com/wp-content/uploads/2016/10/girlscounts.jpg
END:VEVENT
END:VCALENDAR