BEGIN:VCALENDAR
VERSION:2.0
PRODID:-//Hallet Oak Foundation Inc - ECPv6.15.20//NONSGML v1.0//EN
CALSCALE:GREGORIAN
METHOD:PUBLISH
X-ORIGINAL-URL:https://halletoakgallery.com
X-WR-CALDESC:Events for Hallet Oak Foundation Inc
REFRESH-INTERVAL;VALUE=DURATION:PT1H
X-Robots-Tag:noindex
X-PUBLISHED-TTL:PT1H
BEGIN:VTIMEZONE
TZID:UTC
BEGIN:STANDARD
TZOFFSETFROM:+0000
TZOFFSETTO:+0000
TZNAME:UTC
DTSTART:20180101T000000
END:STANDARD
END:VTIMEZONE
BEGIN:VEVENT
DTSTART;TZID=UTC:20191206T100000
DTEND;TZID=UTC:20191206T113000
DTSTAMP:20260423T223824
CREATED:20190916T215624Z
LAST-MODIFIED:20190916T215638Z
UID:10000532-1575626400-1575631800@halletoakgallery.com
SUMMARY:Edna Christian Academy - Private tour with activities
DESCRIPTION:24 students\, contact Melinda Kazmir.
URL:https://halletoakgallery.com/event/edna-christian-academy-private-tour-with-activities/
LOCATION:Hallet Oak Gallery
ATTACH;FMTTYPE=image/jpeg:https://halletoakgallery.com/wp-content/uploads/2017/11/Sponge-wreath-e1511901939890.jpg
END:VEVENT
END:VCALENDAR