BEGIN:VCALENDAR
VERSION:2.0
PRODID:-//Hallet Oak Foundation Inc - ECPv6.15.20//NONSGML v1.0//EN
CALSCALE:GREGORIAN
METHOD:PUBLISH
X-WR-CALNAME:Hallet Oak Foundation Inc
X-ORIGINAL-URL:https://halletoakgallery.com
X-WR-CALDESC:Events for Hallet Oak Foundation Inc
REFRESH-INTERVAL;VALUE=DURATION:PT1H
X-Robots-Tag:noindex
X-PUBLISHED-TTL:PT1H
BEGIN:VTIMEZONE
TZID:UTC
BEGIN:STANDARD
TZOFFSETFROM:+0000
TZOFFSETTO:+0000
TZNAME:UTC
DTSTART:20180101T000000
END:STANDARD
END:VTIMEZONE
BEGIN:VEVENT
DTSTART;TZID=UTC:20190930T153000
DTEND;TZID=UTC:20190930T170000
DTSTAMP:20260423T210905
CREATED:20190827T051814Z
LAST-MODIFIED:20190827T051814Z
UID:10000529-1569857400-1569862800@halletoakgallery.com
SUMMARY:Artfully Yours! Painting with Colette Burroughs!
DESCRIPTION:
URL:https://halletoakgallery.com/event/artfully-yours-painting-with-colette-burroughs-3/
LOCATION:Hallet Oak Gallery
CATEGORIES:After-School,Art Lessons
ATTACH;FMTTYPE=image/jpeg:https://halletoakgallery.com/wp-content/uploads/2019/08/Flyer-SHCS-HV-PRINTED.jpg
END:VEVENT
BEGIN:VEVENT
DTSTART;TZID=UTC:20190916T153000
DTEND;TZID=UTC:20190916T170000
DTSTAMP:20260423T210905
CREATED:20190827T051214Z
LAST-MODIFIED:20190827T051329Z
UID:10000527-1568647800-1568653200@halletoakgallery.com
SUMMARY:Artfully Yours! Painting with Colette Burroughs!
DESCRIPTION:
URL:https://halletoakgallery.com/event/artfully-yours-painting-with-colette-burroughs/
LOCATION:Hallet Oak Gallery
CATEGORIES:After-School,Art Lessons
ATTACH;FMTTYPE=image/jpeg:https://halletoakgallery.com/wp-content/uploads/2019/08/Flyer-SHCS-HV-PRINTED.jpg
END:VEVENT
BEGIN:VEVENT
DTSTART;TZID=UTC:20190909T153000
DTEND;TZID=UTC:20190909T170000
DTSTAMP:20260423T210905
CREATED:20190827T051550Z
LAST-MODIFIED:20190827T051624Z
UID:10000528-1568043000-1568048400@halletoakgallery.com
SUMMARY:Artfully Yours! Painting with Colette Burroughs!
DESCRIPTION:
URL:https://halletoakgallery.com/event/artfully-yours-painting-with-colette-burroughs-2/
LOCATION:Hallet Oak Gallery
CATEGORIES:After-School,Art Lessons
ATTACH;FMTTYPE=image/jpeg:https://halletoakgallery.com/wp-content/uploads/2019/08/Flyer-SHCS-HV-PRINTED.jpg
END:VEVENT
END:VCALENDAR