BEGIN:VCALENDAR
VERSION:2.0
PRODID:-//Hallet Oak Foundation Inc - ECPv6.15.20//NONSGML v1.0//EN
CALSCALE:GREGORIAN
METHOD:PUBLISH
X-WR-CALNAME:Hallet Oak Foundation Inc
X-ORIGINAL-URL:https://halletoakgallery.com
X-WR-CALDESC:Events for Hallet Oak Foundation Inc
REFRESH-INTERVAL;VALUE=DURATION:PT1H
X-Robots-Tag:noindex
X-PUBLISHED-TTL:PT1H
BEGIN:VTIMEZONE
TZID:America/Chicago
BEGIN:DAYLIGHT
TZOFFSETFROM:-0600
TZOFFSETTO:-0500
TZNAME:CDT
DTSTART:20240310T080000
END:DAYLIGHT
BEGIN:STANDARD
TZOFFSETFROM:-0500
TZOFFSETTO:-0600
TZNAME:CST
DTSTART:20241103T070000
END:STANDARD
BEGIN:DAYLIGHT
TZOFFSETFROM:-0600
TZOFFSETTO:-0500
TZNAME:CDT
DTSTART:20250309T080000
END:DAYLIGHT
BEGIN:STANDARD
TZOFFSETFROM:-0500
TZOFFSETTO:-0600
TZNAME:CST
DTSTART:20251102T070000
END:STANDARD
BEGIN:DAYLIGHT
TZOFFSETFROM:-0600
TZOFFSETTO:-0500
TZNAME:CDT
DTSTART:20260308T080000
END:DAYLIGHT
BEGIN:STANDARD
TZOFFSETFROM:-0500
TZOFFSETTO:-0600
TZNAME:CST
DTSTART:20261101T070000
END:STANDARD
END:VTIMEZONE
BEGIN:VEVENT
DTSTART;TZID=America/Chicago:20251129T120000
DTEND;TZID=America/Chicago:20251129T180000
DTSTAMP:20260424T052924
CREATED:20250122T233326Z
LAST-MODIFIED:20251120T183356Z
UID:10004235-1764417600-1764439200@halletoakgallery.com
SUMMARY:Open House during Festival of Lights!
DESCRIPTION:November 29\, 2024\, 12 PM to 6 PM – Open House during Festival of Lights! Enjoy the 2025 Artists Exhibit and the Student Art Display! \nLast Day of the Year Hallet Oak Gallery Will Be Open ti the Public Until February 2026! Note that Private Bookings will still Occur and as well as Private Christmas Parties  and Private Group Tours! \nIn celebration enjoy Ccmplimentary light refreshments! \nEnjoy scavenger hunt for all ages with prizes! \nHallet Oak Gallery’s Featured Artists & their Revolving  New Artworks \nPaintings \n\nMOSES ADAMS – Mixed Media\nLARRY CHARLES – Watercolor\nMARY GULLETTE – Mixed Media\nPHYLLIS RIVERA – Oil\nLOIS WEISS – Oil\nMICHAEL WINDBERG – Oil\nPAIGE WOODRING – Mixed Media\n\nPhotography \n\nKEN KOPACKI – Fine Art Photography\nMIEKO MAHI – Industrial Photography\nSTEVEN PITUCH – Fine Art Photography\n\n3D Art \n\nLINDA CEJKA – Jewelry\nJULIE MARSH – Glass Sculpture\nJAMES PHILLIP – Wood Sculpture\n\n  \nFree Admission \n  \nShare this:\n				Share on Facebook (Opens in new window)\n				Facebook\n			\n				Share on X (Opens in new window)\n				X\n			\n				Share on LinkedIn (Opens in new window)\n				LinkedIn\n			\n				Share on Pinterest (Opens in new window)\n				Pinterest\n			More\n				Share on Reddit (Opens in new window)\n				Reddit\n			\n				Share on Tumblr (Opens in new window)\n				Tumblr\n			\n				Email a link to a friend (Opens in new window)\n				Email\n			\n				Print (Opens in new window)\n				Print
URL:https://halletoakgallery.com/event/open-house-during-festival-of-lights/
LOCATION:Hallet Oak Gallery
CATEGORIES:Annual Event - Free
ATTACH;FMTTYPE=image/jpeg:https://halletoakgallery.com/wp-content/uploads/2024/02/5x7_docents_and_artB21CBF0.jpg
END:VEVENT
BEGIN:VEVENT
DTSTART;TZID=America/Chicago:20251129T140000
DTEND;TZID=America/Chicago:20251129T160000
DTSTAMP:20260424T052924
CREATED:20250826T145410Z
LAST-MODIFIED:20250826T145536Z
UID:10004353-1764424800-1764432000@halletoakgallery.com
SUMMARY:Hallettsville Cultural Events Center Live Musical - The Tubameisters
DESCRIPTION:Hallettsville Cultural Events Center Live Musical Performance Featuring The Tubameisters Saturday\, November 29\, 2025\, 2:00 PM to 4:00 PM  Doors will be open at noon to 6 PM. For more information call Hallettsville Cultural Events Center by leaving message at 361-272-3660. \nShare this:\n				Share on Facebook (Opens in new window)\n				Facebook\n			\n				Share on X (Opens in new window)\n				X\n			\n				Share on LinkedIn (Opens in new window)\n				LinkedIn\n			\n				Share on Pinterest (Opens in new window)\n				Pinterest\n			More\n				Share on Reddit (Opens in new window)\n				Reddit\n			\n				Share on Tumblr (Opens in new window)\n				Tumblr\n			\n				Email a link to a friend (Opens in new window)\n				Email\n			\n				Print (Opens in new window)\n				Print
URL:https://halletoakgallery.com/event/hallettsville-cultural-events-center-live-musical-the-tubameisters/
LOCATION:Hallet Oak Gallery
CATEGORIES:Christkindlmarkt,Live Music,Live Musical Performance
ATTACH;FMTTYPE=image/jpeg:https://halletoakgallery.com/wp-content/uploads/2016/12/smtubameisters_MG_6034.jpg
END:VEVENT
END:VCALENDAR