BEGIN:VCALENDAR
VERSION:2.0
PRODID:-//Hallet Oak Foundation Inc - ECPv6.15.20//NONSGML v1.0//EN
CALSCALE:GREGORIAN
METHOD:PUBLISH
X-WR-CALNAME:Hallet Oak Foundation Inc
X-ORIGINAL-URL:https://halletoakgallery.com
X-WR-CALDESC:Events for Hallet Oak Foundation Inc
REFRESH-INTERVAL;VALUE=DURATION:PT1H
X-Robots-Tag:noindex
X-PUBLISHED-TTL:PT1H
BEGIN:VTIMEZONE
TZID:UTC
BEGIN:STANDARD
TZOFFSETFROM:+0000
TZOFFSETTO:+0000
TZNAME:UTC
DTSTART:20180101T000000
END:STANDARD
END:VTIMEZONE
BEGIN:VEVENT
DTSTART;TZID=UTC:20191104T180000
DTEND;TZID=UTC:20191104T203000
DTSTAMP:20260424T074812
CREATED:20190827T044400Z
LAST-MODIFIED:20190827T044400Z
UID:10000525-1572890400-1572899400@halletoakgallery.com
SUMMARY:Cub Scouts of Hallettsville  - private event
DESCRIPTION:For more information contact Christopher Freytag\, D. C.  361-798-4300. Art Activity will be provided by Hallet Oak Gallery. \nShare this:\n				Share on Facebook (Opens in new window)\n				Facebook\n			\n				Share on X (Opens in new window)\n				X\n			\n				Share on LinkedIn (Opens in new window)\n				LinkedIn\n			\n				Share on Pinterest (Opens in new window)\n				Pinterest\n			More\n				Share on Reddit (Opens in new window)\n				Reddit\n			\n				Share on Tumblr (Opens in new window)\n				Tumblr\n			\n				Email a link to a friend (Opens in new window)\n				Email\n			\n				Print (Opens in new window)\n				Print
URL:https://halletoakgallery.com/event/cub-scouts-of-hallettsville-private-event/
CATEGORIES:Cub Scouts
ATTACH;FMTTYPE=image/jpeg:https://halletoakgallery.com/wp-content/uploads/2018/08/cubscouts_hallettsville.jpeg
END:VEVENT
BEGIN:VEVENT
DTSTART;TZID=UTC:20191105T130000
DTEND;TZID=UTC:20191105T200000
DTSTAMP:20260424T074812
CREATED:20190128T051935Z
LAST-MODIFIED:20190128T051951Z
UID:10000508-1572958800-1572984000@halletoakgallery.com
SUMMARY:Every Tuesday\, November 5th through 26 th: Michael Windberg Workshops
DESCRIPTION:Every Tuesday\, November 5th through 26 th \nHALLETTSVILLE: Michael Windberg Oil Painting Workshops \n1:00 PM – 4:00 PM & 5:00 PM – 8:00 PM $35 \nHallet Oak Gallery\, 115 N. Main St.\, Hallettsville\, TX 77964 www.halletoakgallery.com 361-217-7030 \nShare this:\n				Share on Facebook (Opens in new window)\n				Facebook\n			\n				Share on X (Opens in new window)\n				X\n			\n				Share on LinkedIn (Opens in new window)\n				LinkedIn\n			\n				Share on Pinterest (Opens in new window)\n				Pinterest\n			More\n				Share on Reddit (Opens in new window)\n				Reddit\n			\n				Share on Tumblr (Opens in new window)\n				Tumblr\n			\n				Email a link to a friend (Opens in new window)\n				Email\n			\n				Print (Opens in new window)\n				Print
URL:https://halletoakgallery.com/event/every-tuesday-november-5th-through-26-th-michael-windberg-workshops/
LOCATION:Hallet Oak Gallery
CATEGORIES:art,Art Lessons,Lessons on Painting,Michael Windberg Oil Painting Workshop
ATTACH;FMTTYPE=image/jpeg:https://halletoakgallery.com/wp-content/uploads/2018/02/webIMG_1837-2.jpg
ORGANIZER;CN="Michael Windberg - Artist":MAILTO:mnwindberg@gmail.com
END:VEVENT
BEGIN:VEVENT
DTSTART;TZID=UTC:20191105T163000
DTEND;TZID=UTC:20191105T180000
DTSTAMP:20260424T074813
CREATED:20190128T051702Z
LAST-MODIFIED:20190128T051702Z
UID:10000507-1572971400-1572976800@halletoakgallery.com
SUMMARY:FHDR MEETING
DESCRIPTION:November 5\, 2019\, First Tuesday of Every Month  \nHALLETTSVILLE: Friends of Hallettsville Downtown Revitalization (FHDR) \n4:30 PM to 6 PM \nDress: Casual. Refreshments will be served. \nHallet Oak Gallery\, 115 N. Main St.\, Hallettsville\, TX 77964 www.halletoakgallery.com 361-217-7030 \nFree. Membership not required. \nShare this:\n				Share on Facebook (Opens in new window)\n				Facebook\n			\n				Share on X (Opens in new window)\n				X\n			\n				Share on LinkedIn (Opens in new window)\n				LinkedIn\n			\n				Share on Pinterest (Opens in new window)\n				Pinterest\n			More\n				Share on Reddit (Opens in new window)\n				Reddit\n			\n				Share on Tumblr (Opens in new window)\n				Tumblr\n			\n				Email a link to a friend (Opens in new window)\n				Email\n			\n				Print (Opens in new window)\n				Print
URL:https://halletoakgallery.com/event/fhdr-meeting-9/
LOCATION:Hallet Oak Gallery
ATTACH;FMTTYPE=image/jpeg:https://halletoakgallery.com/wp-content/uploads/2017/01/foundation_seal_small.jpg
END:VEVENT
BEGIN:VEVENT
DTSTART;TZID=UTC:20191108T113000
DTEND;TZID=UTC:20191108T130000
DTSTAMP:20260424T074813
CREATED:20190128T032427Z
LAST-MODIFIED:20190128T032427Z
UID:10000495-1573212600-1573218000@halletoakgallery.com
SUMMARY:Senior Lunch & Music: Mountain Dulcimer
DESCRIPTION:Friday\, November 8 \nHALLETTSVILLE: Hallet Oak Gallery Seniors Lunch & Music 11:30 – 1 PM \nMountain Dulcimer: Carolyn Arrington will bring instruments for audience! \nHallet Oak Gallery\, 115 N. Main St.\, Hallettsville\, TX 77964   www.halletoakgallery.com \nDonation only. RSVP: 361-217-7030 \n. \nShare this:\n				Share on Facebook (Opens in new window)\n				Facebook\n			\n				Share on X (Opens in new window)\n				X\n			\n				Share on LinkedIn (Opens in new window)\n				LinkedIn\n			\n				Share on Pinterest (Opens in new window)\n				Pinterest\n			More\n				Share on Reddit (Opens in new window)\n				Reddit\n			\n				Share on Tumblr (Opens in new window)\n				Tumblr\n			\n				Email a link to a friend (Opens in new window)\n				Email\n			\n				Print (Opens in new window)\n				Print
URL:https://halletoakgallery.com/event/senior-lunch-music-mountain-dulcimer/
LOCATION:Hallet Oak Gallery
CATEGORIES:Senior Lunch & Music
ATTACH;FMTTYPE=image/jpeg:https://halletoakgallery.com/wp-content/uploads/2019/01/web5x7_carolyn_arlington_MG_3265-1.jpg
ORGANIZER;CN="Hallet Oak Gallery":MAILTO:venue@halletoakgallery.com
END:VEVENT
BEGIN:VEVENT
DTSTART;TZID=UTC:20191109T140000
DTEND;TZID=UTC:20191109T160000
DTSTAMP:20260424T074813
CREATED:20190220T001917Z
LAST-MODIFIED:20191024T014921Z
UID:10000514-1573308000-1573315200@halletoakgallery.com
SUMMARY:Art Opening: Fused Glass Artist
DESCRIPTION:Saturday\, November 9 \nHALLETTSVILLE: Art Opening: Michael Moore\, Fused Glass Artist \n2 – 4 PM \nExhibit ends Dec 29th Hallet Oak Gallery\, 115 N. Main St.\, Hallettsville\, TX 77964 \n361-217-7030 www.halletoakgallery.com \nFree \nShare this:\n				Share on Facebook (Opens in new window)\n				Facebook\n			\n				Share on X (Opens in new window)\n				X\n			\n				Share on LinkedIn (Opens in new window)\n				LinkedIn\n			\n				Share on Pinterest (Opens in new window)\n				Pinterest\n			More\n				Share on Reddit (Opens in new window)\n				Reddit\n			\n				Share on Tumblr (Opens in new window)\n				Tumblr\n			\n				Email a link to a friend (Opens in new window)\n				Email\n			\n				Print (Opens in new window)\n				Print
URL:https://halletoakgallery.com/event/art-opening-fused-glass-artist/
LOCATION:Hallet Oak Gallery
CATEGORIES:Art Exhibit & Reception
ATTACH;FMTTYPE=image/jpeg:https://halletoakgallery.com/wp-content/uploads/2019/01/web3x4_downtown_IMG_8326-1.jpg
ORGANIZER;CN="Hallet Oak Gallery":MAILTO:venue@halletoakgallery.com
END:VEVENT
END:VCALENDAR