BEGIN:VCALENDAR
VERSION:2.0
PRODID:-//Hallet Oak Foundation Inc - ECPv6.15.20//NONSGML v1.0//EN
CALSCALE:GREGORIAN
METHOD:PUBLISH
X-WR-CALNAME:Hallet Oak Foundation Inc
X-ORIGINAL-URL:https://halletoakgallery.com
X-WR-CALDESC:Events for Hallet Oak Foundation Inc
REFRESH-INTERVAL;VALUE=DURATION:PT1H
X-Robots-Tag:noindex
X-PUBLISHED-TTL:PT1H
BEGIN:VTIMEZONE
TZID:UTC
BEGIN:STANDARD
TZOFFSETFROM:+0000
TZOFFSETTO:+0000
TZNAME:UTC
DTSTART:20180101T000000
END:STANDARD
END:VTIMEZONE
BEGIN:VEVENT
DTSTART;TZID=UTC:20190903T130000
DTEND;TZID=UTC:20190903T200000
DTSTAMP:20260424T061518
CREATED:20190128T050144Z
LAST-MODIFIED:20190128T050159Z
UID:10000502-1567515600-1567540800@halletoakgallery.com
SUMMARY:Every Tuesday\, September 3 rd through 24th: Michael Windberg Workshops
DESCRIPTION:Every Tuesday\, September 3 rd  through 24th \nHALLETTSVILLE: Michael Windberg Oil Painting Workshops \n1:00 PM – 4:00 PM & 5:00 PM – 8:00 PM $35 \nHallet Oak Gallery\, 115 N. Main St.\, Hallettsville\, TX 77964 www.halletoakgallery.com 361-217-7030 \nShare this:\n				Share on Facebook (Opens in new window)\n				Facebook\n			\n				Share on X (Opens in new window)\n				X\n			\n				Share on LinkedIn (Opens in new window)\n				LinkedIn\n			\n				Share on Pinterest (Opens in new window)\n				Pinterest\n			More\n				Share on Reddit (Opens in new window)\n				Reddit\n			\n				Share on Tumblr (Opens in new window)\n				Tumblr\n			\n				Email a link to a friend (Opens in new window)\n				Email\n			\n				Print (Opens in new window)\n				Print
URL:https://halletoakgallery.com/event/every-tuesday-september-3-rd-through-24th-michael-windberg-workshops/
LOCATION:Hallet Oak Gallery
CATEGORIES:Art Lessons,Michael Windberg Oil Painting Workshop
ATTACH;FMTTYPE=image/jpeg:https://halletoakgallery.com/wp-content/uploads/2018/07/I3z2MG_3013.jpg
END:VEVENT
BEGIN:VEVENT
DTSTART;TZID=UTC:20190903T163000
DTEND;TZID=UTC:20190903T180000
DTSTAMP:20260424T061518
CREATED:20190128T045957Z
LAST-MODIFIED:20190128T045957Z
UID:10000501-1567528200-1567533600@halletoakgallery.com
SUMMARY:FHDR MEETING
DESCRIPTION:September 3\, 2019\, Every First Tuesday of Every Month \nHALLETTSVILLE: Friends of Hallettsville Downtown Revitalization (FHDR) \n4:30 PM to 6 PM \nDress: Casual. Refreshments will be served. \nHallet Oak Gallery\, 115 N. Main St.\, Hallettsville\, TX 77964 www.halletoakgallery.com 361-217-7030 \nFree. Membership not required. \nShare this:\n				Share on Facebook (Opens in new window)\n				Facebook\n			\n				Share on X (Opens in new window)\n				X\n			\n				Share on LinkedIn (Opens in new window)\n				LinkedIn\n			\n				Share on Pinterest (Opens in new window)\n				Pinterest\n			More\n				Share on Reddit (Opens in new window)\n				Reddit\n			\n				Share on Tumblr (Opens in new window)\n				Tumblr\n			\n				Email a link to a friend (Opens in new window)\n				Email\n			\n				Print (Opens in new window)\n				Print
URL:https://halletoakgallery.com/event/fhdr-meeting-6/
LOCATION:Hallet Oak Gallery
ATTACH;FMTTYPE=image/jpeg:https://halletoakgallery.com/wp-content/uploads/2017/01/foundation_seal_small.jpg
END:VEVENT
BEGIN:VEVENT
DTSTART;TZID=UTC:20190907T110000
DTEND;TZID=UTC:20190907T150000
DTSTAMP:20260424T061518
CREATED:20190128T024058Z
LAST-MODIFIED:20190827T201236Z
UID:10000487-1567854000-1567868400@halletoakgallery.com
SUMMARY:Lavaca County Cultural Arts Celebration
DESCRIPTION:September 7\, 2019 \nHallettsville Downtown: Live music: Free and Open to the public: Caribbean Drums; Contemporary songs by Ameera York. International foods will be served at Hallet Oak Gallery. 11 AM to 3 PM Celebrating the Lavaca County Cultural Arts Trail! www.halletoakgallery.com 361-217-7030 \nShare this:\n				Share on Facebook (Opens in new window)\n				Facebook\n			\n				Share on X (Opens in new window)\n				X\n			\n				Share on LinkedIn (Opens in new window)\n				LinkedIn\n			\n				Share on Pinterest (Opens in new window)\n				Pinterest\n			More\n				Share on Reddit (Opens in new window)\n				Reddit\n			\n				Share on Tumblr (Opens in new window)\n				Tumblr\n			\n				Email a link to a friend (Opens in new window)\n				Email\n			\n				Print (Opens in new window)\n				Print
URL:https://halletoakgallery.com/event/lavaca-county-cultural-arts-trail-location-tba/
LOCATION:Hallet Oak Gallery
CATEGORIES:Annual Event - Free
ATTACH;FMTTYPE=image/jpeg:https://halletoakgallery.com/wp-content/uploads/2019/01/web_ameera_york_IMG_0075-1.jpg
ORGANIZER;CN="Hallet Oak Gallery":MAILTO:venue@halletoakgallery.com
END:VEVENT
END:VCALENDAR