BEGIN:VCALENDAR
VERSION:2.0
PRODID:-//Hallet Oak Foundation Inc - ECPv6.15.20//NONSGML v1.0//EN
CALSCALE:GREGORIAN
METHOD:PUBLISH
X-WR-CALNAME:Hallet Oak Foundation Inc
X-ORIGINAL-URL:https://halletoakgallery.com
X-WR-CALDESC:Events for Hallet Oak Foundation Inc
REFRESH-INTERVAL;VALUE=DURATION:PT1H
X-Robots-Tag:noindex
X-PUBLISHED-TTL:PT1H
BEGIN:VTIMEZONE
TZID:UTC
BEGIN:STANDARD
TZOFFSETFROM:+0000
TZOFFSETTO:+0000
TZNAME:UTC
DTSTART:20180101T000000
END:STANDARD
END:VTIMEZONE
BEGIN:VEVENT
DTSTART;TZID=UTC:20190806T130000
DTEND;TZID=UTC:20190806T200000
DTSTAMP:20260424T074831
CREATED:20190128T045758Z
LAST-MODIFIED:20190128T045758Z
UID:10000499-1565096400-1565121600@halletoakgallery.com
SUMMARY:Every Tuesday\, August 6th through 27th: Michael Windberg
DESCRIPTION:Every Tuesday\, August 6th through 27th \nHALLETTSVILLE: Michael Windberg Oil Painting Workshops \n1:00 PM – 4:00 PM & 5:00 PM – 8:00 PM $35 \nHallet Oak Gallery\, 115 N. Main St.\, Hallettsville\, TX 77964 \nwww.halletoakgallery.com 361-217-7030 \nShare this:\n				Share on Facebook (Opens in new window)\n				Facebook\n			\n				Share on X (Opens in new window)\n				X\n			\n				Share on LinkedIn (Opens in new window)\n				LinkedIn\n			\n				Share on Pinterest (Opens in new window)\n				Pinterest\n			More\n				Share on Reddit (Opens in new window)\n				Reddit\n			\n				Share on Tumblr (Opens in new window)\n				Tumblr\n			\n				Email a link to a friend (Opens in new window)\n				Email\n			\n				Print (Opens in new window)\n				Print
URL:https://halletoakgallery.com/event/every-tuesday-august-6th-through-27th-michael-windberg/
LOCATION:Hallet Oak Gallery
CATEGORIES:Art Lessons,Michael Windberg Oil Painting Workshop
ATTACH;FMTTYPE=image/jpeg:https://halletoakgallery.com/wp-content/uploads/2016/12/smmichael_windberg_IMG_9639.jpg
ORGANIZER;CN="Michael Windberg - Artist":MAILTO:mnwindberg@gmail.com
END:VEVENT
BEGIN:VEVENT
DTSTART;TZID=UTC:20190806T163000
DTEND;TZID=UTC:20190806T180000
DTSTAMP:20260424T074831
CREATED:20190128T045425Z
LAST-MODIFIED:20190128T045425Z
UID:10000500-1565109000-1565114400@halletoakgallery.com
SUMMARY:FHDR MEETING
DESCRIPTION:August 6\, 2019\, First Tuesday of Every Month  \nHALLETTSVILLE: Friends of Hallettsville Downtown Revitalization (FHDR) \n4:30 PM to 6 PM \nDress: Casual. Refreshments will be served. \nHallet Oak Gallery\, 115 N. Main St.\, Hallettsville\, TX 77964 \nwww.halletoakgallery.com 361-217-7030 \nFree. Membership not required. \nShare this:\n				Share on Facebook (Opens in new window)\n				Facebook\n			\n				Share on X (Opens in new window)\n				X\n			\n				Share on LinkedIn (Opens in new window)\n				LinkedIn\n			\n				Share on Pinterest (Opens in new window)\n				Pinterest\n			More\n				Share on Reddit (Opens in new window)\n				Reddit\n			\n				Share on Tumblr (Opens in new window)\n				Tumblr\n			\n				Email a link to a friend (Opens in new window)\n				Email\n			\n				Print (Opens in new window)\n				Print
URL:https://halletoakgallery.com/event/fhdr-meeting-5/
LOCATION:Hallet Oak Gallery
ATTACH;FMTTYPE=image/jpeg:https://halletoakgallery.com/wp-content/uploads/2017/01/foundation_seal_small.jpg
END:VEVENT
BEGIN:VEVENT
DTSTART;TZID=UTC:20190809T100000
DTEND;TZID=UTC:20190809T110000
DTSTAMP:20260424T074831
CREATED:20190802T061738Z
LAST-MODIFIED:20190802T061738Z
UID:10000523-1565344800-1565348400@halletoakgallery.com
SUMMARY:Lavaca Area Mothers\, Inc.
DESCRIPTION:Contact Paula Cunningham\, join via FaceBook or call 361-772-6456. \nShare this:\n				Share on Facebook (Opens in new window)\n				Facebook\n			\n				Share on X (Opens in new window)\n				X\n			\n				Share on LinkedIn (Opens in new window)\n				LinkedIn\n			\n				Share on Pinterest (Opens in new window)\n				Pinterest\n			More\n				Share on Reddit (Opens in new window)\n				Reddit\n			\n				Share on Tumblr (Opens in new window)\n				Tumblr\n			\n				Email a link to a friend (Opens in new window)\n				Email\n			\n				Print (Opens in new window)\n				Print
URL:https://halletoakgallery.com/event/lavaca-area-mothers-inc/
LOCATION:Hallet Oak Gallery
CATEGORIES:Mother's Group
ATTACH;FMTTYPE=image/jpeg:https://halletoakgallery.com/wp-content/uploads/2019/08/lavaca_area_moms_logo.jpeg
END:VEVENT
BEGIN:VEVENT
DTSTART;TZID=UTC:20190810T163000
DTEND;TZID=UTC:20190810T203000
DTSTAMP:20260424T074831
CREATED:20190803T071115Z
LAST-MODIFIED:20190803T071123Z
UID:10000524-1565454600-1565469000@halletoakgallery.com
SUMMARY:GP Private Booking
DESCRIPTION:G.P. Private Booking. \nShare this:\n				Share on Facebook (Opens in new window)\n				Facebook\n			\n				Share on X (Opens in new window)\n				X\n			\n				Share on LinkedIn (Opens in new window)\n				LinkedIn\n			\n				Share on Pinterest (Opens in new window)\n				Pinterest\n			More\n				Share on Reddit (Opens in new window)\n				Reddit\n			\n				Share on Tumblr (Opens in new window)\n				Tumblr\n			\n				Email a link to a friend (Opens in new window)\n				Email\n			\n				Print (Opens in new window)\n				Print
URL:https://halletoakgallery.com/event/gp-private-booking/
END:VEVENT
END:VCALENDAR