BEGIN:VCALENDAR
VERSION:2.0
PRODID:-//Hallet Oak Foundation Inc - ECPv6.15.20//NONSGML v1.0//EN
CALSCALE:GREGORIAN
METHOD:PUBLISH
X-ORIGINAL-URL:https://halletoakgallery.com
X-WR-CALDESC:Events for Hallet Oak Foundation Inc
REFRESH-INTERVAL;VALUE=DURATION:PT1H
X-Robots-Tag:noindex
X-PUBLISHED-TTL:PT1H
BEGIN:VTIMEZONE
TZID:UTC
BEGIN:STANDARD
TZOFFSETFROM:+0000
TZOFFSETTO:+0000
TZNAME:UTC
DTSTART:20180101T000000
END:STANDARD
END:VTIMEZONE
BEGIN:VEVENT
DTSTART;TZID=UTC:20190713T140000
DTEND;TZID=UTC:20190713T160000
DTSTAMP:20260423T211401
CREATED:20190128T022252Z
LAST-MODIFIED:20190413T011414Z
UID:10000484-1563026400-1563033600@halletoakgallery.com
SUMMARY:Hallet Oak Gallery Summer Show: Six Texas Artists
DESCRIPTION:  \nLinda Cejka\, Contemporary Painter \nAmanda Miller\, Art Photographer \nJames D. Phillips\, Original Wood Carvings \nGeorgia Pohl\, Mixed Media Artist \nStephanie Shroyer\, Concrete Sculptor \nGrace Walker\, Interpretive Stitchery \n  \n  \nExhibit ends July 27th.  \nHallet Oak Gallery\, 115 N. Main St.\, Hallettsville\, TX 77964  \nwww.halletoakgallery.com \n361-217-7030 \nFree \nShare this:\n				Share on Facebook (Opens in new window)\n				Facebook\n			\n				Share on X (Opens in new window)\n				X\n			\n				Share on LinkedIn (Opens in new window)\n				LinkedIn\n			\n				Share on Pinterest (Opens in new window)\n				Pinterest\n			More\n				Share on Reddit (Opens in new window)\n				Reddit\n			\n				Share on Tumblr (Opens in new window)\n				Tumblr\n			\n				Email a link to a friend (Opens in new window)\n				Email\n			\n				Print (Opens in new window)\n				Print
URL:https://halletoakgallery.com/event/quintet-art-show/
LOCATION:Hallet Oak Gallery
CATEGORIES:art,Artist Reception - Free
ATTACH;FMTTYPE=image/jpeg:https://halletoakgallery.com/wp-content/uploads/2019/01/show.jpeg
ORGANIZER;CN="Hallet Oak Gallery":MAILTO:venue@halletoakgallery.com
END:VEVENT
END:VCALENDAR