BEGIN:VCALENDAR
VERSION:2.0
PRODID:-//Hallet Oak Foundation Inc - ECPv6.15.20//NONSGML v1.0//EN
CALSCALE:GREGORIAN
METHOD:PUBLISH
X-ORIGINAL-URL:https://halletoakgallery.com
X-WR-CALDESC:Events for Hallet Oak Foundation Inc
REFRESH-INTERVAL;VALUE=DURATION:PT1H
X-Robots-Tag:noindex
X-PUBLISHED-TTL:PT1H
BEGIN:VTIMEZONE
TZID:UTC
BEGIN:STANDARD
TZOFFSETFROM:+0000
TZOFFSETTO:+0000
TZNAME:UTC
DTSTART:20180101T000000
END:STANDARD
END:VTIMEZONE
BEGIN:VEVENT
DTSTART;TZID=UTC:20190624T090000
DTEND;TZID=UTC:20190624T160000
DTSTAMP:20260423T180242
CREATED:20190617T235101Z
LAST-MODIFIED:20190617T235335Z
UID:10000520-1561366800-1561392000@halletoakgallery.com
SUMMARY:Summer Photography Camp  Mon. thru Fri.
DESCRIPTION:                                                         For ages 9 to 14 (Parents can sign-up too!) \nJune 24-28\, 2019 Monday to Friday \nMorning Class: 9:00 am to noon: Beginning Photography & Tours: How a Camera Works & How to Create Portraits. Includes snacks and water.   Parent Reception Friday 11:30am to 12:00pm. $85.00 \nAfternoon Class: noon to 4:00 pm: Includes Lunch\, Tours\, & Photography Critique. Includes snacks and water.   Parent Reception Friday 3:30 pm – 4:00pm. $85.00 \n$170.00 for both morning and afternoon classes. \nMieko Mahi\, professional photographer\, will be teaching the class. \nEmail venue@halletoakgallery.com for information and to sign up or leave a voice message at 361-217-7030. \nLimited class size. Classes are filled on a first come\, first serve basis. Please\, no refunds once class starts. Checks can be made to Hallet Oak Gallery and mailed with the form below. \n———————————————————————————————— \n  \nStudent Name: _________________________________  Student Age: _________ \nParent Name: ________________________     Parent phone: _______________________ \nParent Email: ___________________________________________________________ \nCheck Classes Selected: \n_____  $85.00-Morning Class. 9:00 am to noon \n_____    $85.00-Afternoon Class. 12:00 pm to 4:00 pm \n  \nMail to: Hallet Oak Gallery\, 115 N. Main Street\, Hallettsville\, TX 77964 \n  \n  \nShare this:\n				Share on Facebook (Opens in new window)\n				Facebook\n			\n				Share on X (Opens in new window)\n				X\n			\n				Share on LinkedIn (Opens in new window)\n				LinkedIn\n			\n				Share on Pinterest (Opens in new window)\n				Pinterest\n			More\n				Share on Reddit (Opens in new window)\n				Reddit\n			\n				Share on Tumblr (Opens in new window)\n				Tumblr\n			\n				Email a link to a friend (Opens in new window)\n				Email\n			\n				Print (Opens in new window)\n				Print
URL:https://halletoakgallery.com/event/summer-photography-camp-mon-thru-fri/
LOCATION:Hallet Oak Gallery
CATEGORIES:Photography,Summer camp for ages 9 to 14
ATTACH;FMTTYPE=image/jpeg:https://halletoakgallery.com/wp-content/uploads/2019/06/3x3photo_workshop_MG_2743.jpg
END:VEVENT
BEGIN:VEVENT
DTSTART;TZID=UTC:20190628T160000
DTEND;TZID=UTC:20190628T230000
DTSTAMP:20260423T180242
CREATED:20190517T201004Z
LAST-MODIFIED:20190523T005346Z
UID:10000518-1561737600-1561762800@halletoakgallery.com
SUMMARY:Private Booking: Gulf Bend Center
DESCRIPTION:Private booking: GBC \nShare this:\n				Share on Facebook (Opens in new window)\n				Facebook\n			\n				Share on X (Opens in new window)\n				X\n			\n				Share on LinkedIn (Opens in new window)\n				LinkedIn\n			\n				Share on Pinterest (Opens in new window)\n				Pinterest\n			More\n				Share on Reddit (Opens in new window)\n				Reddit\n			\n				Share on Tumblr (Opens in new window)\n				Tumblr\n			\n				Email a link to a friend (Opens in new window)\n				Email\n			\n				Print (Opens in new window)\n				Print
URL:https://halletoakgallery.com/event/private-booking-gulf-bend-center/
END:VEVENT
END:VCALENDAR