BEGIN:VCALENDAR
VERSION:2.0
PRODID:-//Hallet Oak Foundation Inc - ECPv6.15.20//NONSGML v1.0//EN
CALSCALE:GREGORIAN
METHOD:PUBLISH
X-ORIGINAL-URL:https://halletoakgallery.com
X-WR-CALDESC:Events for Hallet Oak Foundation Inc
REFRESH-INTERVAL;VALUE=DURATION:PT1H
X-Robots-Tag:noindex
X-PUBLISHED-TTL:PT1H
BEGIN:VTIMEZONE
TZID:UTC
BEGIN:STANDARD
TZOFFSETFROM:+0000
TZOFFSETTO:+0000
TZNAME:UTC
DTSTART:20180101T000000
END:STANDARD
END:VTIMEZONE
BEGIN:VEVENT
DTSTART;TZID=UTC:20190603T090000
DTEND;TZID=UTC:20190603T160000
DTSTAMP:20260423T180157
CREATED:20190128T013503Z
LAST-MODIFIED:20190128T013503Z
UID:10000477-1559552400-1559577600@halletoakgallery.com
SUMMARY:Photo Workshop Partnering with 4 H:  June 3rd through 5th
DESCRIPTION:Monday – Wednesday\, June 3\, 4 & 5th \nHALLETTSVILLE: Photo Workshop Partnering with 4 H \n“How a Camera Works” Hands-On Training & Walking Tours \nHallet Oak Gallery\, 115 N. Main St.\, Hallettsville\, TX 77964 \nwww.halletoakgallery.com \n$45 RSVP: 361-217-7030 Gallery or Contact Gayle Bludau at 361-798-2221 \nShare this:\n				Share on Facebook (Opens in new window)\n				Facebook\n			\n				Share on X (Opens in new window)\n				X\n			\n				Share on LinkedIn (Opens in new window)\n				LinkedIn\n			\n				Share on Pinterest (Opens in new window)\n				Pinterest\n			More\n				Share on Reddit (Opens in new window)\n				Reddit\n			\n				Share on Tumblr (Opens in new window)\n				Tumblr\n			\n				Email a link to a friend (Opens in new window)\n				Email\n			\n				Print (Opens in new window)\n				Print
URL:https://halletoakgallery.com/event/photo-workshop-partnering-with-4-h-june-3rd-through-5th/
LOCATION:Hallet Oak Gallery
CATEGORIES:4 H,Photography
ATTACH;FMTTYPE=image/jpeg:https://halletoakgallery.com/wp-content/uploads/2019/01/web5x7_hog_photo_workshop_IMG_1163-1.jpg
ORGANIZER;CN="Hallet Oak Gallery":MAILTO:venue@halletoakgallery.com
END:VEVENT
BEGIN:VEVENT
DTSTART;TZID=UTC:20190604T010000
DTEND;TZID=UTC:20190604T200000
DTSTAMP:20260423T180157
CREATED:20190128T044217Z
LAST-MODIFIED:20190128T044217Z
UID:10000286-1559610000-1559678400@halletoakgallery.com
SUMMARY:Every Tuesday\, June 4th through 25th: Michael Windberg Workshops
DESCRIPTION:Every Tuesday\, June 4th through 25th \nHALLETTSVILLE: Michael Windberg Oil Painting Workshops \n1:00 PM – 4:00 PM & 5:00 PM – 8:00 PM $35 \nHallet Oak Gallery\, 115 N. Main St.\, Hallettsville\, TX 77964 www.halletoakgallery.com 361-217-7030 \nFree \nShare this:\n				Share on Facebook (Opens in new window)\n				Facebook\n			\n				Share on X (Opens in new window)\n				X\n			\n				Share on LinkedIn (Opens in new window)\n				LinkedIn\n			\n				Share on Pinterest (Opens in new window)\n				Pinterest\n			More\n				Share on Reddit (Opens in new window)\n				Reddit\n			\n				Share on Tumblr (Opens in new window)\n				Tumblr\n			\n				Email a link to a friend (Opens in new window)\n				Email\n			\n				Print (Opens in new window)\n				Print
URL:https://halletoakgallery.com/event/every-tuesday-june-4th-through-25th-michael-windberg-workshops/
LOCATION:Hallet Oak Gallery
CATEGORIES:art,Art Lessons,Michael Windberg Oil Painting Workshop
ATTACH;FMTTYPE=image/jpeg:https://halletoakgallery.com/wp-content/uploads/2018/02/webIMG_0683.jpg
ORGANIZER;CN="Michael Windberg - Artist":MAILTO:mnwindberg@gmail.com
END:VEVENT
BEGIN:VEVENT
DTSTART;TZID=UTC:20190604T163000
DTEND;TZID=UTC:20190604T180000
DTSTAMP:20260423T180157
CREATED:20190128T043934Z
LAST-MODIFIED:20190128T043934Z
UID:10000284-1559665800-1559671200@halletoakgallery.com
SUMMARY:FHDR MEETING
DESCRIPTION:June 4\, 2019\, First Tuesday of Every Month  \nHALLETTSVILLE: Friends of Hallettsville Downtown Revitalization (FHDR) \nDress: Casual. Refreshments will be served. \n4:30 PM to 6 PM \nHallet Oak Gallery\, 115 N. Main St.\, Hallettsville\, TX 77964 www.halletoakgallery.com 361-217-7030 \nFree. Membership not required. \nShare this:\n				Share on Facebook (Opens in new window)\n				Facebook\n			\n				Share on X (Opens in new window)\n				X\n			\n				Share on LinkedIn (Opens in new window)\n				LinkedIn\n			\n				Share on Pinterest (Opens in new window)\n				Pinterest\n			More\n				Share on Reddit (Opens in new window)\n				Reddit\n			\n				Share on Tumblr (Opens in new window)\n				Tumblr\n			\n				Email a link to a friend (Opens in new window)\n				Email\n			\n				Print (Opens in new window)\n				Print
URL:https://halletoakgallery.com/event/fhdr-meeting-3/
LOCATION:Hallet Oak Gallery
ATTACH;FMTTYPE=image/jpeg:https://halletoakgallery.com/wp-content/uploads/2017/01/foundation_seal_small.jpg
END:VEVENT
BEGIN:VEVENT
DTSTART;TZID=UTC:20190606T110000
DTEND;TZID=UTC:20190606T170000
DTSTAMP:20260423T180157
CREATED:20190128T013915Z
LAST-MODIFIED:20190128T013915Z
UID:10000478-1559818800-1559840400@halletoakgallery.com
SUMMARY:Deadline for Contest Drop Off 11 AM - 5 PM
DESCRIPTION:Thursday\, June 6th  \nHALLETTSVILLE: Deadline for Art in Architecture Contest Drop Off 11 – 5 PM \nAdult $20 & Youths $10   Best of show wins $200. Details: www.halletoakgallery.com \nHallet Oak Gallery\, 115 N. Main St.\, Hallettsville\, TX 77964 \n361-217-7030 www.halletoakgallery.com \nShare this:\n				Share on Facebook (Opens in new window)\n				Facebook\n			\n				Share on X (Opens in new window)\n				X\n			\n				Share on LinkedIn (Opens in new window)\n				LinkedIn\n			\n				Share on Pinterest (Opens in new window)\n				Pinterest\n			More\n				Share on Reddit (Opens in new window)\n				Reddit\n			\n				Share on Tumblr (Opens in new window)\n				Tumblr\n			\n				Email a link to a friend (Opens in new window)\n				Email\n			\n				Print (Opens in new window)\n				Print
URL:https://halletoakgallery.com/event/deadline-for-contest-drop-off-11-am-5-pm/
CATEGORIES:Art Contest
ATTACH;FMTTYPE=image/jpeg:https://halletoakgallery.com/wp-content/uploads/2018/06/4x6_dorothy_bujnoch_IMG_7927_1.jpg
ORGANIZER;CN="Hallet Oak Gallery":MAILTO:venue@halletoakgallery.com
END:VEVENT
BEGIN:VEVENT
DTSTART;TZID=UTC:20190607T190000
DTEND;TZID=UTC:20190607T210000
DTSTAMP:20260423T180157
CREATED:20190128T014708Z
LAST-MODIFIED:20190128T014750Z
UID:10000479-1559934000-1559941200@halletoakgallery.com
SUMMARY:Live Music $15
DESCRIPTION:$15 for live music or $25 to attend two-day conference: \nFriday & Saturday\, June 7th and 8th  \nHALLETTSVILLE: Art in Architecture Partnering w/Texas Society of Architects \nBook Signing & Courthouse Tours 9 AM to 10 AM – Both days \nFriday Live Old Time Mountain Music: 7 PM to 9 PM $15 \nSaturday Speakers: noon to 3 PM. \nOliver McCrae\, Past\, Present & Future and Doug Kubicek; Courthouse Artisans \nContest Awards Presentation: 3:30 PM \nHallet Oak Gallery\, 115 N. Main St.\, Hallettsville\, TX 77964 www.halletoakgallery.com 361-217-7030 \n$25 RSVP: 361-217-7030 Walk-ins welcome\, bring own lunch. \nShare this:\n				Share on Facebook (Opens in new window)\n				Facebook\n			\n				Share on X (Opens in new window)\n				X\n			\n				Share on LinkedIn (Opens in new window)\n				LinkedIn\n			\n				Share on Pinterest (Opens in new window)\n				Pinterest\n			More\n				Share on Reddit (Opens in new window)\n				Reddit\n			\n				Share on Tumblr (Opens in new window)\n				Tumblr\n			\n				Email a link to a friend (Opens in new window)\n				Email\n			\n				Print (Opens in new window)\n				Print
URL:https://halletoakgallery.com/event/live-music-15/
CATEGORIES:Live Music
ATTACH;FMTTYPE=image/jpeg:https://halletoakgallery.com/wp-content/uploads/2019/01/webguitar_carolyn_arlington_MG_3265.jpg
END:VEVENT
BEGIN:VEVENT
DTSTART;TZID=UTC:20190607T190000
DTEND;TZID=UTC:20190607T210000
DTSTAMP:20260423T180157
CREATED:20190128T015035Z
LAST-MODIFIED:20190517T173232Z
UID:10000480-1559934000-1559941200@halletoakgallery.com
SUMMARY:Art in Architecture Conference & Contest - Day 1 or 2
DESCRIPTION:Click here to download forms and information on conference and art contest: \n201900516_conference_pr \n \n  \n  \n  \n  \n  \n \n  \n  \n  \n  \n  \nFriday\, June 7th  \nHALLETTSVILLE: Art in Architecture Conference \nCourthouse Tours 4 PM to 5 PM \nLive Music: Old Time Mountain Music (Pre-Bluegrass): 7 PM to 9 PM \nCarolyn Arrington (fiddle)\, Marianne Drabak (bass)\, Jim Doyle (guitar) and \nJoyce Doyle (banjo). \n$15 or the conference ticket for two days is $35 RSVP 361-217-7030 \n  \nSaturday\, June 8 th    \nHALLETTSVILLE: Art in Architecture Conference \nBook signing and Courthouse Tours 9 AM to 10 AM \nSpeaker Presentations: 11:30 Registration. \nNoon to 1 PM Past\, Present & Future by Oliver McRae \n1 to 2 PM 1850 Lavaca County by Doug Kubicek\, Author/Historian \nArt in Architecture Contest Awards Presentation: 3:00 PM – 3:30 PM \nBest of Show wins $200 \nHallet Oak Gallery\, 115 N. Main St.\, Hallettsville\, TX 77964 www.halletoakgallery.com 361-217-7030 \n$35 RSVP: 361-217-7030 Walk-ins welcome\, bring own lunch. \n  \nShare this:\n				Share on Facebook (Opens in new window)\n				Facebook\n			\n				Share on X (Opens in new window)\n				X\n			\n				Share on LinkedIn (Opens in new window)\n				LinkedIn\n			\n				Share on Pinterest (Opens in new window)\n				Pinterest\n			More\n				Share on Reddit (Opens in new window)\n				Reddit\n			\n				Share on Tumblr (Opens in new window)\n				Tumblr\n			\n				Email a link to a friend (Opens in new window)\n				Email\n			\n				Print (Opens in new window)\n				Print
URL:https://halletoakgallery.com/event/art-in-architecture-conference-to-be-announced/
CATEGORIES:Architecture,Art in Architecture Conference - Annual
ATTACH;FMTTYPE=image/jpeg:https://halletoakgallery.com/wp-content/uploads/2019/01/webOliver-McRae-Photo.jpg
ORGANIZER;CN="Hallet Oak Gallery":MAILTO:venue@halletoakgallery.com
END:VEVENT
BEGIN:VEVENT
DTSTART;TZID=UTC:20190608T090000
DTEND;TZID=UTC:20190608T160000
DTSTAMP:20260423T180157
CREATED:20190201T060744Z
LAST-MODIFIED:20190516T222457Z
UID:10000511-1559984400-1560009600@halletoakgallery.com
SUMMARY:Art in Architecture - Day 2 of 2
DESCRIPTION:Dr. Oliver McRae will be speaking on Architecture and Art Past\, Present & Future – A Changing Relationship.\nImpact of Railroads was presented in 2018 by Doug Kubicek\, Author “Grand\, Complete\, and Perfect: The Lavaca County Courthouse”. This year he will speak on “1850 Lavaca County”.\n  \n  \n  \n  \n  \n  \n  \nClick here to download information and forms for conference and contest: \n201900516_conference_pr \n  \nHALLETTSVILLE: Art in Architecture Conference \nBook signing and Courthouse Tours 9 AM to 10 AM \nSpeaker Presentations: 11:30 Registration. \nNoon to 1 PM Past\, Present & Future by Dr. Oliver McRae\, Art Historian \n1 to 2 PM 1850 Lavaca County by Doug Kubicek\, Author/Historian \nArt in Architecture Contest Awards Presentation: 3:00 PM – 3:30 PM \nBest of Show wins $200 (To enter art contest –  see details for Friday entry drop off.) \nHallet Oak Gallery\, 115 N. Main St.\, Hallettsville\, TX 77964 www.halletoakgallery.com 361-217-7030 \n$35 RSVP: 361-217-7030 Walk-ins welcome\, bring own lunch. This fee includes live Old Time Appalachian – Pre-bluegrass music planned for the night before on Friday\, June 7\, 2019. \nAbout: Dr. Oliver McRae \nDr. McRae is an unusual hybrid of Scholar and Artist. For two decades he was a university Art Historian with scholarship published in four languages. \nFor four decades he’s been a professional commission artist\, with sculptures and paintings in various public and private institutions and collections. \nHis prime area of ongoing scholarship is the collaborative\, intermingling integration of Architecture\, Art and Society – as the pinnacle of Civilization. \nConsidered a “Futurist”\, Dr. McRae has been consulting with industry leaders for two decades. His presentations and workshops build on the strengths of the Past and the Present in charting the trends\, and locating the hotspot potential just ahead in both the near and long term Future. \n  \nAbout Doug Kubicek \nDoug has had a life-long love of Texas history\, especially of Lavaca County. As a child he explored fields\, bridges\, and graveyards\, bringing home arrowheads\, broken glass and other artifacts. Teaching for over 27 years\, he received the Linden Heck Howell Outstanding Teaching of Texas History Award in 2011. \n  \n  \nShare this:\n				Share on Facebook (Opens in new window)\n				Facebook\n			\n				Share on X (Opens in new window)\n				X\n			\n				Share on LinkedIn (Opens in new window)\n				LinkedIn\n			\n				Share on Pinterest (Opens in new window)\n				Pinterest\n			More\n				Share on Reddit (Opens in new window)\n				Reddit\n			\n				Share on Tumblr (Opens in new window)\n				Tumblr\n			\n				Email a link to a friend (Opens in new window)\n				Email\n			\n				Print (Opens in new window)\n				Print
URL:https://halletoakgallery.com/event/art-in-architecture-day-2/
ATTACH;FMTTYPE=image/jpeg:https://halletoakgallery.com/wp-content/uploads/2019/01/web2x2IMG_8162-1.jpg
END:VEVENT
END:VCALENDAR