BEGIN:VCALENDAR
VERSION:2.0
PRODID:-//Hallet Oak Foundation Inc - ECPv6.15.20//NONSGML v1.0//EN
CALSCALE:GREGORIAN
METHOD:PUBLISH
X-ORIGINAL-URL:https://halletoakgallery.com
X-WR-CALDESC:Events for Hallet Oak Foundation Inc
REFRESH-INTERVAL;VALUE=DURATION:PT1H
X-Robots-Tag:noindex
X-PUBLISHED-TTL:PT1H
BEGIN:VTIMEZONE
TZID:UTC
BEGIN:STANDARD
TZOFFSETFROM:+0000
TZOFFSETTO:+0000
TZNAME:UTC
DTSTART:20180101T000000
END:STANDARD
END:VTIMEZONE
BEGIN:VEVENT
DTSTART;TZID=UTC:20190601T140000
DTEND;TZID=UTC:20190601T160000
DTSTAMP:20260423T180231
CREATED:20190522T062455Z
LAST-MODIFIED:20190522T062455Z
UID:10000519-1559397600-1559404800@halletoakgallery.com
SUMMARY:Rebecca Ponton Book Signing: Breaking the Gas Ceiling
DESCRIPTION:Hallet Oak Gallery will host a book signing on Saturday\, June 1\, 2019\, for Breaking the GAS Ceiling: Women in the Offshore Oil & Gas Industry\, by San Antonio author Rebecca Ponton. The book features profiles of 23 women\, many of whom have achieved “firsts” in their fields and have made significant contributions to the offshore oil and gas industry. Interviewees include all five women who have been inducted into the Offshore Energy Center Hall of Fame in Houston\, Texas\, as well as Mieko Mahi\, freelance petroleum photographer/videographer\, who is also Executive Director of Hallet Oak Gallery\, and former Schulenburg resident\, ocean engineering major Alyssa Michalke\, the first female Commander of the Texas A & M Corps of Cadets. To learn more\, visit www.breakingthegasceiling.com. \nThe book signing will take place from 2:00 PM to 4:00 PM at the Hallet Oak Gallery\, Kahn & Stanzel Bldg.\, 115 N. Main St.\, Hallettsville. Admission is free. \n  \n \nShare this:\n				Share on Facebook (Opens in new window)\n				Facebook\n			\n				Share on X (Opens in new window)\n				X\n			\n				Share on LinkedIn (Opens in new window)\n				LinkedIn\n			\n				Share on Pinterest (Opens in new window)\n				Pinterest\n			More\n				Share on Reddit (Opens in new window)\n				Reddit\n			\n				Share on Tumblr (Opens in new window)\n				Tumblr\n			\n				Email a link to a friend (Opens in new window)\n				Email\n			\n				Print (Opens in new window)\n				Print
URL:https://halletoakgallery.com/event/rebecca-ponton-book-signing-breaking-the-gas-ceiling/
LOCATION:Hallet Oak Gallery
CATEGORIES:Book Signing,STEAM Art Activity
ATTACH;FMTTYPE=image/jpeg:https://halletoakgallery.com/wp-content/uploads/2019/05/4x4_web_Ponton-Rebecca-author-photo-copy-04042019-e1558488400737.jpg
ORGANIZER;CN="Hallet Oak Gallery":MAILTO:venue@halletoakgallery.com
END:VEVENT
END:VCALENDAR