BEGIN:VCALENDAR
VERSION:2.0
PRODID:-//Hallet Oak Foundation Inc - ECPv6.15.20//NONSGML v1.0//EN
CALSCALE:GREGORIAN
METHOD:PUBLISH
X-WR-CALNAME:Hallet Oak Foundation Inc
X-ORIGINAL-URL:https://halletoakgallery.com
X-WR-CALDESC:Events for Hallet Oak Foundation Inc
REFRESH-INTERVAL;VALUE=DURATION:PT1H
X-Robots-Tag:noindex
X-PUBLISHED-TTL:PT1H
BEGIN:VTIMEZONE
TZID:UTC
BEGIN:STANDARD
TZOFFSETFROM:+0000
TZOFFSETTO:+0000
TZNAME:UTC
DTSTART:20180101T000000
END:STANDARD
END:VTIMEZONE
BEGIN:VEVENT
DTSTART;TZID=UTC:20190113T140000
DTEND;TZID=UTC:20190113T160000
DTSTAMP:20260423T224552
CREATED:20180906T233644Z
LAST-MODIFIED:20190122T031030Z
UID:10000391-1547388000-1547395200@halletoakgallery.com
SUMMARY:Spotlight on the Arts featuring Debbie Halling\, Contemporary Oil Painter
DESCRIPTION:January 13\, 2019 @ 2:00 pm – 4:00 pm Opening reception for artist’s exhibition thru Jan. 31st.Exhibit ends January 26th.   \nHallet Oak Gallery\, Downtown Hallettsville\, 361-217-7030   www.halletoakgallery.com \nFree \nShare this:\n				Share on Facebook (Opens in new window)\n				Facebook\n			\n				Share on X (Opens in new window)\n				X\n			\n				Share on LinkedIn (Opens in new window)\n				LinkedIn\n			\n				Share on Pinterest (Opens in new window)\n				Pinterest\n			More\n				Share on Reddit (Opens in new window)\n				Reddit\n			\n				Share on Tumblr (Opens in new window)\n				Tumblr\n			\n				Email a link to a friend (Opens in new window)\n				Email\n			\n				Print (Opens in new window)\n				Print
URL:https://halletoakgallery.com/event/spotlight-on-the-arts-featuring-debbie-halling-contemporary-oil-painter/
LOCATION:Hallet Oak Gallery
CATEGORIES:art,Art Exhibit & Reception,Spotlight on the Arts
ATTACH;FMTTYPE=image/jpeg:https://halletoakgallery.com/wp-content/uploads/2018/09/web_debra_halling_IMG_4434.jpg
ORGANIZER;CN="Hallet Oak Gallery":MAILTO:venue@halletoakgallery.com
END:VEVENT
END:VCALENDAR