BEGIN:VCALENDAR
VERSION:2.0
PRODID:-//Hallet Oak Foundation Inc - ECPv6.15.20//NONSGML v1.0//EN
CALSCALE:GREGORIAN
METHOD:PUBLISH
X-WR-CALNAME:Hallet Oak Foundation Inc
X-ORIGINAL-URL:https://halletoakgallery.com
X-WR-CALDESC:Events for Hallet Oak Foundation Inc
REFRESH-INTERVAL;VALUE=DURATION:PT1H
X-Robots-Tag:noindex
X-PUBLISHED-TTL:PT1H
BEGIN:VTIMEZONE
TZID:UTC
BEGIN:STANDARD
TZOFFSETFROM:+0000
TZOFFSETTO:+0000
TZNAME:UTC
DTSTART:20180101T000000
END:STANDARD
END:VTIMEZONE
BEGIN:VEVENT
DTSTART;TZID=UTC:20190103T080000
DTEND;TZID=UTC:20190103T170000
DTSTAMP:20260424T001148
CREATED:20171031T182618Z
LAST-MODIFIED:20180908T063944Z
UID:10000200-1546502400-1546534800@halletoakgallery.com
SUMMARY:Deadline to RSVP for Gala by leaving message at 361-217-7030.
DESCRIPTION: Only 50 tickets will be sold. For details for the upcoming Saturday\, January 5\, 2018 Gala\, visit www.halletoakgallery.com calendar. \nShare this:\n				Share on Facebook (Opens in new window)\n				Facebook\n			\n				Share on X (Opens in new window)\n				X\n			\n				Share on LinkedIn (Opens in new window)\n				LinkedIn\n			\n				Share on Pinterest (Opens in new window)\n				Pinterest\n			More\n				Share on Reddit (Opens in new window)\n				Reddit\n			\n				Share on Tumblr (Opens in new window)\n				Tumblr\n			\n				Email a link to a friend (Opens in new window)\n				Email\n			\n				Print (Opens in new window)\n				Print
URL:https://halletoakgallery.com/event/absolute-deadline-to-rsvp-for-gala-by-phone-361-217-7030/
END:VEVENT
BEGIN:VEVENT
DTSTART;TZID=UTC:20190104T160000
DTEND;TZID=UTC:20190104T190000
DTSTAMP:20260424T001148
CREATED:20171031T181223Z
LAST-MODIFIED:20180908T064223Z
UID:10000198-1546617600-1546628400@halletoakgallery.com
SUMMARY:Silent Auction drop-off 4 p.m. to 7 p.m. or open hours before event
DESCRIPTION:Silent Auction drop-off 4 p.m. to 7 p.m. or during open hours before event\nWe appreciate your donations. \nShare this:\n				Share on Facebook (Opens in new window)\n				Facebook\n			\n				Share on X (Opens in new window)\n				X\n			\n				Share on LinkedIn (Opens in new window)\n				LinkedIn\n			\n				Share on Pinterest (Opens in new window)\n				Pinterest\n			More\n				Share on Reddit (Opens in new window)\n				Reddit\n			\n				Share on Tumblr (Opens in new window)\n				Tumblr\n			\n				Email a link to a friend (Opens in new window)\n				Email\n			\n				Print (Opens in new window)\n				Print
URL:https://halletoakgallery.com/event/silent-auction-drop-off-4-p-m-to-7-p-m-or-open-hours-before-event/
ATTACH;FMTTYPE=image/jpeg:https://halletoakgallery.com/wp-content/uploads/2017/01/foundation_seal_small.jpg
END:VEVENT
BEGIN:VEVENT
DTSTART;TZID=UTC:20190105T183000
DTEND;TZID=UTC:20190105T213000
DTSTAMP:20260424T001148
CREATED:20171031T181358Z
LAST-MODIFIED:20180908T064647Z
UID:10000199-1546713000-1546723800@halletoakgallery.com
SUMMARY:Hallet Oak Gallery Fundraiser Gala - Pre-purchase tickets in advance only
DESCRIPTION:January 5\, 2019 @ 6:30 pm – 9:30 pm Dinner\, dancing\, live auction\, live music featuring Chris Rybak. Limited Seating. Only 50 tickets will be sold. Deadline to purchase tickets is January 3rd. \n$50.00 \nShare this:\n				Share on Facebook (Opens in new window)\n				Facebook\n			\n				Share on X (Opens in new window)\n				X\n			\n				Share on LinkedIn (Opens in new window)\n				LinkedIn\n			\n				Share on Pinterest (Opens in new window)\n				Pinterest\n			More\n				Share on Reddit (Opens in new window)\n				Reddit\n			\n				Share on Tumblr (Opens in new window)\n				Tumblr\n			\n				Email a link to a friend (Opens in new window)\n				Email\n			\n				Print (Opens in new window)\n				Print
URL:https://halletoakgallery.com/event/hallet-oak-gallery-fundraiser-gala-r-s-v-p/
CATEGORIES:Fundraising
ATTACH;FMTTYPE=image/jpeg:https://halletoakgallery.com/wp-content/uploads/2017/01/foundation_seal_small.jpg
ORGANIZER;CN="Hallet Oak Gallery":MAILTO:venue@halletoakgallery.com
END:VEVENT
END:VCALENDAR