BEGIN:VCALENDAR
VERSION:2.0
PRODID:-//Hallet Oak Foundation Inc - ECPv6.15.20//NONSGML v1.0//EN
CALSCALE:GREGORIAN
METHOD:PUBLISH
X-ORIGINAL-URL:https://halletoakgallery.com
X-WR-CALDESC:Events for Hallet Oak Foundation Inc
REFRESH-INTERVAL;VALUE=DURATION:PT1H
X-Robots-Tag:noindex
X-PUBLISHED-TTL:PT1H
BEGIN:VTIMEZONE
TZID:UTC
BEGIN:STANDARD
TZOFFSETFROM:+0000
TZOFFSETTO:+0000
TZNAME:UTC
DTSTART:20170101T000000
END:STANDARD
END:VTIMEZONE
BEGIN:VEVENT
DTSTART;TZID=UTC:20181010T140000
DTEND;TZID=UTC:20181010T153000
DTSTAMP:20260424T062144
CREATED:20171031T174622Z
LAST-MODIFIED:20171031T174622Z
UID:10000360-1539180000-1539185400@halletoakgallery.com
SUMMARY:SHCS Tour
DESCRIPTION:SHCS Spooktacular Tunnel Decoration 2 to 3:30 \nShare this:\n				Share on Facebook (Opens in new window)\n				Facebook\n			\n				Share on X (Opens in new window)\n				X\n			\n				Share on LinkedIn (Opens in new window)\n				LinkedIn\n			\n				Share on Pinterest (Opens in new window)\n				Pinterest\n			More\n				Share on Reddit (Opens in new window)\n				Reddit\n			\n				Share on Tumblr (Opens in new window)\n				Tumblr\n			\n				Email a link to a friend (Opens in new window)\n				Email\n			\n				Print (Opens in new window)\n				Print
URL:https://halletoakgallery.com/event/shcs-tour/
CATEGORIES:School Tour and Demo
ATTACH;FMTTYPE=image/jpeg:https://halletoakgallery.com/wp-content/uploads/2015/04/IMG_1932-1.jpg
END:VEVENT
BEGIN:VEVENT
DTSTART;TZID=UTC:20181012T190000
DTEND;TZID=UTC:20181012T210000
DTSTAMP:20260424T062144
CREATED:20180118T103304Z
LAST-MODIFIED:20180908T061225Z
UID:10000211-1539370800-1539378000@halletoakgallery.com
SUMMARY:Sip & Paint with Linda Cejka - "Owl" Acrylic Painting
DESCRIPTION:Sip & Paint with Linda Cejka\n\nOctober 12 @ 7:00 pm – 9:00 pm\n$25.00 \n\nSIP & PAINT AT THE GALLERY: Friday\, October 12\, 2018\, 7 – 9 PM \nOPEN TO THE PUBLIC:  $25 RSVP by phone & pay at the door   \nOn Friday\, October 12\, 2018\, Linda Cejka\, the Gallery’s Outreach Director\, will be demonstrating live techniques creating “Owls” for a “Sip & Paint at the Gallery” event.  Join us for a fun night of painting. Doors open at 6:30 and painting begins at 7:00 PM to 9:00 PM. \nMake this a family outing – children welcome!  Plan a Girls or Guys night out and invite your friends! The cost is $25 for adults and free for children under 14 years old. Children must be accompanied by a family member. Paints\, brushes and canvas will be supplied. RSVP 361-217-7030.  Last minute walk-ins are always welcome. \nLinda Cejka has an MBA from Our Lady of the Lake University and enjoys teaching arts and crafts to all ages from children to adults. Hallet Oak Gallery is located in the famous Kahn & Stanzel Bldg.\, 115 N. Main St.\, Hallettsville\, TX\, 77964. See other calendar-of-events at www.halletoakgallery.com. \n  \n  \n  \n  \nShare this:\n				Share on Facebook (Opens in new window)\n				Facebook\n			\n				Share on X (Opens in new window)\n				X\n			\n				Share on LinkedIn (Opens in new window)\n				LinkedIn\n			\n				Share on Pinterest (Opens in new window)\n				Pinterest\n			More\n				Share on Reddit (Opens in new window)\n				Reddit\n			\n				Share on Tumblr (Opens in new window)\n				Tumblr\n			\n				Email a link to a friend (Opens in new window)\n				Email\n			\n				Print (Opens in new window)\n				Print
URL:https://halletoakgallery.com/event/sip-paint-with-linda-cejka-2/
LOCATION:Hallet Oak Gallery
CATEGORIES:Art Lessons,date night,Sip & Paint,Sip & Paint - A Night at the Gallery
ATTACH;FMTTYPE=image/jpeg:https://halletoakgallery.com/wp-content/uploads/2018/01/web_Linda_Cejka_owl-e1532671918615.jpg
ORGANIZER;CN="Hallet Oak Gallery":MAILTO:venue@halletoakgallery.com
END:VEVENT
BEGIN:VEVENT
DTSTART;TZID=UTC:20181013T100000
DTEND;TZID=UTC:20181013T113000
DTSTAMP:20260424T062144
CREATED:20181004T182111Z
LAST-MODIFIED:20181004T182111Z
UID:10000424-1539424800-1539430200@halletoakgallery.com
SUMMARY:FREE STEAM ACTIVITY FOR YOUTH AND TEENS
DESCRIPTION:October 13: \nStudents and Home Students may participate in STEAM for free! \nSTEAM Youth (Pre K to 4 Grade) 10:00 am to 11:00 am. Paint with acrylics on rocks or Open Studio with crayons and coloring books. \nSTEAM Teens (5th to 8th Grade) 11:00 am to noon. Paint with acrylics on rocks or Open Studio with color pencils and drawing paper. \nWalk-ins are always welcomed. RSVP to help us have a count for supplies–  by leaving voice message at 361-217-7030 or email linda@halletoakgallery.com. \nShare this:\n				Share on Facebook (Opens in new window)\n				Facebook\n			\n				Share on X (Opens in new window)\n				X\n			\n				Share on LinkedIn (Opens in new window)\n				LinkedIn\n			\n				Share on Pinterest (Opens in new window)\n				Pinterest\n			More\n				Share on Reddit (Opens in new window)\n				Reddit\n			\n				Share on Tumblr (Opens in new window)\n				Tumblr\n			\n				Email a link to a friend (Opens in new window)\n				Email\n			\n				Print (Opens in new window)\n				Print
URL:https://halletoakgallery.com/event/free-steam-activity-for-youth-and-teens/
LOCATION:Hallet Oak Gallery
CATEGORIES:Art Lessons,STEAM Art Activity
ATTACH;FMTTYPE=image/jpeg:https://halletoakgallery.com/wp-content/uploads/2018/09/school_project_still_art_by_linda_cejka.jpeg
ORGANIZER;CN="Hallet Oak Gallery":MAILTO:venue@halletoakgallery.com
END:VEVENT
END:VCALENDAR