BEGIN:VCALENDAR
VERSION:2.0
PRODID:-//Hallet Oak Foundation Inc - ECPv6.15.20//NONSGML v1.0//EN
CALSCALE:GREGORIAN
METHOD:PUBLISH
X-WR-CALNAME:Hallet Oak Foundation Inc
X-ORIGINAL-URL:https://halletoakgallery.com
X-WR-CALDESC:Events for Hallet Oak Foundation Inc
REFRESH-INTERVAL;VALUE=DURATION:PT1H
X-Robots-Tag:noindex
X-PUBLISHED-TTL:PT1H
BEGIN:VTIMEZONE
TZID:UTC
BEGIN:STANDARD
TZOFFSETFROM:+0000
TZOFFSETTO:+0000
TZNAME:UTC
DTSTART:20170101T000000
END:STANDARD
END:VTIMEZONE
BEGIN:VEVENT
DTSTART;TZID=UTC:20180922T080000
DTEND;TZID=UTC:20180922T093000
DTSTAMP:20260425T090732
CREATED:20180905T040539Z
LAST-MODIFIED:20180908T060854Z
UID:10000389-1537603200-1537608600@halletoakgallery.com
SUMMARY:Beautification Day
DESCRIPTION:Plan to meet at the Gallery at 8:00 am. Projects will be only 45 minutes\, so we’ll be finished by 9:30 am. Environment clean-up activities are planned in the city for adults. Earth-friendly crafts are provided inside the Gallery for children under the age of 14. Outside volunteers – wear jeans\, boots\, and long sleeves. Bring gloves and sunglasses.  \nShare this:\n				Share on Facebook (Opens in new window)\n				Facebook\n			\n				Share on X (Opens in new window)\n				X\n			\n				Share on LinkedIn (Opens in new window)\n				LinkedIn\n			\n				Share on Pinterest (Opens in new window)\n				Pinterest\n			More\n				Share on Reddit (Opens in new window)\n				Reddit\n			\n				Share on Tumblr (Opens in new window)\n				Tumblr\n			\n				Email a link to a friend (Opens in new window)\n				Email\n			\n				Print (Opens in new window)\n				Print
URL:https://halletoakgallery.com/event/beautification-day/
CATEGORIES:Beautification Day
ATTACH;FMTTYPE=image/jpeg:https://halletoakgallery.com/wp-content/uploads/2018/08/flower_nature_MG_2817.jpg
END:VEVENT
BEGIN:VEVENT
DTSTART;TZID=UTC:20180923T110000
DTEND;TZID=UTC:20180923T130000
DTSTAMP:20260425T090732
CREATED:20180809T183245Z
LAST-MODIFIED:20180809T183245Z
UID:10000221-1537700400-1537707600@halletoakgallery.com
SUMMARY:Private Booking: M.S.
DESCRIPTION:Private Booking: M.S. \nShare this:\n				Share on Facebook (Opens in new window)\n				Facebook\n			\n				Share on X (Opens in new window)\n				X\n			\n				Share on LinkedIn (Opens in new window)\n				LinkedIn\n			\n				Share on Pinterest (Opens in new window)\n				Pinterest\n			More\n				Share on Reddit (Opens in new window)\n				Reddit\n			\n				Share on Tumblr (Opens in new window)\n				Tumblr\n			\n				Email a link to a friend (Opens in new window)\n				Email\n			\n				Print (Opens in new window)\n				Print
URL:https://halletoakgallery.com/event/private-booking-m-s/
END:VEVENT
END:VCALENDAR