BEGIN:VCALENDAR
VERSION:2.0
PRODID:-//Hallet Oak Foundation Inc - ECPv6.15.20//NONSGML v1.0//EN
CALSCALE:GREGORIAN
METHOD:PUBLISH
X-ORIGINAL-URL:https://halletoakgallery.com
X-WR-CALDESC:Events for Hallet Oak Foundation Inc
REFRESH-INTERVAL;VALUE=DURATION:PT1H
X-Robots-Tag:noindex
X-PUBLISHED-TTL:PT1H
BEGIN:VTIMEZONE
TZID:UTC
BEGIN:STANDARD
TZOFFSETFROM:+0000
TZOFFSETTO:+0000
TZNAME:UTC
DTSTART:20170101T000000
END:STANDARD
END:VTIMEZONE
BEGIN:VEVENT
DTSTART;TZID=UTC:20180714T140000
DTEND;TZID=UTC:20180714T160000
DTSTAMP:20260425T201752
CREATED:20180118T102346Z
LAST-MODIFIED:20180630T002856Z
UID:10000209-1531576800-1531584000@halletoakgallery.com
SUMMARY:Hallet Oak Gallery Spotlight on the Arts featuring Steven Pituch\, art photographer
DESCRIPTION:Free reception \n2 PM to 4 PM \nSteven Pituch – Art Photographer \nSteve Pituch has been serious about his photography for over 50 years. Specializing in both digital and film\, Pituch enjoys the noir quality of black and white film\, using cameras and lenses that are often more than 30 years old. Pituch’s favorite film format is 4” by 5” sheet film\, which requires a traditional view camera complete with bellows\, focusing cloth\, and viewing ground glass. He prefers to print his own work\, and uses the finest archival materials available. A recently retired engineer\, he looks forward to making photographic portraits of people and animals in a variety of environments. “If I can cause an emotional impact in someone viewing one of my photographs\, which may very well mimic the feelings that I had when I pressed the shutter\, then my efforts in creating that image will have been worthwhile.” \n  \nShare this:\n				Share on Facebook (Opens in new window)\n				Facebook\n			\n				Share on X (Opens in new window)\n				X\n			\n				Share on LinkedIn (Opens in new window)\n				LinkedIn\n			\n				Share on Pinterest (Opens in new window)\n				Pinterest\n			More\n				Share on Reddit (Opens in new window)\n				Reddit\n			\n				Share on Tumblr (Opens in new window)\n				Tumblr\n			\n				Email a link to a friend (Opens in new window)\n				Email\n			\n				Print (Opens in new window)\n				Print
URL:https://halletoakgallery.com/event/hallet-oak-gallery-spotlight-on-the-arts-featuring-steven-pituch/
CATEGORIES:Art Exhibit & Reception,Spotlight on the Arts
ATTACH;FMTTYPE=image/jpeg:https://halletoakgallery.com/wp-content/uploads/2018/01/web_steve_pituch_horses_.jpg
ORGANIZER;CN="Hallet Oak Gallery":MAILTO:venue@halletoakgallery.com
END:VEVENT
END:VCALENDAR