BEGIN:VCALENDAR
VERSION:2.0
PRODID:-//Hallet Oak Foundation Inc - ECPv6.15.20//NONSGML v1.0//EN
CALSCALE:GREGORIAN
METHOD:PUBLISH
X-WR-CALNAME:Hallet Oak Foundation Inc
X-ORIGINAL-URL:https://halletoakgallery.com
X-WR-CALDESC:Events for Hallet Oak Foundation Inc
REFRESH-INTERVAL;VALUE=DURATION:PT1H
X-Robots-Tag:noindex
X-PUBLISHED-TTL:PT1H
BEGIN:VTIMEZONE
TZID:UTC
BEGIN:STANDARD
TZOFFSETFROM:+0000
TZOFFSETTO:+0000
TZNAME:UTC
DTSTART:20170101T000000
END:STANDARD
END:VTIMEZONE
BEGIN:VEVENT
DTSTART;TZID=UTC:20180619T190000
DTEND;TZID=UTC:20180619T210000
DTSTAMP:20260425T153332
CREATED:20171031T092139Z
LAST-MODIFIED:20180509T222428Z
UID:10000358-1529434800-1529442000@halletoakgallery.com
SUMMARY:Juneteenth Celebration featuring Spotlight Artist: Gene Grant\, oil painter
DESCRIPTION:Open House Juneteenth Celebration – Free to the Public 7 p.m. to 9 p.m. \nJUNETEENTH EVENING ARTIST RECEPTION \nRetrospect of Freedom \nBy Gene Grant\, Oil-Painter Artist  \n  \nThe Hallet Oak Gallery is hosting an evening reception and Juneteenth celebration for Gene Grant\, Black American oil painter\, who will be presenting the Retrospect of Freedom on June 19\, 2018\, from 7:00 PM till 9 PM. Residing in Hallettsville\, Gene Grant is a fourth generation Hallettsville resident. His Grandfather helped build the famed Lavaca County Courthouse in downtown Hallettsville. Grant has a passion for creating dream sequences\, illustrating the strength of the people in his drawings. Gene was awarded Michael Windberg oil painting classes through the Hallet Oak Gallery Steve Beckman Scholarship. The Gallery invites everyone to join in celebrating Black History and honoring this Hallettsville native. The Hallet Oak Gallery\, a 501 c 3 non-profit fine art\, performance and learning center\, is located at 115 N. Main St\, Hallettsville\, TX\, 77964. For more information\, visit the calendar-of-events at www.halletoakgallery.com. \n  \n-mm- \nShare this:\n				Share on Facebook (Opens in new window)\n				Facebook\n			\n				Share on X (Opens in new window)\n				X\n			\n				Share on LinkedIn (Opens in new window)\n				LinkedIn\n			\n				Share on Pinterest (Opens in new window)\n				Pinterest\n			More\n				Share on Reddit (Opens in new window)\n				Reddit\n			\n				Share on Tumblr (Opens in new window)\n				Tumblr\n			\n				Email a link to a friend (Opens in new window)\n				Email\n			\n				Print (Opens in new window)\n				Print
URL:https://halletoakgallery.com/event/juneteenth-celebration-featuring-spotlight-artist-tba/
CATEGORIES:Annual Event - Free,Historical,Spotlight on the Arts
ATTACH;FMTTYPE=image/jpeg:https://halletoakgallery.com/wp-content/uploads/2017/10/genegrant_smIMG_20170619_182035.jpg
ORGANIZER;CN="Hallet Oak Gallery":MAILTO:venue@halletoakgallery.com
END:VEVENT
BEGIN:VEVENT
DTSTART;TZID=UTC:20180623T100000
DTEND;TZID=UTC:20180623T150000
DTSTAMP:20260425T153332
CREATED:20180117T110054Z
LAST-MODIFIED:20180117T110123Z
UID:10000370-1529748000-1529766000@halletoakgallery.com
SUMMARY:Private Event: Cejka Reunion
DESCRIPTION:Private Reunion \nShare this:\n				Share on Facebook (Opens in new window)\n				Facebook\n			\n				Share on X (Opens in new window)\n				X\n			\n				Share on LinkedIn (Opens in new window)\n				LinkedIn\n			\n				Share on Pinterest (Opens in new window)\n				Pinterest\n			More\n				Share on Reddit (Opens in new window)\n				Reddit\n			\n				Share on Tumblr (Opens in new window)\n				Tumblr\n			\n				Email a link to a friend (Opens in new window)\n				Email\n			\n				Print (Opens in new window)\n				Print
URL:https://halletoakgallery.com/event/private-event-cejka-reunion/
END:VEVENT
END:VCALENDAR