BEGIN:VCALENDAR
VERSION:2.0
PRODID:-//Hallet Oak Foundation Inc - ECPv6.15.20//NONSGML v1.0//EN
CALSCALE:GREGORIAN
METHOD:PUBLISH
X-ORIGINAL-URL:https://halletoakgallery.com
X-WR-CALDESC:Events for Hallet Oak Foundation Inc
REFRESH-INTERVAL;VALUE=DURATION:PT1H
X-Robots-Tag:noindex
X-PUBLISHED-TTL:PT1H
BEGIN:VTIMEZONE
TZID:America/Chicago
BEGIN:DAYLIGHT
TZOFFSETFROM:-0600
TZOFFSETTO:-0500
TZNAME:CDT
DTSTART:20220313T080000
END:DAYLIGHT
BEGIN:STANDARD
TZOFFSETFROM:-0500
TZOFFSETTO:-0600
TZNAME:CST
DTSTART:20221106T070000
END:STANDARD
BEGIN:DAYLIGHT
TZOFFSETFROM:-0600
TZOFFSETTO:-0500
TZNAME:CDT
DTSTART:20230312T080000
END:DAYLIGHT
BEGIN:STANDARD
TZOFFSETFROM:-0500
TZOFFSETTO:-0600
TZNAME:CST
DTSTART:20231105T070000
END:STANDARD
BEGIN:DAYLIGHT
TZOFFSETFROM:-0600
TZOFFSETTO:-0500
TZNAME:CDT
DTSTART:20240310T080000
END:DAYLIGHT
BEGIN:STANDARD
TZOFFSETFROM:-0500
TZOFFSETTO:-0600
TZNAME:CST
DTSTART:20241103T070000
END:STANDARD
BEGIN:DAYLIGHT
TZOFFSETFROM:-0600
TZOFFSETTO:-0500
TZNAME:CDT
DTSTART:20250309T080000
END:DAYLIGHT
BEGIN:STANDARD
TZOFFSETFROM:-0500
TZOFFSETTO:-0600
TZNAME:CST
DTSTART:20251102T070000
END:STANDARD
END:VTIMEZONE
BEGIN:VTIMEZONE
TZID:UTC
BEGIN:STANDARD
TZOFFSETFROM:+0000
TZOFFSETTO:+0000
TZNAME:UTC
DTSTART:20170101T000000
END:STANDARD
END:VTIMEZONE
BEGIN:VEVENT
DTSTART;TZID=America/Chicago:20240614T090000
DTEND;TZID=America/Chicago:20240614T120000
DTSTAMP:20260423T192153
CREATED:20240218T235625Z
LAST-MODIFIED:20240218T235909Z
UID:10003379-1718355600-1718366400@halletoakgallery.com
SUMMARY:Georgia Pohl\, Art Camp for Ages 7 to 12
DESCRIPTION:Georgia Pohl\, Art Camp for Ages 7 to 12 \nWeek One: June 3-7\, 9 AM – 12 PM \nWeek Two: June 10 – 14\, 9 AM – 12 PM \n$85 per Week RSVP: 361-217-7030 \nShare this:\n				Share on Facebook (Opens in new window)\n				Facebook\n			\n				Share on X (Opens in new window)\n				X\n			\n				Share on LinkedIn (Opens in new window)\n				LinkedIn\n			\n				Share on Pinterest (Opens in new window)\n				Pinterest\n			More\n				Share on Reddit (Opens in new window)\n				Reddit\n			\n				Share on Tumblr (Opens in new window)\n				Tumblr\n			\n				Email a link to a friend (Opens in new window)\n				Email\n			\n				Print (Opens in new window)\n				Print
URL:https://halletoakgallery.com/event/georgia-pohl-art-camp-for-ages-7-to-12-2/2024-06-14/
LOCATION:Hallet Oak Gallery
CATEGORIES:Summer Camp - children ages 7 to 12
ATTACH;FMTTYPE=image/jpeg:https://halletoakgallery.com/wp-content/uploads/2024/02/5x7_prior_camp_at-Gallery_MG_3719.jpg
END:VEVENT
BEGIN:VEVENT
DTSTART;TZID=America/Chicago:20240607T090000
DTEND;TZID=America/Chicago:20240607T120000
DTSTAMP:20260423T192153
CREATED:20240218T234034Z
LAST-MODIFIED:20240218T234805Z
UID:10003082-1717750800-1717761600@halletoakgallery.com
SUMMARY:Georgia Pohl Art Camp for Ages 7 to 12
DESCRIPTION:Georgia Pohl Art Camp for Ages 7 to 12 \nLeave Message 361-217-7030 \nWeek One: June 3 -7\, 9 AM – 12 PM  $85 per week \nWeek Two  June 10 – 14\, 9 AM – 12 PM    $85 per  week \nShare this:\n				Share on Facebook (Opens in new window)\n				Facebook\n			\n				Share on X (Opens in new window)\n				X\n			\n				Share on LinkedIn (Opens in new window)\n				LinkedIn\n			\n				Share on Pinterest (Opens in new window)\n				Pinterest\n			More\n				Share on Reddit (Opens in new window)\n				Reddit\n			\n				Share on Tumblr (Opens in new window)\n				Tumblr\n			\n				Email a link to a friend (Opens in new window)\n				Email\n			\n				Print (Opens in new window)\n				Print
URL:https://halletoakgallery.com/event/georgia-pohl-art-camp-for-ages-7-to-12/2024-06-07/
LOCATION:Hallet Oak Gallery
CATEGORIES:Summer Camp - children ages 7 to 12
ATTACH;FMTTYPE=image/jpeg:https://halletoakgallery.com/wp-content/uploads/2024/02/5x7_art_teacher_IMG_7736-scaled.jpg
END:VEVENT
BEGIN:VEVENT
DTSTART;TZID=America/Chicago:20230609T090000
DTEND;TZID=America/Chicago:20230609T120000
DTSTAMP:20260423T192153
CREATED:20230221T231248Z
LAST-MODIFIED:20230308T013600Z
UID:10000445-1686301200-1686312000@halletoakgallery.com
SUMMARY:Georgia Pohl\, Art Camp Week One for Ages 7 to 12
DESCRIPTION:$85.00 per week. RSVP by picking up form at Gallery or School\, for more information\, leave message 361-217-7030. \nShare this:\n				Share on Facebook (Opens in new window)\n				Facebook\n			\n				Share on X (Opens in new window)\n				X\n			\n				Share on LinkedIn (Opens in new window)\n				LinkedIn\n			\n				Share on Pinterest (Opens in new window)\n				Pinterest\n			More\n				Share on Reddit (Opens in new window)\n				Reddit\n			\n				Share on Tumblr (Opens in new window)\n				Tumblr\n			\n				Email a link to a friend (Opens in new window)\n				Email\n			\n				Print (Opens in new window)\n				Print
URL:https://halletoakgallery.com/event/georgia-pohl-art-camp-i-for-ages-7-to-12/2023-06-09/
CATEGORIES:art,Art Lessons
ATTACH;FMTTYPE=image/jpeg:https://halletoakgallery.com/wp-content/uploads/2018/07/MG_2871.jpg
END:VEVENT
BEGIN:VEVENT
DTSTART;TZID=UTC:20180615T090000
DTEND;TZID=UTC:20180615T120000
DTSTAMP:20260423T192153
CREATED:20180206T014905Z
LAST-MODIFIED:20180521T055934Z
UID:10000377-1529053200-1529064000@halletoakgallery.com
SUMMARY:First Children's Summer Art Camp at Hallet Oak Gallery
DESCRIPTION:  First Children’s Summer Art Camp at Hallet Oak Gallery June 11 – 15\, 2018 \n  Monday through Friday 9:00am to 12:00pm for ages 8 to 12  \nQuilling by Georgia Pohl \nEmail Linda@halletoakgallery.com for information and to sign up \nor leave a message at 361-217-7030. \nCost per student is one payment of $85.00 for the entire week.  Limited class size. All art materials and snacks and bottled water provided.  Projects include quilling\, painting and drawing.  Exhibit and Parent Reception on June 15\, Friday from 11:00am to 12:00pm. \nClasses are filled on a first come\, first serve basis. Please\, no refunds once class starts.   Make checks to Hallet Oak Gallery  and include note with student’s name.  Mail to Hallet Oak Gallery\, 115 N. Main Street\, Hallettsville\, TX  77964.  Call Linda directly to pay by Credit Card at 713-703-4250. \n  \nGeorgia Pohl is a retired teacher with a college minor in art from Texas State University.  She has always had great interest in the arts.  Georgia started her own decorating business and has designed bridal bouquets and all sorts of floral arrangements. She has held Summer Art Camps for children in Columbus at the Live Oak Gallery\, in Fayetteville at Arts for Rural Texas\, in Schulenburg at Blinn College\, and in Weimar at the Community Center. She is presently teaching in the Art After School Program in several counties. \nShare this:\n				Share on Facebook (Opens in new window)\n				Facebook\n			\n				Share on X (Opens in new window)\n				X\n			\n				Share on LinkedIn (Opens in new window)\n				LinkedIn\n			\n				Share on Pinterest (Opens in new window)\n				Pinterest\n			More\n				Share on Reddit (Opens in new window)\n				Reddit\n			\n				Share on Tumblr (Opens in new window)\n				Tumblr\n			\n				Email a link to a friend (Opens in new window)\n				Email\n			\n				Print (Opens in new window)\n				Print
URL:https://halletoakgallery.com/event/hallet-oak-summer-art-camp-5/
LOCATION:Hallet Oak Gallery
CATEGORIES:Summer Camp - children ages 7 to 11
ATTACH;FMTTYPE=image/jpeg:https://halletoakgallery.com/wp-content/uploads/2018/02/4x4webArt-Camp-photo-2.jpg
ORGANIZER;CN="Hallet Oak Gallery":MAILTO:venue@halletoakgallery.com
END:VEVENT
BEGIN:VEVENT
DTSTART;TZID=UTC:20180614T090000
DTEND;TZID=UTC:20180614T120000
DTSTAMP:20260423T192153
CREATED:20180206T014718Z
LAST-MODIFIED:20180521T060043Z
UID:10000376-1528966800-1528977600@halletoakgallery.com
SUMMARY:First Children's Summer Art Camp at Hallet Oak Gallery
DESCRIPTION:  First Children’s Summer Art Camp at Hallet Oak Gallery June 11 – 15\, 2018 \n  Monday through Friday 9:00am to 12:00pm for ages 8 to 12  \nQuilling by Georgia Pohl \nEmail Linda@halletoakgallery.com for information and to sign up \nor leave a message at 361-217-7030. \n Cost per student is one payment of $85.00 for the entire week. Limited class size. All art materials and snacks and bottled water provided.  Projects include quilling\, painting and drawing.  Exhibit and Parent Reception on June 15\, Friday from 11:00am to 12:00pm. \nClasses are filled on a first come\, first serve basis. Please\, no refunds once class starts.   Make checks to Hallet Oak Gallery  and include note with student’s name.  Mail to Hallet Oak Gallery\, 115 N. Main Street\, Hallettsville\, TX  77964.  Call Linda directly to pay by Credit Card at 713-703-4250. \n  \nGeorgia Pohl is a retired teacher with a college minor in art from Texas State University.  She has always had great interest in the arts.  Georgia started her own decorating business and has designed bridal bouquets and all sorts of floral arrangements. She has held Summer Art Camps for children in Columbus at the Live Oak Gallery\, in Fayetteville at Arts for Rural Texas\, in Schulenburg at Blinn College\, and in Weimar at the Community Center. She is presently teaching in the Art After School Program in several counties. \nShare this:\n				Share on Facebook (Opens in new window)\n				Facebook\n			\n				Share on X (Opens in new window)\n				X\n			\n				Share on LinkedIn (Opens in new window)\n				LinkedIn\n			\n				Share on Pinterest (Opens in new window)\n				Pinterest\n			More\n				Share on Reddit (Opens in new window)\n				Reddit\n			\n				Share on Tumblr (Opens in new window)\n				Tumblr\n			\n				Email a link to a friend (Opens in new window)\n				Email\n			\n				Print (Opens in new window)\n				Print
URL:https://halletoakgallery.com/event/hallet-oak-summer-art-camp-4/
LOCATION:Hallet Oak Gallery
CATEGORIES:Summer Camp - children ages 7 to 11
ATTACH;FMTTYPE=image/jpeg:https://halletoakgallery.com/wp-content/uploads/2018/02/4x4webArt-Camp-photo-2.jpg
ORGANIZER;CN="Hallet Oak Gallery":MAILTO:venue@halletoakgallery.com
END:VEVENT
BEGIN:VEVENT
DTSTART;TZID=UTC:20180613T090000
DTEND;TZID=UTC:20180613T120000
DTSTAMP:20260423T192153
CREATED:20180206T014532Z
LAST-MODIFIED:20180521T060148Z
UID:10000215-1528880400-1528891200@halletoakgallery.com
SUMMARY:First Children's Summer Art Camp at Hallet Oak Gallery
DESCRIPTION:  First Children’s Summer Art Camp at Hallet Oak Gallery June 11 – 15\, 2018 \n  Monday through Friday 9:00am to 12:00pm for ages 8 to 12  \nQuilling by Georgia Pohl \nEmail Linda@halletoakgallery.com for information and to sign up \nor leave a message at 361-217-7030. \nCost per student is one payment of $85.00 for the entire week. Limited class size. All art materials and snacks and bottled water provided.  Projects include quilling\, painting and drawing. Exhibit and Parent Reception on June 15\, Friday from 11:00am to 12:00pm. \nClasses are filled on a first come\, first serve basis. Please\, no refunds once class starts.   Make checks to Hallet Oak Gallery  and include note with student’s name.  Mail to Hallet Oak Gallery\, 115 N. Main Street\, Hallettsville\, TX  77964.  Call Linda directly to pay by Credit Card at 713-703-4250. \n  \nGeorgia Pohl is a retired teacher with a college minor in art from Texas State University.  She has always had great interest in the arts.  Georgia started her own decorating business and has designed bridal bouquets and all sorts of floral arrangements. She has held Summer Art Camps for children in Columbus at the Live Oak Gallery\, in Fayetteville at Arts for Rural Texas\, in Schulenburg at Blinn College\, and in Weimar at the Community Center. She is presently teaching in the Art After School Program in several counties. \nShare this:\n				Share on Facebook (Opens in new window)\n				Facebook\n			\n				Share on X (Opens in new window)\n				X\n			\n				Share on LinkedIn (Opens in new window)\n				LinkedIn\n			\n				Share on Pinterest (Opens in new window)\n				Pinterest\n			More\n				Share on Reddit (Opens in new window)\n				Reddit\n			\n				Share on Tumblr (Opens in new window)\n				Tumblr\n			\n				Email a link to a friend (Opens in new window)\n				Email\n			\n				Print (Opens in new window)\n				Print
URL:https://halletoakgallery.com/event/hallet-oak-summer-art-camp-3/
LOCATION:Hallet Oak Gallery
CATEGORIES:Summer Camp - children ages 7 to 11
ATTACH;FMTTYPE=image/jpeg:https://halletoakgallery.com/wp-content/uploads/2018/02/4x4webArt-Camp-photo-2.jpg
ORGANIZER;CN="Hallet Oak Gallery":MAILTO:venue@halletoakgallery.com
END:VEVENT
BEGIN:VEVENT
DTSTART;TZID=UTC:20180612T090000
DTEND;TZID=UTC:20180612T120000
DTSTAMP:20260423T192153
CREATED:20180206T014332Z
LAST-MODIFIED:20180521T060258Z
UID:10000214-1528794000-1528804800@halletoakgallery.com
SUMMARY:First Children's Summer Art Camp at Hallet Oak Gallery
DESCRIPTION:  First Children’s Summer Art Camp at Hallet Oak Gallery June 11 – 15\, 2018 \n  Monday through Friday 9:00am to 12:00pm for ages 8 to 12  \nQuilling by Georgia Pohl \nEmail Linda@halletoakgallery.com for information and to sign up \nor leave a message at 361-217-7030. \nCost per student is one payment of $85.00 for the entire week. Limited class size. All art materials and snacks and bottled water provided.  Projects include quilling\, painting and drawing.  Exhibit and Parent Reception on June 15\, Friday from 11:00am to 12:00pm. \nClasses are filled on a first come\, first serve basis. Please\, no refunds once class starts.   Make checks to Hallet Oak Gallery  and include note with student’s name.  Mail to Hallet Oak Gallery\, 115 N. Main Street\, Hallettsville\, TX  77964.  Call Linda directly to pay by Credit Card at 713-703-4250. \n  \nGeorgia Pohl is a retired teacher with a college minor in art from Texas State University.  She has always had great interest in the arts.  Georgia started her own decorating business and has designed bridal bouquets and all sorts of floral arrangements. She has held Summer Art Camps for children in Columbus at the Live Oak Gallery\, in Fayetteville at Arts for Rural Texas\, in Schulenburg at Blinn College\, and in Weimar at the Community Center. She is presently teaching in the Art After School Program in several counties. \nShare this:\n				Share on Facebook (Opens in new window)\n				Facebook\n			\n				Share on X (Opens in new window)\n				X\n			\n				Share on LinkedIn (Opens in new window)\n				LinkedIn\n			\n				Share on Pinterest (Opens in new window)\n				Pinterest\n			More\n				Share on Reddit (Opens in new window)\n				Reddit\n			\n				Share on Tumblr (Opens in new window)\n				Tumblr\n			\n				Email a link to a friend (Opens in new window)\n				Email\n			\n				Print (Opens in new window)\n				Print
URL:https://halletoakgallery.com/event/hallet-oak-summer-art-camp-2/
LOCATION:Hallet Oak Gallery
CATEGORIES:Summer Camp - children ages 7 to 11
ATTACH;FMTTYPE=image/jpeg:https://halletoakgallery.com/wp-content/uploads/2018/02/4x4webArt-Camp-photo-2.jpg
ORGANIZER;CN="Hallet Oak Gallery":MAILTO:venue@halletoakgallery.com
END:VEVENT
BEGIN:VEVENT
DTSTART;TZID=UTC:20180611T090000
DTEND;TZID=UTC:20180611T120000
DTSTAMP:20260423T192153
CREATED:20180206T013138Z
LAST-MODIFIED:20180521T060431Z
UID:10000213-1528707600-1528718400@halletoakgallery.com
SUMMARY:       First Children’s Summer Art Camp at Hallet Oak Gallery
DESCRIPTION:  \n       First Children’s Summer Art Camp at Hallet Oak Gallery June 11 – 15\, 2018 \n  Monday through Friday 9:00am to 12:00pm for ages 8 to 12  \nQuilling by Georgia Pohl \nEmail Linda@halletoakgallery.com for information and to sign up \nor leave a message at 361-217-7030. \nCost per student is one payment of $85.00 for the entire week. Limited class size. All art materials and snacks and bottled water provided.  Projects include quilling\, painting and drawing.  Exhibit and Parent Reception on June 15\, Friday from 11:00am to 12:00pm. \nClasses are filled on a first come\, first serve basis. Please\,    no refunds once class starts.   Make checks to Hallet Oak Gallery  and include note with student’s name.  Mail to Hallet Oak Gallery\, 115 N. Main Street\, Hallettsville\, TX  77964.  Call Linda directly to pay by Credit Card at 713-703-4250. \n  \nGeorgia Pohl is a retired teacher with a college minor in art from Texas State University.  She has always had great interest in the arts.  Georgia started her own decorating business and has designed bridal bouquets and all sorts of floral arrangements. She has held Summer Art Camps for children in Columbus at the Live Oak Gallery\, in Fayetteville at Arts for Rural Texas\, in Schulenburg at Blinn College\, and in Weimar at the Community Center. She is presently teaching in the Art After School Program in several counties. \nSummer Art Camp at the Hallet Oak Gallery flyer for schools \n  \nShare this:\n				Share on Facebook (Opens in new window)\n				Facebook\n			\n				Share on X (Opens in new window)\n				X\n			\n				Share on LinkedIn (Opens in new window)\n				LinkedIn\n			\n				Share on Pinterest (Opens in new window)\n				Pinterest\n			More\n				Share on Reddit (Opens in new window)\n				Reddit\n			\n				Share on Tumblr (Opens in new window)\n				Tumblr\n			\n				Email a link to a friend (Opens in new window)\n				Email\n			\n				Print (Opens in new window)\n				Print
URL:https://halletoakgallery.com/event/hallet-oak-summer-art-camp/
LOCATION:Hallet Oak Gallery
CATEGORIES:Summer Camp - children ages 7 to 11
ATTACH;FMTTYPE=image/jpeg:https://halletoakgallery.com/wp-content/uploads/2018/02/4x4webArt-Camp-photo-2.jpg
ORGANIZER;CN="Hallet Oak Gallery":MAILTO:venue@halletoakgallery.com
END:VEVENT
END:VCALENDAR