BEGIN:VCALENDAR
VERSION:2.0
PRODID:-//Hallet Oak Foundation Inc - ECPv6.15.20//NONSGML v1.0//EN
CALSCALE:GREGORIAN
METHOD:PUBLISH
X-ORIGINAL-URL:https://halletoakgallery.com
X-WR-CALDESC:Events for Hallet Oak Foundation Inc
REFRESH-INTERVAL;VALUE=DURATION:PT1H
X-Robots-Tag:noindex
X-PUBLISHED-TTL:PT1H
BEGIN:VTIMEZONE
TZID:America/Chicago
BEGIN:DAYLIGHT
TZOFFSETFROM:-0600
TZOFFSETTO:-0500
TZNAME:CDT
DTSTART:20240310T080000
END:DAYLIGHT
BEGIN:STANDARD
TZOFFSETFROM:-0500
TZOFFSETTO:-0600
TZNAME:CST
DTSTART:20241103T070000
END:STANDARD
BEGIN:DAYLIGHT
TZOFFSETFROM:-0600
TZOFFSETTO:-0500
TZNAME:CDT
DTSTART:20250309T080000
END:DAYLIGHT
BEGIN:STANDARD
TZOFFSETFROM:-0500
TZOFFSETTO:-0600
TZNAME:CST
DTSTART:20251102T070000
END:STANDARD
BEGIN:DAYLIGHT
TZOFFSETFROM:-0600
TZOFFSETTO:-0500
TZNAME:CDT
DTSTART:20260308T080000
END:DAYLIGHT
BEGIN:STANDARD
TZOFFSETFROM:-0500
TZOFFSETTO:-0600
TZNAME:CST
DTSTART:20261101T070000
END:STANDARD
BEGIN:DAYLIGHT
TZOFFSETFROM:-0600
TZOFFSETTO:-0500
TZNAME:CDT
DTSTART:20270314T080000
END:DAYLIGHT
BEGIN:STANDARD
TZOFFSETFROM:-0500
TZOFFSETTO:-0600
TZNAME:CST
DTSTART:20271107T070000
END:STANDARD
END:VTIMEZONE
BEGIN:VTIMEZONE
TZID:UTC
BEGIN:STANDARD
TZOFFSETFROM:+0000
TZOFFSETTO:+0000
TZNAME:UTC
DTSTART:20170101T000000
END:STANDARD
END:VTIMEZONE
BEGIN:VEVENT
DTSTART;TZID=America/Chicago:20260320T160000
DTEND;TZID=America/Chicago:20260320T180000
DTSTAMP:20260423T174359
CREATED:20260211T001641Z
LAST-MODIFIED:20260315T151443Z
UID:10004424-1774022400-1774029600@halletoakgallery.com
SUMMARY:First Day of Spring! Student Western Art Exhibit
DESCRIPTION:🎟 Free | Open to the Public March 20\, 2026\, –  Student Western Art Exhibit. \nThe First Day of Spring & Western Art Show 2026 will display all entries from Moulton Elementary and Hallettsville High School from March 20–27\, 2026. Admission is free. \n\n\n\nA Special Reception & Open House Western Art Awards Ceremony – Free Admission Friday\, March 20\, 2026 | 4:00–6:00 PM\nHallet Oak Gallery – 115 N. Main Street\, Hallettsville\, TX 77964 \n\n\n\n\n\n\nWe look forward to celebrating the creative talent! \n\n\n\nAwards sponsored by Peoples State Bank \nDoors open at noon and close at 6:30 pm. \nShare this:\n				Share on Facebook (Opens in new window)\n				Facebook\n			\n				Share on X (Opens in new window)\n				X\n			\n				Share on LinkedIn (Opens in new window)\n				LinkedIn\n			\n				Share on Pinterest (Opens in new window)\n				Pinterest\n			More\n				Share on Reddit (Opens in new window)\n				Reddit\n			\n				Share on Tumblr (Opens in new window)\n				Tumblr\n			\n				Email a link to a friend (Opens in new window)\n				Email\n			\n				Print (Opens in new window)\n				Print
URL:https://halletoakgallery.com/event/first-day-of-spring-student-western-art-exhibit/
LOCATION:Hallet Oak Gallery
CATEGORIES:Art Exhibit & Reception
ATTACH;FMTTYPE=image/jpeg:https://halletoakgallery.com/wp-content/uploads/2026/02/5x7_2025_western_art_spring_show_IMG_2741.jpg
END:VEVENT
BEGIN:VEVENT
DTSTART;TZID=America/Chicago:20250320T120000
DTEND;TZID=America/Chicago:20250320T183000
DTSTAMP:20260423T174359
CREATED:20250110T034404Z
LAST-MODIFIED:20250319T203131Z
UID:10004215-1742472000-1742495400@halletoakgallery.com
SUMMARY:March 20 – March 29  – Student Western Art Exhibit on Display Opening Show
DESCRIPTION:  \nHallet Oak Gallery’s 2025 Western Art Student Exhibition  \nShowcasing the artworks by Hallettsville High School and Moulton Elementary \nMarch 20 – March 29\, 2025 \nOpen Hours: Last Saturdays 12pm-4pm & 4pm-8pm \n  \nA special Hallet Oak Gallery open-house reception will be held on the first day of spring\, \nThursday\, March 20\, 2025. \nSchedule of event: \n12:00 PM – Doors open\, refreshments will be served. \nChalk art outside\,  inside view artworks\, enjoy scavenger hunts with prizes. \n4:OO PM Appetizers will be served! \n5:30 PM — Student recognition award ceremony. Winners\, please arrive by 5:30 pm to receive your award and see what you won! Awards are sponsored by Peoples State Bank. \n6:30  PM— Doors close. \n  \nEveryone is welcome\, bring your family and friends! Free. \nHallet Oak Gallery\, 115 N. Main St.\, Hallettsville\, TX 77964 \nSee www.halletoakgallery.com  or call 361-217-7030 for details! \n  \nShare this:\n				Share on Facebook (Opens in new window)\n				Facebook\n			\n				Share on X (Opens in new window)\n				X\n			\n				Share on LinkedIn (Opens in new window)\n				LinkedIn\n			\n				Share on Pinterest (Opens in new window)\n				Pinterest\n			More\n				Share on Reddit (Opens in new window)\n				Reddit\n			\n				Share on Tumblr (Opens in new window)\n				Tumblr\n			\n				Email a link to a friend (Opens in new window)\n				Email\n			\n				Print (Opens in new window)\n				Print
URL:https://halletoakgallery.com/event/march-20-april-26-student-western-art-exhibit-on-display-opening-show/
LOCATION:Hallet Oak Gallery
CATEGORIES:Art Center with Exhibit,Art Exhibit & Reception
ATTACH;FMTTYPE=image/jpeg:https://halletoakgallery.com/wp-content/uploads/2025/01/5x7_20250307_hhs_entry_IMG_2275.jpg
END:VEVENT
BEGIN:VEVENT
DTSTART;TZID=UTC:20180728T140000
DTEND;TZID=UTC:20180728T160000
DTSTAMP:20260423T174359
CREATED:20180630T001058Z
LAST-MODIFIED:20180720T093018Z
UID:10000218-1532786400-1532793600@halletoakgallery.com
SUMMARY:Hallet Oak Gallery presenting Satori Davis\, Realism - A Student Show
DESCRIPTION:Hallet Oak Gallery Student Show \nSatori Davis\, Award- Winning Artist \nSaturday\, July 28\, 2018 2 PM – 4: PM \n  \nHallet Oak Gallery is pleased to announce a Student Show featuring Satori Davis\, an award-winning pop and realism artist\, on Saturday\, July 28\, 2018. A free opening reception will be held from 2 PM to 4PM. The student art exhibit will be on display through August 25\, 2018. \n  \nSatori Davis\, a black American and 2018 graduate of Hallettsville High School\, promises to dazzle audiences with her artistic diverse style of realism and pop art. Her art teacher\, Staci Powers\, explains\, “Satori is an outstanding and hardworking student\, I look forward to her future.” \n  \nSatori uses real objects\, people\, and animals for subjects to create one-of-a-kind artworks. A true naturalist\, she loves to draw things as they are in real life making her work very life-like. Winning Best-of-Show twice in the Houston Livestock Show and Rodeo Art Contest gave her a scholarship opportunity to attend the Glassell School of Art.  Satori\, also\, won the Patriotic Art Award through the Lavaca Memorial VFW Auxiliary #6382 three times; she won the 2017 Hallet Oak Gallery’s Christmas Art Contest; a 2017 South Central Texas Art League scholarship to attend a portrait workshop; and a 2018 Hallet Oak Foundation scholarship. \nShare this:\n				Share on Facebook (Opens in new window)\n				Facebook\n			\n				Share on X (Opens in new window)\n				X\n			\n				Share on LinkedIn (Opens in new window)\n				LinkedIn\n			\n				Share on Pinterest (Opens in new window)\n				Pinterest\n			More\n				Share on Reddit (Opens in new window)\n				Reddit\n			\n				Share on Tumblr (Opens in new window)\n				Tumblr\n			\n				Email a link to a friend (Opens in new window)\n				Email\n			\n				Print (Opens in new window)\n				Print
URL:https://halletoakgallery.com/event/hallet-oak-gallery-presenting-satori-davis-realism-a-student-show/
LOCATION:Hallet Oak Gallery
CATEGORIES:art,Art Exhibit & Reception,Emerging Artist,Student Show
ATTACH;FMTTYPE=image/jpeg:https://halletoakgallery.com/wp-content/uploads/2018/06/websatori_davis.jpg
ORGANIZER;CN="Hallet Oak Gallery":MAILTO:venue@halletoakgallery.com
END:VEVENT
END:VCALENDAR