BEGIN:VCALENDAR
VERSION:2.0
PRODID:-//Hallet Oak Foundation Inc - ECPv6.15.20//NONSGML v1.0//EN
CALSCALE:GREGORIAN
METHOD:PUBLISH
X-ORIGINAL-URL:https://halletoakgallery.com
X-WR-CALDESC:Events for Hallet Oak Foundation Inc
REFRESH-INTERVAL;VALUE=DURATION:PT1H
X-Robots-Tag:noindex
X-PUBLISHED-TTL:PT1H
BEGIN:VTIMEZONE
TZID:America/Chicago
BEGIN:DAYLIGHT
TZOFFSETFROM:-0600
TZOFFSETTO:-0500
TZNAME:CDT
DTSTART:20190310T080000
END:DAYLIGHT
BEGIN:STANDARD
TZOFFSETFROM:-0500
TZOFFSETTO:-0600
TZNAME:CST
DTSTART:20191103T070000
END:STANDARD
BEGIN:DAYLIGHT
TZOFFSETFROM:-0600
TZOFFSETTO:-0500
TZNAME:CDT
DTSTART:20200308T080000
END:DAYLIGHT
BEGIN:STANDARD
TZOFFSETFROM:-0500
TZOFFSETTO:-0600
TZNAME:CST
DTSTART:20201101T070000
END:STANDARD
BEGIN:DAYLIGHT
TZOFFSETFROM:-0600
TZOFFSETTO:-0500
TZNAME:CDT
DTSTART:20210314T080000
END:DAYLIGHT
BEGIN:STANDARD
TZOFFSETFROM:-0500
TZOFFSETTO:-0600
TZNAME:CST
DTSTART:20211107T070000
END:STANDARD
BEGIN:DAYLIGHT
TZOFFSETFROM:-0600
TZOFFSETTO:-0500
TZNAME:CDT
DTSTART:20220313T080000
END:DAYLIGHT
BEGIN:STANDARD
TZOFFSETFROM:-0500
TZOFFSETTO:-0600
TZNAME:CST
DTSTART:20221106T070000
END:STANDARD
BEGIN:DAYLIGHT
TZOFFSETFROM:-0600
TZOFFSETTO:-0500
TZNAME:CDT
DTSTART:20230312T080000
END:DAYLIGHT
BEGIN:STANDARD
TZOFFSETFROM:-0500
TZOFFSETTO:-0600
TZNAME:CST
DTSTART:20231105T070000
END:STANDARD
BEGIN:DAYLIGHT
TZOFFSETFROM:-0600
TZOFFSETTO:-0500
TZNAME:CDT
DTSTART:20240310T080000
END:DAYLIGHT
BEGIN:STANDARD
TZOFFSETFROM:-0500
TZOFFSETTO:-0600
TZNAME:CST
DTSTART:20241103T070000
END:STANDARD
END:VTIMEZONE
BEGIN:VEVENT
DTSTART;TZID=America/Chicago:20230422T080000
DTEND;TZID=America/Chicago:20230422T094500
DTSTAMP:20260423T190904
CREATED:20230401T114855Z
LAST-MODIFIED:20230416T191201Z
UID:10000722-1682150400-1682156700@halletoakgallery.com
SUMMARY:Lavaca River Clean Up Meet at 8:00 AM to 8:30 AM for T-shirts
DESCRIPTION:A special shout out thank you to Braxton Baranowski and Mathew Shannon\, Hallettsville Brahma News Network (HBBN) students! Both were voice-over for the radio public service announcement they wrote and recorded; and they created this beautiful poster for this important endeavor. HBBN is a student run organization that brings news to Hallettsville High School and the community! \n\n\n\n\n\n\n\n\n\n\n\n\n\n\n\n\n\n\n\n\n\n\n\n  \nTo listen the Public Services Announcement created by Braxton and Mathew –  \nclick on this link below:  \nmathew_shannon_braxton_baranowski_designed_for_Friends_adopt_a_river_psa_mixdown \nFirst Annual Lavaca River Clean-Up \n  \nBelow is the official press release: \nFor Immediate Release: April 17\, 2023 \nContact: Mieko Mahi\, Hallet Oak Gallery\,  venue@halletoakgallery.com\, 361-217-7030 \n\nProclamation for Annual River Clean-Up was Announced for April 22nd \n\nThis proclamation was approved at the Lavaca County Courthouse\, in the Commissioners Courtroom on April 10\, 2023\, 10:00 AM\, presided by Judge Keith Mudd.\n\n\nThe First Lavaca River Annual Clean-Up – Date is Set:\n\nApril 22\, 2023. 8 AM – 9: 45 AM.\nEveryone is invited to participate in this excellent opportunity for service hours and to contribute to the health of the Lavaca River\n\n\n\nAbout: \nThe Lavaca River is important to the City of Hallettsville and Lavaca County. Members of Hallet Oak Foundation’s Friends of Lavaca River group have partnered with the Lavaca-Navidad River Authority (LNRA)\, Lavaca County\, and the City of Hallettsville for the First Annual Lavaca River Clean-Up to be held on April 22\, 2023 from 8 AM to 9:45 AM. The plan is to meet at Hallet Oak Gallery\, 115 N. Main St\, Hallettsville\, TX 77964 on Saturday\, April 22\, 2023 to disperse into two large teams. First United Methodist Church and Hallettsville Girl Scouts Troop 9513 are participating\, and additional organizations\, groups\, and individuals are welcomed to join in this annual event. \nLNRA is donating T-shirts. Inteplast Group is providing caps\, safety glasses\, gloves\, whistles\, and trash bags for the clean-up. \nHallet Oak Foundation will supply safety vests\, bandanas\, and water. All while supplies last. \nTeam leaders will also\, provide a safety briefing\, have water\, sunscreen\, bug spray and a safety kit. \nTwo large teams will work at the same time: one by Highway 77/90 Bridge and one by the County Road 1 Poor Farm Bridge. Anyone may show up and help at the two bridges. \nVolunteers must wear long sleeves\, long jeans\, and rubber or leather boots. Youths of all ages can participate in some way. Volunteers will spend no more than 45 minutes walking along the river by the two bridge entries picking up trash. If you can offer a team or would have questions\, please call 361-217-7030 or email venue@halletoakgallery.com.  RSVP is helpful\, yet not required. “Just show up\, dressed in safety clothing\, be ready to work in the river and alongside it. Spectators are welcome to bring chairs\, watch and cheer on the volunteers! We need as many photographs for documenting the event”\, says Mieko Mahi. \n  \nGrace Ward\, City of Hallettsville Manager\, gives assistance\, “The Transfer Station will be open April 22\, 2023\, any metal or appliances you will need to transport out there\, need to be put in the free scrap metal dumpster before noon.” A special placed container on the southeast side of the 77/90 Bridge on April 22nd  will be available for the community Lavaca River Clean-Up Day by the City of Hallettsville and it will pick it up on April 24th.   Not accepted are hazardous materials\, such as: paint\, freon\, automobile batteries\, tires\, and asphalt shingles. \nHallet Oak Foundation’s Friends of Lavaca River group are seeking someone capable of removing the tires as well as a towing company to volunteer or an individual to volunteer with a tow truck to remove the heavy items.  If you or your company can assist\, please email venue@halletoakgallery.com or leave a message at 361-217-7030. \n\n\n\nPROCLAMATION\nLAVACA COUNTY\, TX\nMarch and April for an Annual Lavaca River Clean-Up Time \nWHEREAS\, A proclamation is requested to proclaim March and April as Lavaca River Clean-Up Time. Friends of Lavaca River group will announce on annual basis\, a coordinated date after working with the proper authorities. This will be an annual event to unite businesses\, groups\, organizations\, and individual citizens\, so that they can participate to help keep the Lavaca River clean. \nWHEREAS\, The First Lavaca River Annual Clean-Up\, where all volunteers are welcome\, is scheduled on April 22\, 2023. The area to be served will be in the dredged 5.5 miles in the Hallettsville’s section of Lavaca River in Lavaca County\, which is north of town and a mile and half past County Road 1 Poor Farm Bridge. Assistance will be provided by Lavaca-Navidad River Authority\, Lavaca County\, City of Hallettsville\, Hallet Oak Foundation’s Friends of Lavaca River group\, First United Methodist Church\, Hallettsville Girl Scouts Troop 9513\, and other supporting organizations\, businesses\, and citizens that wish to contribute for the health of the river. \nWHEREAS\, The Lavaca River is important to the City of Hallettsville and Lavaca County. Citizens depend on it for water for their homes and businesses. \nWHEREAS\, Today\, as we navigate the heavy traffic on the bridges\, we often see it. We also may not see the trash and heavy cast-offs that have accumulated there. The Lavaca River depends on volunteers to clear trash and debris that impact its flow and to improve its water quality for residences\, businesses\, wildlife\, and biodiversity. \nWHEREAS\, This year\, 2023 will be the first volunteer Annual Lavaca River Clean-Up in 183 years\, since Margaret Hallet donated 500 acres to become a town on this river. This community service would be in honor to her memory and to her contributions to citizens\, commerce\, and all the reasons she donated the land to become the county seat. It honors the City of Hallettsville and Lavaca County and what it has become. \nWHEREAS\, Residences\, businesses\, truckers\, travelers\, and visitors will see a clean river and bridgeway and this will bring back thinking about awareness of driving safety\, proper disposal of trash\, and keeping clean habits. An Annual Lavaca River Clean-Up will improve river regard and courtesy in picking up trash and not leaving it as someone else’s job. Far reaching effects can come from this clean-up to improve water quality for community\, as well as\, benefiting those downstream that depend on both water and water quality for deer\, fish\, birds\, wildlife\, residences\, businesses\, livestock\, and agriculture. \nNOW\, THEREFORE\, I\, Keith Mudd\, Judge of Lavaca County\, Texas\, do hereby proclaim the months of March and April for an Annual Lavaca River Clean-Up Time. \nIN WITNESS WHEREOF\, I have hear unto set my hand and caused the official seal of Lavaca County\, Texas to be affixed on the day of April 10\, 2023. \nLavaca County Courthouse\, Commissioners Courtroom\, signed on April 10\, 2023 presided by Judge Keith Mudd. \n\n\n\nShare this:\n				Share on Facebook (Opens in new window)\n				Facebook\n			\n				Share on X (Opens in new window)\n				X\n			\n				Share on LinkedIn (Opens in new window)\n				LinkedIn\n			\n				Share on Pinterest (Opens in new window)\n				Pinterest\n			More\n				Share on Reddit (Opens in new window)\n				Reddit\n			\n				Share on Tumblr (Opens in new window)\n				Tumblr\n			\n				Email a link to a friend (Opens in new window)\n				Email\n			\n				Print (Opens in new window)\n				Print
URL:https://halletoakgallery.com/event/lavaca-river-clean-up-meet-at-800-am-to-830-am-for-t-shirts/
LOCATION:Hallet Oak Gallery
CATEGORIES:Adopt A River
ATTACH;FMTTYPE=image/jpeg:https://halletoakgallery.com/wp-content/uploads/2023/04/20230331_friends_mathew_shannon_braxton_baranowski_designed_poster.jpg
END:VEVENT
BEGIN:VEVENT
DTSTART;TZID=America/Chicago:20200901T163000
DTEND;TZID=America/Chicago:20200901T170000
DTSTAMP:20260423T190904
CREATED:20200123T153104Z
LAST-MODIFIED:20200123T153104Z
UID:10000565-1598977800-1598979600@halletoakgallery.com
SUMMARY:River Meeting
DESCRIPTION:September 1\, 2020\, Every First Tuesday of Every Month \nHALLETTSVILLE: Friends of Hallettsville Downtown Revitalization (FHDR) \n4:30 PM to 6 PM River Meeting \nEl Vaquero Mexican Restaurant \nDress: Casual. Complimentary refreshments will be served. Cash bar. \nwww.halletoakgallery.com 361-217-7030 \nFree. Membership not required. \nShare this:\n				Share on Facebook (Opens in new window)\n				Facebook\n			\n				Share on X (Opens in new window)\n				X\n			\n				Share on LinkedIn (Opens in new window)\n				LinkedIn\n			\n				Share on Pinterest (Opens in new window)\n				Pinterest\n			More\n				Share on Reddit (Opens in new window)\n				Reddit\n			\n				Share on Tumblr (Opens in new window)\n				Tumblr\n			\n				Email a link to a friend (Opens in new window)\n				Email\n			\n				Print (Opens in new window)\n				Print
URL:https://halletoakgallery.com/event/river-meeting/
LOCATION:Hallet Oak Gallery
CATEGORIES:Beautification
ATTACH;FMTTYPE=image/jpeg:https://halletoakgallery.com/wp-content/uploads/2020/01/river_postcard.jpeg
END:VEVENT
BEGIN:VEVENT
DTSTART;TZID=America/Chicago:20200804T163000
DTEND;TZID=America/Chicago:20200804T180000
DTSTAMP:20260423T190904
CREATED:20200123T150746Z
LAST-MODIFIED:20200123T150817Z
UID:10000564-1596558600-1596564000@halletoakgallery.com
SUMMARY:Friends of the River Committee Meeting
DESCRIPTION:August 4\, 2020\, First Tuesday of Every Month  \nFriends of the River Committee Meeting \nHALLETTSVILLE: Friends of Hallettsville Downtown Revitalization (FHDR) \n4:30 PM to 6 PM \nDress: Casual. Refreshments will be served. Cash Bar. \nEl Vaquero Mexican Restaurant\, Downtown Hallettsville \nwww.halletoakgallery.com 361-217-7030 \nFree. Membership not required. \nShare this:\n				Share on Facebook (Opens in new window)\n				Facebook\n			\n				Share on X (Opens in new window)\n				X\n			\n				Share on LinkedIn (Opens in new window)\n				LinkedIn\n			\n				Share on Pinterest (Opens in new window)\n				Pinterest\n			More\n				Share on Reddit (Opens in new window)\n				Reddit\n			\n				Share on Tumblr (Opens in new window)\n				Tumblr\n			\n				Email a link to a friend (Opens in new window)\n				Email\n			\n				Print (Opens in new window)\n				Print
URL:https://halletoakgallery.com/event/friends-of-the-river-committee-meeting/
LOCATION:Hallet Oak Gallery
CATEGORIES:Beautification
ATTACH;FMTTYPE=image/jpeg:https://halletoakgallery.com/wp-content/uploads/2020/01/river_postcard.jpeg
END:VEVENT
BEGIN:VEVENT
DTSTART;TZID=America/Chicago:20200707T163000
DTEND;TZID=America/Chicago:20200707T180000
DTSTAMP:20260423T190904
CREATED:20200123T141533Z
LAST-MODIFIED:20200123T141533Z
UID:10000552-1594139400-1594144800@halletoakgallery.com
SUMMARY:Friends of the River Meeting
DESCRIPTION:July 7\, 2020\, First Tuesday of Every Month  \nFriends of the River Committee Meeting \nHALLETTSVILLE: Friends of Hallettsville Downtown Revitalization (FHDR) \n4:30 PM to 6 PM \nDress: Casual. Refreshments will be served. Cash Bar. \nEl Vaquero Mexican Restaurant\, Downtown Hallettsville \nwww.halletoakgallery.com 361-217-7030 \nFree. Membership not required. \nShare this:\n				Share on Facebook (Opens in new window)\n				Facebook\n			\n				Share on X (Opens in new window)\n				X\n			\n				Share on LinkedIn (Opens in new window)\n				LinkedIn\n			\n				Share on Pinterest (Opens in new window)\n				Pinterest\n			More\n				Share on Reddit (Opens in new window)\n				Reddit\n			\n				Share on Tumblr (Opens in new window)\n				Tumblr\n			\n				Email a link to a friend (Opens in new window)\n				Email\n			\n				Print (Opens in new window)\n				Print
URL:https://halletoakgallery.com/event/friends-of-the-river-meeting-2/
LOCATION:Ell Vaquero Mexican Restaurant\, 114 N. La Grange St.\, Hallettsivlle\, TX\, 77964
CATEGORIES:Beautification
ATTACH;FMTTYPE=image/jpeg:https://halletoakgallery.com/wp-content/uploads/2020/01/river_postcard.jpeg
END:VEVENT
BEGIN:VEVENT
DTSTART;TZID=America/Chicago:20200602T163000
DTEND;TZID=America/Chicago:20200602T180000
DTSTAMP:20260423T190904
CREATED:20200120T131326Z
LAST-MODIFIED:20200120T131326Z
UID:10000550-1591115400-1591120800@halletoakgallery.com
SUMMARY:Friends of the River Gathering
DESCRIPTION:June 2\, 2020\, First Tuesday of Every Month  \nFriends of the River Committee Meeting \nHALLETTSVILLE: Friends of Hallettsville Downtown Revitalization (FHDR) \n4:30 PM to 6 PM \nDress: Casual. Refreshments will be served. Cash Bar. \nEl Vaquero Mexican Restaurant\, Downtown Hallettsville \nwww.halletoakgallery.com 361-217-7030 \nFree. Membership not required. \nShare this:\n				Share on Facebook (Opens in new window)\n				Facebook\n			\n				Share on X (Opens in new window)\n				X\n			\n				Share on LinkedIn (Opens in new window)\n				LinkedIn\n			\n				Share on Pinterest (Opens in new window)\n				Pinterest\n			More\n				Share on Reddit (Opens in new window)\n				Reddit\n			\n				Share on Tumblr (Opens in new window)\n				Tumblr\n			\n				Email a link to a friend (Opens in new window)\n				Email\n			\n				Print (Opens in new window)\n				Print
URL:https://halletoakgallery.com/event/friends-of-the-river-gathering/
LOCATION:Hallet Oak Gallery
CATEGORIES:Beautification
ATTACH;FMTTYPE=image/jpeg:https://halletoakgallery.com/wp-content/uploads/2020/01/river_postcard.jpeg
END:VEVENT
BEGIN:VEVENT
DTSTART;TZID=America/Chicago:20200505T163000
DTEND;TZID=America/Chicago:20200505T180000
DTSTAMP:20260423T190904
CREATED:20200120T120251Z
LAST-MODIFIED:20200120T120251Z
UID:10000335-1588696200-1588701600@halletoakgallery.com
SUMMARY:Friends of the River Meeting
DESCRIPTION:May 5\, 2020\, First Tuesday of Every Month  \nFriends of the River Committee Meeting \nHALLETTSVILLE: Friends of Hallettsville Downtown Revitalization (FHDR) \n4:30 PM to 6 PM \nDress: Casual. Refreshments will be served. Cash Bar. \nEl Vaquero Mexican Restaurant\, Downtown Hallettsville \nwww.halletoakgallery.com 361-217-7030 \nFree. Membership not required. \nShare this:\n				Share on Facebook (Opens in new window)\n				Facebook\n			\n				Share on X (Opens in new window)\n				X\n			\n				Share on LinkedIn (Opens in new window)\n				LinkedIn\n			\n				Share on Pinterest (Opens in new window)\n				Pinterest\n			More\n				Share on Reddit (Opens in new window)\n				Reddit\n			\n				Share on Tumblr (Opens in new window)\n				Tumblr\n			\n				Email a link to a friend (Opens in new window)\n				Email\n			\n				Print (Opens in new window)\n				Print
URL:https://halletoakgallery.com/event/friends-of-the-river-meeting/
LOCATION:Ell Vaquero Mexican Restaurant\, 114 N. La Grange St.\, Hallettsivlle\, TX\, 77964
CATEGORIES:Beautification
ATTACH;FMTTYPE=image/jpeg:https://halletoakgallery.com/wp-content/uploads/2020/01/river_postcard.jpeg
END:VEVENT
BEGIN:VEVENT
DTSTART;TZID=America/Chicago:20200407T163000
DTEND;TZID=America/Chicago:20200407T180000
DTSTAMP:20260423T190904
CREATED:20200120T040734Z
LAST-MODIFIED:20200120T040734Z
UID:10000329-1586277000-1586282400@halletoakgallery.com
SUMMARY:River Commitee Meeting! All are welcome!
DESCRIPTION:April 7\, 2020\, First Tuesday of Every Month  \nFriends of the River Committee Meeting \nHALLETTSVILLE: Friends of Hallettsville Downtown Revitalization (FHDR) \n4:30 PM to 6 PM \nDress: Casual. Refreshments will be served. Cash Bar. \nEl Vaquero Mexican Restaurant\, Downtown Hallettsville \nwww.halletoakgallery.com 361-217-7030 Free. Membership not required. \nShare this:\n				Share on Facebook (Opens in new window)\n				Facebook\n			\n				Share on X (Opens in new window)\n				X\n			\n				Share on LinkedIn (Opens in new window)\n				LinkedIn\n			\n				Share on Pinterest (Opens in new window)\n				Pinterest\n			More\n				Share on Reddit (Opens in new window)\n				Reddit\n			\n				Share on Tumblr (Opens in new window)\n				Tumblr\n			\n				Email a link to a friend (Opens in new window)\n				Email\n			\n				Print (Opens in new window)\n				Print
URL:https://halletoakgallery.com/event/river-commitee-meeting-all-are-welcome/
LOCATION:Hallet Oak Gallery
CATEGORIES:Beautification
ATTACH;FMTTYPE=image/jpeg:https://halletoakgallery.com/wp-content/uploads/2020/01/river_postcard.jpeg
ORGANIZER;CN="Hallet Oak Gallery":MAILTO:venue@halletoakgallery.com
END:VEVENT
BEGIN:VEVENT
DTSTART;TZID=America/Chicago:20200303T160000
DTEND;TZID=America/Chicago:20200303T170000
DTSTAMP:20260423T190904
CREATED:20200120T034057Z
LAST-MODIFIED:20200120T034057Z
UID:10000318-1583251200-1583254800@halletoakgallery.com
SUMMARY:River Committee Meeting! All are welcome!
DESCRIPTION:March 3\, 2020\, First Tuesday of Every Month  \nHALLETTSVILLE: Friends of Hallettsville Downtown Revitalization (FHDR) \nFriends of the River Committee Meeting 4:30 PM to 6 PM \nDress: Casual. Refreshments will be served. Cash Bar. \nEl Vaquero Mexican Restaurant\, Downtown Hallettsville \nwww.halletoakgallery.com 361-217-7030 \nFree. Membership not required. \nShare this:\n				Share on Facebook (Opens in new window)\n				Facebook\n			\n				Share on X (Opens in new window)\n				X\n			\n				Share on LinkedIn (Opens in new window)\n				LinkedIn\n			\n				Share on Pinterest (Opens in new window)\n				Pinterest\n			More\n				Share on Reddit (Opens in new window)\n				Reddit\n			\n				Share on Tumblr (Opens in new window)\n				Tumblr\n			\n				Email a link to a friend (Opens in new window)\n				Email\n			\n				Print (Opens in new window)\n				Print
URL:https://halletoakgallery.com/event/river-committee-meeting-all-are-welcome/
LOCATION:Hallet Oak Gallery
CATEGORIES:Beautification
ATTACH;FMTTYPE=image/jpeg:https://halletoakgallery.com/wp-content/uploads/2015/10/3x4IMG_2869.jpg
END:VEVENT
END:VCALENDAR