BEGIN:VCALENDAR
VERSION:2.0
PRODID:-//Hallet Oak Foundation Inc - ECPv6.15.20//NONSGML v1.0//EN
CALSCALE:GREGORIAN
METHOD:PUBLISH
X-ORIGINAL-URL:https://halletoakgallery.com
X-WR-CALDESC:Events for Hallet Oak Foundation Inc
REFRESH-INTERVAL;VALUE=DURATION:PT1H
X-Robots-Tag:noindex
X-PUBLISHED-TTL:PT1H
BEGIN:VTIMEZONE
TZID:America/Chicago
BEGIN:DAYLIGHT
TZOFFSETFROM:-0600
TZOFFSETTO:-0500
TZNAME:CDT
DTSTART:20220313T080000
END:DAYLIGHT
BEGIN:STANDARD
TZOFFSETFROM:-0500
TZOFFSETTO:-0600
TZNAME:CST
DTSTART:20221106T070000
END:STANDARD
BEGIN:DAYLIGHT
TZOFFSETFROM:-0600
TZOFFSETTO:-0500
TZNAME:CDT
DTSTART:20230312T080000
END:DAYLIGHT
BEGIN:STANDARD
TZOFFSETFROM:-0500
TZOFFSETTO:-0600
TZNAME:CST
DTSTART:20231105T070000
END:STANDARD
BEGIN:DAYLIGHT
TZOFFSETFROM:-0600
TZOFFSETTO:-0500
TZNAME:CDT
DTSTART:20240310T080000
END:DAYLIGHT
BEGIN:STANDARD
TZOFFSETFROM:-0500
TZOFFSETTO:-0600
TZNAME:CST
DTSTART:20241103T070000
END:STANDARD
END:VTIMEZONE
BEGIN:VEVENT
DTSTART;TZID=America/Chicago:20230410T100000
DTEND;TZID=America/Chicago:20230410T110000
DTSTAMP:20260424T002801
CREATED:20230410T112753Z
LAST-MODIFIED:20230410T113436Z
UID:10000723-1681120800-1681124400@halletoakgallery.com
SUMMARY:Join us at Lavaca County Commissioner's Court for Proclamation
DESCRIPTION:You are invited to be in the proclamation photograph! \n  \nThank you Honorable Judge Mudd\, and members of the court for doing a great job for Lavaca County! \n_______________ \nFriends of Lavaca River group would like to thank everyone that got us to this point  — it could have been an encouraging word\, or attending meetings to create the group\, and too\, we appreciate the groups that are here today – \n  \nHallettsville Boy Scouts Troup 223\, \nHallettsville Cub Scouts Pack 223 \nHallettsville Girl Scouts Troop 9513 \nFirst United Methodist Church\, Hallettsville\, and \nSacred Heart Catholic School\, Hallettsville \nFriends of Lavaca River and anyone else here to support this annual event. \nPlease join us for the group photo and if you have your cowboy hat feel free to wear it in the photo. \n______________________ \nAgain\, a big thank you to Judge Keith Mudd for making this possible to be here today\, this effort creates a community clean up that will grow each year with more groups and businesses contributing to keep the Lavaca River clean. \n  \n__________________ \n  \nOur first Annual clean-up will be on Saturday\, April 22nd. We will meet at the Hallet Oak Gallery at 8 AM to 8:30 AM to give out T-shirts and split into two large teams. \n  \nThe event will be held at CR1 Poor Farm Bridge and Hwy 77/90 – 9 AM sharp and will end at 9:45 AM in time for Fiddlers Frolics. \nPROCLAMATION \nLAVACA COUNTY\, TX \nAnnual Lavaca River Awareness and Clean-Up Time \n  \nWHEREAS\, A proclamation is requested to proclaim an Annual Lavaca River Awareness and Clean-Up Time. Hallet Oak Foundation’s Friends of Lavaca River group will announce on an annual basis\, a coordinated date\, after working with the proper authorities. This will be an annual event to unite businesses\, organizations\, groups\, and individuals\, so that they can participate to help keep the Lavaca River clean. \n  \nWHEREAS\, The mission of Hallet Oak Foundation’s Friends of Lavaca River group is to create a functioning co-existence with The Lavaca River and not to cause a problem for preventing future floods. We have a park-like beautification project in mind so that we can enjoy the river by hikes and learning about the eco-system. \n  \nWHEREAS\, The area to be served for a clean-up will be within the dredged 7.5 mile section of the Lavaca River in Hallettsville. The location for the clean-up will start by Campbell Branch creek moving south to Poor Farm Bridge\, a total of 2.4 miles\, including 100 feet on either side of the river. \n  \nWHEREAS\, Assistance will be provided by Lavaca-Navidad River Authority\, Lavaca County\, City of Hallettsville\, and Hallet Oak Foundation’s Friends of Lavaca River group. \n  \nWHEREAS\, Hallettsville Boy Scouts Troup 223\, Hallettsville Cub Scouts Pack 223\, Hallettsville Girl Scouts Troop 9513\, First United Methodist Church\, Hallettsville\, and Sacred Heart Catholic School\, Hallettsville are planning to assist in bringing in volunteers.  Organizations\, businesses\, and citizens that wish to contribute and volunteer time are welcome to join in. This is an excellent opportunity for community service hours. \n  \nWHEREAS\, Margaret Hallet donated 500 acres to become a town on this river. This community service would be in honor to her memory of making time to bring community together and to have a safe place to be. \n  \nWHEREAS\, The Lavaca River depends on volunteers to clear trash and debris that impact its flow and to improve its water quality for residences\, businesses\, wildlife\, and biodiversity. \n  \nWHEREAS\, This year in 2023 will be the First Annual Lavaca River Awareness and Clean-Up Time in 183 years. \n  \nWHEREAS\, This event also allows a time to talk about good habits\, as they go hand in hand. Such as\, obeying bridge traffic warning signs to avoid accidents; disposing of trash in trash cans instead on the road; and strapping (tying down) trash and other items properly when transporting. This will lessen fallen objects in the Lavaca River. \n  \nWHEREAS\, Far reaching effects can come from this effort for bringing good habits to improve water quality for Lavaca County community\, as well as\, benefiting those downstream.  For example\, improving drinking water quality\, and the water quality necessary for animals\, such as\, deer\, fish\, birds\, wildlife\, livestock; including the need for a certain quality for irrigation. \n  \nWHEREAS\, As a result of the Annual Lavaca River Awareness and Clean-Up Time\, residences\, businesses\, and travelers will see clean bridgeways. \n  \nNOW\, THEREFORE\, I\, Keith Mudd\, Judge of Lavaca County\, Texas\, do hereby proclaim an Official Annual Lavaca River Clean-Up Time coordinated by Hallet Oak Foundation’s Friends of Lavaca River group once a year. \n  \nIN WITNESS WHEREOF\, I have hear unto set my hand and caused the official seal of Lavaca County\, Texas to be affixed on the day of April 10\, 2023. \nJudge Keith Mudd \n  \n  \n  \n  \n  \n   \nShare this:\n				Share on Facebook (Opens in new window)\n				Facebook\n			\n				Share on X (Opens in new window)\n				X\n			\n				Share on LinkedIn (Opens in new window)\n				LinkedIn\n			\n				Share on Pinterest (Opens in new window)\n				Pinterest\n			More\n				Share on Reddit (Opens in new window)\n				Reddit\n			\n				Share on Tumblr (Opens in new window)\n				Tumblr\n			\n				Email a link to a friend (Opens in new window)\n				Email\n			\n				Print (Opens in new window)\n				Print
URL:https://halletoakgallery.com/event/join-us-at-lavaca-county-commissioners-court-for-proclamation/
LOCATION:Lavaca County Courthouse\, 109 N La Grange St\, Hallettsville\, Texas\, 77964\, United States
CATEGORIES:Adopt A River
ATTACH;FMTTYPE=image/jpeg:https://halletoakgallery.com/wp-content/uploads/2017/01/foundation_seal_small.jpg
ORGANIZER;CN="Friends of Lavaca River":MAILTO:venue@halletoakgallery.com
END:VEVENT
END:VCALENDAR