BEGIN:VCALENDAR
VERSION:2.0
PRODID:-//Hallet Oak Foundation Inc - ECPv6.15.20//NONSGML v1.0//EN
CALSCALE:GREGORIAN
METHOD:PUBLISH
X-ORIGINAL-URL:https://halletoakgallery.com
X-WR-CALDESC:Events for Hallet Oak Foundation Inc
REFRESH-INTERVAL;VALUE=DURATION:PT1H
X-Robots-Tag:noindex
X-PUBLISHED-TTL:PT1H
BEGIN:VTIMEZONE
TZID:UTC
BEGIN:STANDARD
TZOFFSETFROM:+0000
TZOFFSETTO:+0000
TZNAME:UTC
DTSTART:20170101T000000
END:STANDARD
END:VTIMEZONE
BEGIN:VEVENT
DTSTART;TZID=UTC:20180115T190000
DTEND;TZID=UTC:20180115T210000
DTSTAMP:20260423T225548
CREATED:20180102T072553Z
LAST-MODIFIED:20180102T072736Z
UID:10000367-1516042800-1516050000@halletoakgallery.com
SUMMARY:HALLET PHOTO CLUB – OPEN MEETING TO DISCUSS GROUP MONDAY\, JANUARY 15\, 2018\, 7 PM TO 9 PM
DESCRIPTION:There will be a one-time open meeting set for Monday\, January 15\, to discuss the Hallet Photo Club from 7 PM to 9 PM at Hallet Oak Gallery located on the Hallettsville downtown courthouse square. The group leader\, Tim Sadler suggests\, “It’s a new year and its time to gather to discuss which day of the week fits our group best to meet. We are an informal group of local photographers from beginners to serious amateurs and even professionals \nIn 2018 we plan to get out our camera gear and photograph in a walking tour setting. We will share our discoveries from our equipment to places we have been. This is a good time to come check out our group and let us know what fits your schedule.” \n  \nThe meeting will be held free and open to the public at Hallet Oak Gallery in the famed historic Kahn & Stanzel Bldg.\, 115 N. Main Street\, Hallettsville\, TX 77964. \nFor more information call 361-217-7030. \nShare this:\n				Share on Facebook (Opens in new window)\n				Facebook\n			\n				Share on X (Opens in new window)\n				X\n			\n				Share on LinkedIn (Opens in new window)\n				LinkedIn\n			\n				Share on Pinterest (Opens in new window)\n				Pinterest\n			More\n				Share on Reddit (Opens in new window)\n				Reddit\n			\n				Share on Tumblr (Opens in new window)\n				Tumblr\n			\n				Email a link to a friend (Opens in new window)\n				Email\n			\n				Print (Opens in new window)\n				Print
URL:https://halletoakgallery.com/event/hallet-photo-club-open-meeting-to-discuss-group-monday-january-15-2018-7-pm-to-9-pm/
LOCATION:Hallet Oak Gallery
CATEGORIES:Photo Club,Photography
ATTACH;FMTTYPE=image/jpeg:https://halletoakgallery.com/wp-content/uploads/2018/01/Timothy_Sadler_utterflys-20161125-0136-Edit-WEB.jpg
ORGANIZER;CN="Hallet Oak Gallery":MAILTO:venue@halletoakgallery.com
END:VEVENT
END:VCALENDAR