BEGIN:VCALENDAR
VERSION:2.0
PRODID:-//Hallet Oak Foundation Inc - ECPv6.15.20//NONSGML v1.0//EN
CALSCALE:GREGORIAN
METHOD:PUBLISH
X-ORIGINAL-URL:https://halletoakgallery.com
X-WR-CALDESC:Events for Hallet Oak Foundation Inc
REFRESH-INTERVAL;VALUE=DURATION:PT1H
X-Robots-Tag:noindex
X-PUBLISHED-TTL:PT1H
BEGIN:VTIMEZONE
TZID:UTC
BEGIN:STANDARD
TZOFFSETFROM:+0000
TZOFFSETTO:+0000
TZNAME:UTC
DTSTART:20150101T000000
END:STANDARD
END:VTIMEZONE
BEGIN:VTIMEZONE
TZID:America/Chicago
BEGIN:DAYLIGHT
TZOFFSETFROM:-0600
TZOFFSETTO:-0500
TZNAME:CDT
DTSTART:20220313T080000
END:DAYLIGHT
BEGIN:STANDARD
TZOFFSETFROM:-0500
TZOFFSETTO:-0600
TZNAME:CST
DTSTART:20221106T070000
END:STANDARD
BEGIN:DAYLIGHT
TZOFFSETFROM:-0600
TZOFFSETTO:-0500
TZNAME:CDT
DTSTART:20230312T080000
END:DAYLIGHT
BEGIN:STANDARD
TZOFFSETFROM:-0500
TZOFFSETTO:-0600
TZNAME:CST
DTSTART:20231105T070000
END:STANDARD
BEGIN:DAYLIGHT
TZOFFSETFROM:-0600
TZOFFSETTO:-0500
TZNAME:CDT
DTSTART:20240310T080000
END:DAYLIGHT
BEGIN:STANDARD
TZOFFSETFROM:-0500
TZOFFSETTO:-0600
TZNAME:CST
DTSTART:20241103T070000
END:STANDARD
END:VTIMEZONE
BEGIN:VEVENT
DTSTART;TZID=UTC:20160906T180000
DTEND;TZID=UTC:20160906T210000
DTSTAMP:20260423T203822
CREATED:20160822T211719Z
LAST-MODIFIED:20160822T212535Z
UID:10000262-1473184800-1473195600@halletoakgallery.com
SUMMARY:Every Tuesday Night Painting Class by Michael Windberg
DESCRIPTION:Michael Windberg\, classical realism oil painter\, presents “Come and Go Oil Painting Class” every Tuesday evening from 6:00 PM to 9:00 PM at Hallet Oak Gallery\, top floor. \nThis class offers a unique opportunity to learn\, study\, and work on the painting projects you have started or would like to begin at any level. \nPlease register in advance by contacting Michael Windberg directly at 361-649-2833\, or email Michael at mnwindberg@gmail.com \nMichael Windberg has been teaching classes and workshops for the last decade and has assisted his father\, Dalhart Windberg for twenty-five years.\nAll classes are taught in the medium of Oil and in the traditional techniques of representational art with emphases on composition\, values\, and techniques. All opaque mediums\, wet\, or dry\, are welcome. \n“I encourage painters of all levels to join us. All you will need is the desire to expand your knowledge.” – Michael Windberg \nShare this:\n				Share on Facebook (Opens in new window)\n				Facebook\n			\n				Share on X (Opens in new window)\n				X\n			\n				Share on LinkedIn (Opens in new window)\n				LinkedIn\n			\n				Share on Pinterest (Opens in new window)\n				Pinterest\n			More\n				Share on Reddit (Opens in new window)\n				Reddit\n			\n				Share on Tumblr (Opens in new window)\n				Tumblr\n			\n				Email a link to a friend (Opens in new window)\n				Email\n			\n				Print (Opens in new window)\n				Print
URL:https://halletoakgallery.com/event/every-tuesday-night-painting-class-by-michael-windberg/
LOCATION:Hallet Oak Gallery
CATEGORIES:Painting Class
ATTACH;FMTTYPE=image/jpeg:https://halletoakgallery.com/wp-content/uploads/2015/04/IMG_3013.jpg
ORGANIZER;CN="Michael Windberg - Artist":MAILTO:mnwindberg@gmail.com
END:VEVENT
BEGIN:VEVENT
DTSTART;TZID=UTC:20171003T140000
DTEND;TZID=UTC:20171003T210000
DTSTAMP:20260423T203822
CREATED:20170812T161613Z
LAST-MODIFIED:20170812T161613Z
UID:10000348-1507039200-1507064400@halletoakgallery.com
SUMMARY:Michael Windberg Oil Painting  - Every Tuesday Afternoon & Evening
DESCRIPTION:Michael Windberg Oil Painting Workshop \n2 to 5 \n6 to 9 \nCome in and check it out! This workshop is available for any level from beginners to advanced painters. \nShare this:\n				Share on Facebook (Opens in new window)\n				Facebook\n			\n				Share on X (Opens in new window)\n				X\n			\n				Share on LinkedIn (Opens in new window)\n				LinkedIn\n			\n				Share on Pinterest (Opens in new window)\n				Pinterest\n			More\n				Share on Reddit (Opens in new window)\n				Reddit\n			\n				Share on Tumblr (Opens in new window)\n				Tumblr\n			\n				Email a link to a friend (Opens in new window)\n				Email\n			\n				Print (Opens in new window)\n				Print
URL:https://halletoakgallery.com/event/michael-windberg-oil-painting-every-tuesday-afternoon-evening/
CATEGORIES:Painting Class
ATTACH;FMTTYPE=image/jpeg:https://halletoakgallery.com/wp-content/uploads/2016/12/sm4x4michael_windberg_IMG_9683-e1516243404174.jpg
ORGANIZER;CN="Michael Windberg - Artist":MAILTO:mnwindberg@gmail.com
END:VEVENT
BEGIN:VEVENT
DTSTART;TZID=UTC:20181116T190000
DTEND;TZID=UTC:20181116T210000
DTSTAMP:20260423T203822
CREATED:20180818T095227Z
LAST-MODIFIED:20180818T095227Z
UID:10000222-1542394800-1542402000@halletoakgallery.com
SUMMARY:Sip & Paint with Linda Cejka
DESCRIPTION:Sip & Paint with Linda Cejka\n\nNovember 16 @ 7:00 pm – 9:00 pm\n$25.00 \n\nSIP & PAINT AT THE GALLERY: Friday\, November 16\, 2018\, 7 – 9 PM \nOPEN TO THE PUBLIC:  $25 RSVP by phone & pay at the door   \nOn Friday\, November 16\, 2018\, Linda Cejka\, the Gallery’s Outreach Director\, will be demonstrating live techniques creating “Boots” for a “Sip & Paint at the Gallery” event.  Join us for a fun night of painting. Doors open at 6:30 and painting begins at 7:00 PM to 9:00 PM. \nMake this a family outing – children welcome!  Plan a Girls or Guys night out and invite your friends! The cost is $25 for adults and free for children under 14 years old. Children must be accompanied by a family member. Paints\, brushes and canvas will be supplied. RSVP 361-217-7030.  Last minute walk-ins are always welcome. \nLinda Cejka has an MBA from Our Lady of the Lake University and enjoys teaching arts and crafts to all ages from children to adults. Hallet Oak Gallery is located in the famous Kahn & Stanzel Bldg.\, 115 N. Main St.\, Hallettsville\, TX\, 77964. See other calendar-of-events at www.halletoakgallery.com. \nShare this:\n				Share on Facebook (Opens in new window)\n				Facebook\n			\n				Share on X (Opens in new window)\n				X\n			\n				Share on LinkedIn (Opens in new window)\n				LinkedIn\n			\n				Share on Pinterest (Opens in new window)\n				Pinterest\n			More\n				Share on Reddit (Opens in new window)\n				Reddit\n			\n				Share on Tumblr (Opens in new window)\n				Tumblr\n			\n				Email a link to a friend (Opens in new window)\n				Email\n			\n				Print (Opens in new window)\n				Print
URL:https://halletoakgallery.com/event/sip-paint-with-linda-cejka-3/
LOCATION:Hallet Oak Gallery
CATEGORIES:Art Lessons,Sip & Paint,Sip & Paint - A Night at the Gallery
ATTACH;FMTTYPE=image/jpeg:https://halletoakgallery.com/wp-content/uploads/2018/08/webBoots-paint_linda_cejka.jpg
ORGANIZER;CN="Hallet Oak Gallery":MAILTO:venue@halletoakgallery.com
END:VEVENT
BEGIN:VEVENT
DTSTART;TZID=UTC:20181207T190000
DTEND;TZID=UTC:20181207T210000
DTSTAMP:20260423T203822
CREATED:20180829T003613Z
LAST-MODIFIED:20180829T222640Z
UID:10000223-1544209200-1544216400@halletoakgallery.com
SUMMARY:Paint & Sip with Linda Cejka
DESCRIPTION:  \n\nSIP & PAINT AT THE GALLERY: Friday\, December 7\, 2018\, 7 – 9 PM \nOPEN TO THE PUBLIC:  $25 RSVP by phone & pay at the door   \nOn Friday\, December 7\, 2018\, Linda Cejka\, the Gallery’s Outreach Director\, will be demonstrating live techniques creating “Ornaments” for a “Sip & Paint at the Gallery” event.  Join us for a fun night of painting. Doors open at 6:30 and painting begins at 7:00 PM to 9:00 PM. \nMake this a family outing – children welcome!  Plan a Girls or Guys night out and invite your friends! The cost is $25 for adults and free for children under 14 years old. Children must be accompanied by a family member. Paints\, brushes and canvas will be supplied. RSVP 361-217-7030.  Last minute walk-ins are always welcome. \nLinda Cejka has an MBA from Our Lady of the Lake University and enjoys teaching arts and crafts to all ages from children to adults. Hallet Oak Gallery is located in the famous Kahn & Stanzel Bldg.\, 115 N. Main St.\, Hallettsville\, TX\, 77964. See other calendar-of-events at www.halletoakgallery.com. \nShare this:\n				Share on Facebook (Opens in new window)\n				Facebook\n			\n				Share on X (Opens in new window)\n				X\n			\n				Share on LinkedIn (Opens in new window)\n				LinkedIn\n			\n				Share on Pinterest (Opens in new window)\n				Pinterest\n			More\n				Share on Reddit (Opens in new window)\n				Reddit\n			\n				Share on Tumblr (Opens in new window)\n				Tumblr\n			\n				Email a link to a friend (Opens in new window)\n				Email\n			\n				Print (Opens in new window)\n				Print
URL:https://halletoakgallery.com/event/paint-sip-with-linda-cejka-2/
LOCATION:Hallet Oak Gallery
CATEGORIES:Sip & Paint,Sip & Paint - A Night at the Gallery
ATTACH;FMTTYPE=image/jpeg:https://halletoakgallery.com/wp-content/uploads/2018/08/weblinda_cekca_5X6Sip-and-Paint-ornaments.jpg
ORGANIZER;CN="Hallet Oak Gallery":MAILTO:venue@halletoakgallery.com
END:VEVENT
BEGIN:VEVENT
DTSTART;TZID=America/Chicago:20230930T110000
DTEND;TZID=America/Chicago:20230930T150000
DTSTAMP:20260423T203822
CREATED:20230101T222627Z
LAST-MODIFIED:20230101T222751Z
UID:10000719-1696071600-1696086000@halletoakgallery.com
SUMMARY:Hallet Oak Gallery's Spotlight on the Arts - Kids Creating a Beehive Tunnel
DESCRIPTION:  \nSpotlight—Kids Creating a Beehive Tunnel \nSaturday\, September 30\, 2023 \n8:00 AM—3:00 PM \nComplimentary Refreshments \nFree Admission \n  \nWhile you are in town for Market Days (KC Hall) stop by the Hallet Oak Gallery on the Square.  Enjoy the 2023 Artists’ Exhibit. A special art activity for children of all ages may participate in making a Bee Hive! \n  \nSee www.halletoakgallery.com or www.hallettsville.com com for details! \nFree Admission. \n  \nShare this:\n				Share on Facebook (Opens in new window)\n				Facebook\n			\n				Share on X (Opens in new window)\n				X\n			\n				Share on LinkedIn (Opens in new window)\n				LinkedIn\n			\n				Share on Pinterest (Opens in new window)\n				Pinterest\n			More\n				Share on Reddit (Opens in new window)\n				Reddit\n			\n				Share on Tumblr (Opens in new window)\n				Tumblr\n			\n				Email a link to a friend (Opens in new window)\n				Email\n			\n				Print (Opens in new window)\n				Print
URL:https://halletoakgallery.com/event/hallet-oak-gallerys-spotlight-on-the-arts-kids-creating-a-beehive-tunnel/
LOCATION:Hallet Oak Gallery
CATEGORIES:Bee Tunnel
ATTACH;FMTTYPE=image/jpeg:https://halletoakgallery.com/wp-content/uploads/2023/01/web_bee_honorable_009_moulton_waterway_contest_20221203.jpg
ORGANIZER;CN="Hallet Oak Gallery":MAILTO:venue@halletoakgallery.com
END:VEVENT
END:VCALENDAR