BEGIN:VCALENDAR
VERSION:2.0
PRODID:-//Hallet Oak Foundation Inc - ECPv6.15.20//NONSGML v1.0//EN
CALSCALE:GREGORIAN
METHOD:PUBLISH
X-ORIGINAL-URL:https://halletoakgallery.com
X-WR-CALDESC:Events for Hallet Oak Foundation Inc
REFRESH-INTERVAL;VALUE=DURATION:PT1H
X-Robots-Tag:noindex
X-PUBLISHED-TTL:PT1H
BEGIN:VTIMEZONE
TZID:America/Chicago
BEGIN:DAYLIGHT
TZOFFSETFROM:-0600
TZOFFSETTO:-0500
TZNAME:CDT
DTSTART:20210314T080000
END:DAYLIGHT
BEGIN:STANDARD
TZOFFSETFROM:-0500
TZOFFSETTO:-0600
TZNAME:CST
DTSTART:20211107T070000
END:STANDARD
BEGIN:DAYLIGHT
TZOFFSETFROM:-0600
TZOFFSETTO:-0500
TZNAME:CDT
DTSTART:20220313T080000
END:DAYLIGHT
BEGIN:STANDARD
TZOFFSETFROM:-0500
TZOFFSETTO:-0600
TZNAME:CST
DTSTART:20221106T070000
END:STANDARD
BEGIN:DAYLIGHT
TZOFFSETFROM:-0600
TZOFFSETTO:-0500
TZNAME:CDT
DTSTART:20230312T080000
END:DAYLIGHT
BEGIN:STANDARD
TZOFFSETFROM:-0500
TZOFFSETTO:-0600
TZNAME:CST
DTSTART:20231105T070000
END:STANDARD
END:VTIMEZONE
BEGIN:VTIMEZONE
TZID:UTC
BEGIN:STANDARD
TZOFFSETFROM:+0000
TZOFFSETTO:+0000
TZNAME:UTC
DTSTART:20180101T000000
END:STANDARD
END:VTIMEZONE
BEGIN:VEVENT
DTSTART;TZID=America/Chicago:20221126T110000
DTEND;TZID=America/Chicago:20221126T150000
DTSTAMP:20260423T162905
CREATED:20220130T013942Z
LAST-MODIFIED:20220203T150531Z
UID:10000655-1669460400-1669474800@halletoakgallery.com
SUMMARY:Christkindlmarkt Mini Market – Original Art for Sale. Free Crafts! Open Piano!
DESCRIPTION:Saturday\, November 26 thru December 10 – Christkindlmarkt  \nHALLETTSVILLE: Christkindlmarkt Mini Market – art for Sale. \nA mini art market created to bring joy and to support local artists \nFree family friend art activities\, while supplies last. Sponsored by Marilyn Prazak Chovanetz. \nSaturdays 11:00 AM – 3:00 PM and Monday thru Friday Noon – 2:00 PM \nRefreshments will be served. Small gift items available. \nHallet Oak Gallery\, 115 N. Main St.\, Hallettsville\, TX 77964 \nwww.halletoakgallery.com  361-217-7030 \nFree and open to the public.   Membership not required. \n  \nIn addition to Chriskindlmarkt\, Downtown Hallettsville enjoy the November 26\, 2022 Festival of Lights! There will be a kiddie parade\, lighted Christmas parade\, lighting extravaganza and a Christmas play. Other activities include Mr. and Mrs. Santa\, an ornament contest\, arts and craft booths\, food\, and art market and more. Free admission. Hours: 12pm-8pm. \nShare this:\n				Share on Facebook (Opens in new window)\n				Facebook\n			\n				Share on X (Opens in new window)\n				X\n			\n				Share on LinkedIn (Opens in new window)\n				LinkedIn\n			\n				Share on Pinterest (Opens in new window)\n				Pinterest\n			More\n				Share on Reddit (Opens in new window)\n				Reddit\n			\n				Share on Tumblr (Opens in new window)\n				Tumblr\n			\n				Email a link to a friend (Opens in new window)\n				Email\n			\n				Print (Opens in new window)\n				Print
URL:https://halletoakgallery.com/event/christkindlmarkt-mini-market-original-art-for-sale-free-crafts-open-piano/
LOCATION:Hallet Oak Gallery
ATTACH;FMTTYPE=image/jpeg:https://halletoakgallery.com/wp-content/uploads/2022/01/5x7_christkindlmart_IMG_3745.jpg
END:VEVENT
BEGIN:VEVENT
DTSTART;TZID=UTC:20191031T170000
DTEND;TZID=UTC:20191031T210000
DTSTAMP:20260423T162905
CREATED:20190128T032018Z
LAST-MODIFIED:20190128T032018Z
UID:10000494-1572541200-1572555600@halletoakgallery.com
SUMMARY:Haunted Tunnel will be open Halloween!
DESCRIPTION:Saturday\, October 31 \nHALLETTSVILLE: Haunted Tunnel will be open for Halloween: 5 – 9 PM \nCome dressed in family-friendly costumes. \nHallet Oak Gallery\, 115 N. Main St.\, Hallettsville\, TX 77964 – 361-217-7030 www.halletoakgallery.com \nFree \nShare this:\n				Share on Facebook (Opens in new window)\n				Facebook\n			\n				Share on X (Opens in new window)\n				X\n			\n				Share on LinkedIn (Opens in new window)\n				LinkedIn\n			\n				Share on Pinterest (Opens in new window)\n				Pinterest\n			More\n				Share on Reddit (Opens in new window)\n				Reddit\n			\n				Share on Tumblr (Opens in new window)\n				Tumblr\n			\n				Email a link to a friend (Opens in new window)\n				Email\n			\n				Print (Opens in new window)\n				Print
URL:https://halletoakgallery.com/event/haunted-tunnel-will-be-open-halloween/
LOCATION:Hallet Oak Gallery
CATEGORIES:Annual Event - Free
ATTACH;FMTTYPE=image/jpeg:https://halletoakgallery.com/wp-content/uploads/2019/01/web5x7_hog_haunted_tunnel_IMG_1650-1.jpg
ORGANIZER;CN="Hallet Oak Gallery":MAILTO:venue@halletoakgallery.com
END:VEVENT
END:VCALENDAR