BEGIN:VCALENDAR
VERSION:2.0
PRODID:-//Hallet Oak Foundation Inc - ECPv6.15.20//NONSGML v1.0//EN
CALSCALE:GREGORIAN
METHOD:PUBLISH
X-ORIGINAL-URL:https://halletoakgallery.com
X-WR-CALDESC:Events for Hallet Oak Foundation Inc
REFRESH-INTERVAL;VALUE=DURATION:PT1H
X-Robots-Tag:noindex
X-PUBLISHED-TTL:PT1H
BEGIN:VTIMEZONE
TZID:UTC
BEGIN:STANDARD
TZOFFSETFROM:+0000
TZOFFSETTO:+0000
TZNAME:UTC
DTSTART:20150101T000000
END:STANDARD
END:VTIMEZONE
BEGIN:VEVENT
DTSTART;TZID=UTC:20181215T090000
DTEND;TZID=UTC:20181215T210000
DTSTAMP:20260424T032832
CREATED:20180104T045606Z
LAST-MODIFIED:20180908T063254Z
UID:10000368-1544864400-1544907600@halletoakgallery.com
SUMMARY:Christkindlmarkt\, Downtown Hallettsville. Live Music featuring Ruth Rouse & Denise Drozd 6 pm to 8 pm
DESCRIPTION:  \nDecember 15 @ 9 am– 9:00 pm Sweets\, hot chocolate\, and hot cider will be served while supplies last. Artworks will be for sale with new Christmas market items. Local School’s Art Trees will be on display. Live music will be performing from 6 pm to 8 pm featuring Ruth Rouse\, vocals and Denise Drozd on piano. Their performance is titled: Czechmas: An Evening of Old World Czech Christmas Carols”. The live music is sponsored by Dr. Betty J. Edward and Angela & Bruce McConnell. \nShare this:\n				Share on Facebook (Opens in new window)\n				Facebook\n			\n				Share on X (Opens in new window)\n				X\n			\n				Share on LinkedIn (Opens in new window)\n				LinkedIn\n			\n				Share on Pinterest (Opens in new window)\n				Pinterest\n			More\n				Share on Reddit (Opens in new window)\n				Reddit\n			\n				Share on Tumblr (Opens in new window)\n				Tumblr\n			\n				Email a link to a friend (Opens in new window)\n				Email\n			\n				Print (Opens in new window)\n				Print
URL:https://halletoakgallery.com/event/czechmas-an-evening-of-old-world-czech-christmas-carols/
CATEGORIES:Christkindlmarkt,Live Music
ATTACH;FMTTYPE=image/jpeg:https://halletoakgallery.com/wp-content/uploads/2016/12/ruth_rouse_denise_drozd_4x5sm_7600_1.jpg
ORGANIZER;CN="Hallet Oak Gallery":MAILTO:venue@halletoakgallery.com
END:VEVENT
BEGIN:VEVENT
DTSTART;TZID=UTC:20170320T140000
DTEND;TZID=UTC:20170320T180000
DTSTAMP:20260424T032832
CREATED:20170303T035647Z
LAST-MODIFIED:20170319T065842Z
UID:10000314-1490018400-1490032800@halletoakgallery.com
SUMMARY:First Day of Spring Downtown Hallettsville Chalk Art Celebration
DESCRIPTION:First Day of Spring Downtown Hallettsville Chalk Art Celebration\, \nArt Sale and Membership Drive  \nOutdoor Guest Performance by Chris Rybak \nDowntown – Free \nOn the first day of Spring\, Monday\, March 20\, 2017\, the Hallet Oak Gallery is hosting a 2017 Spring Chalk Art Celebration and Membership Drive inviting schools and families to chalk the parking space in front of Hallet Oak Gallery from 2 pm to 6 pm. Chris Rybak will provide an outdoor guest performance with polka/country live music. Refreshments will be served inside the Gallery. Admission is free and open to the public. \n“We are excited about this event and need the schools to contact the Gallery\, so we know how much chalk and refreshments to provide. Chris Rybak fans can sign-up for a “flash dance” performance on the street\, which will include the “Country Line Dance\, Chicken Dance” and the “The Wave”\, says Aaron Riske\, Hallet Oak Foundation Assistant Treasurer. \nThe faded yellow driveway space in front of the Gallery\, located in the famed Kahn & Stanzel building\, will be transformed into a pastel colored pathway. Elementary\, middle\, and High School students\, as well as families and professional artists are invited to join together to create a temporary masterpiece. \n“Starting the month of March\, all art in the Gallery will be 10 percent off\, with an additional 15 percent off for members\, making the sale 25 percent off all artworks through the end of the month. Since we are non-profit\, our motivation is different; for example\, we are here to support the artist and serve the community. But of course we still have expenses to maintain the building and hold events so we have to charge nominal fees sometimes\, and we want to do more marketing to support the artists so they can keep doing their work. For this Spring Celebration we’d like to keep it as a free admission to enjoy the live music and see the artworks. Membership to the Gallery helps with some of the operation costs\, and it shows support to our volunteers\, as does buying the artworks shows support to the artist”\, explains Mieko Mahi\, Executive Director of Hallet Oak Gallery. \nSchools and large groups please RSVP: 361-217-7030. Hallet Oak Foundation is a 501 c 3\, the parent company of Hallet Oak Gallery and Friends of Hallettsville Downtown Revitalization. Hallet Oak Gallery is a fine art\, performance\, and learning center. See www.halletoakgallery.com and www.halletoakfoundation.com to learn more about the mission of the non-profit. \nShare this:\n				Share on Facebook (Opens in new window)\n				Facebook\n			\n				Share on X (Opens in new window)\n				X\n			\n				Share on LinkedIn (Opens in new window)\n				LinkedIn\n			\n				Share on Pinterest (Opens in new window)\n				Pinterest\n			More\n				Share on Reddit (Opens in new window)\n				Reddit\n			\n				Share on Tumblr (Opens in new window)\n				Tumblr\n			\n				Email a link to a friend (Opens in new window)\n				Email\n			\n				Print (Opens in new window)\n				Print
URL:https://halletoakgallery.com/event/first-day-of-spring-downtown-hallettsville-chalk-art-celebration/
LOCATION:Hallet Oak Gallery
CATEGORIES:Annual Event - Free,Chalk Art,Historical Building,Live Music,Public Art
ATTACH;FMTTYPE=image/jpeg:https://halletoakgallery.com/wp-content/uploads/2017/02/chris_rybak_sm.jpg
ORGANIZER;CN="Hallet Oak Gallery":MAILTO:venue@halletoakgallery.com
END:VEVENT
BEGIN:VEVENT
DTSTART;TZID=UTC:20170313T190000
DTEND;TZID=UTC:20170313T210000
DTSTAMP:20260424T032832
CREATED:20161226T220725Z
LAST-MODIFIED:20170313T214314Z
UID:10000305-1489431600-1489438800@halletoakgallery.com
SUMMARY:2nd Monday Night at the HOG featuring Shelley King\, Singer Songwriter\, Blues/Rock/Folk
DESCRIPTION:MUSIC NIGHT AT THE HOG \nFeaturing Shelly King\, \nPerforming Blues\, Rock\, and Folk Music \nMonday\, March 13\, 2017 \n7 PM to 9 PM\n \nDoor fee sponsored by Texas Commission on the Arts through Shelly King. Please join us in thanking her for working with TCA for this event door fee to be free. \nHost Hallet Oak Gallery will welcome Shelly King\, Singer\, Songwriter\, Blues\, Rock and Folk music to the stage on Monday evening\, March 13\, 2017. Shelly is a successful solo artist and a leader of a formidable band of Austin’s finest musicians. Her blend of original blues\, rock\, folk\, country\, soul\, and gospel led her to be the first woman appointed to by the Texas Legislature to represent Texas. “Building a Fire”\, her most recent CD has affirmed King’s place as master of her own style of Americana blues. Music Night at the HOG is 7 PM -9 PM on the second Monday of each month. Doors open at 6:30 PM.  BYOB. Light appetizers provided. To learn more\, visit halletoakgallery.com  \nMore about Shelly King:\nShelley King is a musical ambassador of the Austin\, Texas sound. For the past twenty years King has built a solid national career as a singer and songwriter who is both a successful solo artist and leader of a formidable band of Austin’s finest musicians. Her blend of original blues\, rock\, folk\, country\, soul and gospel led her to be the first woman appointed by the Texas Legislature to represent the state as it’s Official Texas State Artist – Musician; an honor similar to poet laureate. On stage she leads her band through tangents of electric Southern blues and acoustic folk\, revved-up Cajun country and rock and roll with a charismatic ease that evidences the resilience of a lifelong performer. She has won Austin Music Awards for Song of the Year and Best Roots Rock Band and released seven albums of original music to rave reviews and radio chart success. Shelley tours relentlessly\, performing over 180 dates a year at venues from coffee shops and house concerts to big theaters and major festivals across the world. Her songs have been recorded by numerous national and international artists and appeared in feature films. \n“Building a Fire”\, her most recent CD and the second recorded with members of New Orleans favorite sons\, the subdudes\, has affirmed King’s place as master of her own style of Americana blues. The Austin Chronicle says “Building a Fire assembles an audio dictionary of roots music. King’s powerful\, twanged alto takes care of the rest. The kickoff cut blends Louisiana zydeco with blues sensibility\, the singer’s no-holds-barred vocal mastery front and center… “Building a Fire” is filled with sinewy soul and King’s trademark brand of torrid gospel and blues\, it’s her most confident work yet. One where the songs\, band\, and singer sound comfortable together\, each filled with the kind of grace that’s scarce and delivers salvation.” \n\n\n\n\n\nShare this:\n				Share on Facebook (Opens in new window)\n				Facebook\n			\n				Share on X (Opens in new window)\n				X\n			\n				Share on LinkedIn (Opens in new window)\n				LinkedIn\n			\n				Share on Pinterest (Opens in new window)\n				Pinterest\n			More\n				Share on Reddit (Opens in new window)\n				Reddit\n			\n				Share on Tumblr (Opens in new window)\n				Tumblr\n			\n				Email a link to a friend (Opens in new window)\n				Email\n			\n				Print (Opens in new window)\n				Print
URL:https://halletoakgallery.com/event/2nd-monday-night-at-the-hog-featuring-shelley-king-singer-songwriter-bluesrockfolk/
LOCATION:Hallet Oak Gallery
CATEGORIES:Live Music
ATTACH;FMTTYPE=image/jpeg:https://halletoakgallery.com/wp-content/uploads/2016/12/sm4x5promo-Shelley-King.jpg
ORGANIZER;CN="Hallet Oak Gallery":MAILTO:venue@halletoakgallery.com
END:VEVENT
BEGIN:VEVENT
DTSTART;TZID=UTC:20161126T130000
DTEND;TZID=UTC:20161126T170000
DTSTAMP:20260424T032832
CREATED:20160816T040903Z
LAST-MODIFIED:20160816T040917Z
UID:10000259-1480165200-1480179600@halletoakgallery.com
SUMMARY:Christkindlmarkt\,  Downtown Hallettsville:  Das 1st Lustig Music Performance
DESCRIPTION:Hallet Oak Gallery presents the \n2nd Annual \nChristkindlmarkt\, \nDowntown Hallettsville \nin conjuntion with Festival of Lights \nFREE \nLIVE CONCERTS \nEVERY SATURDAY \nNovember 26\, \nThrough \nDecember 17 \nLocated in the Historic Kahn & Stanzel Bldg: \nHallet Oak Gallery \n115 N. Main Street \nHallettsville\, TX 77964 \n1 PM to 5 PM Doors open at 9:00 AM. \nSpecial Performing Guests: Das 1st Lustig \nChristkindlmarkt at the Hallet Oak Gallery \nIn the weeks before Christmas\, many cities throughout Germany offer an open-air market\, Christkindlmarkt. Originally markets to buy winter necessities\, these markets have changed over time to Christmas Markets and are a major part of the German Christmas tradition. Vendors sell Christmas goods such as tree ornaments\, wreaths & candles and Christmas baked goods\, candies\, and other comestibles. Warm drinks are part of the tradition. Local watercolor painter\, Larry Charles will be on site showing his latest watercolor paintings\, among other artists. \nDr. Betty Edwards\, owner of the Kahn & Stanzel Building\, is sponsoring “Christkindlmarkt” for Festival of Lights starting on November 26th through December 17th at the Hallet Oak Gallery. Tables are available for vendors to sell cookies\, noodles\, strudel or other items with international flair or local charm. Enhancing the Christmas spirit will be live concerts featuring traditional German and Czech music. Special performing guests are: Das 1st Lustig on November 26; The TubaMeisters on December 3; Traditional local music on December 10 and December 17. All live Christkindlmarkt music performances begin at 1 to 5 pm\, doors open at 9:00 AM. \nJoin Dr. Edwards and friends at the Gallery November 26\, and every Saturday through December 17 for this charming event. Free to the public. \nThe Hallet Oak Gallery is located at the Kahn & Stanzel Bldg.\, 115 N. Main Street\, Hallettsville\, TX 77964.  For more information call 361-217-7030 or email venue@halletoakgallery.com. See the Calendar-of-Events at www.halletoakgallery.com. \nShare this:\n				Share on Facebook (Opens in new window)\n				Facebook\n			\n				Share on X (Opens in new window)\n				X\n			\n				Share on LinkedIn (Opens in new window)\n				LinkedIn\n			\n				Share on Pinterest (Opens in new window)\n				Pinterest\n			More\n				Share on Reddit (Opens in new window)\n				Reddit\n			\n				Share on Tumblr (Opens in new window)\n				Tumblr\n			\n				Email a link to a friend (Opens in new window)\n				Email\n			\n				Print (Opens in new window)\n				Print
URL:https://halletoakgallery.com/event/christkindlmarkt-downtown-hallettsville-das-1st-lustig-music-performance/
LOCATION:Hallet Oak Gallery
ATTACH;FMTTYPE=image/jpeg:https://halletoakgallery.com/wp-content/uploads/2015/04/IMG_3120.jpg
ORGANIZER;CN="Hallet Oak Gallery":MAILTO:venue@halletoakgallery.com
END:VEVENT
END:VCALENDAR