BEGIN:VCALENDAR
VERSION:2.0
PRODID:-//Hallet Oak Foundation Inc - ECPv6.15.20//NONSGML v1.0//EN
CALSCALE:GREGORIAN
METHOD:PUBLISH
X-ORIGINAL-URL:https://halletoakgallery.com
X-WR-CALDESC:Events for Hallet Oak Foundation Inc
REFRESH-INTERVAL;VALUE=DURATION:PT1H
X-Robots-Tag:noindex
X-PUBLISHED-TTL:PT1H
BEGIN:VTIMEZONE
TZID:UTC
BEGIN:STANDARD
TZOFFSETFROM:+0000
TZOFFSETTO:+0000
TZNAME:UTC
DTSTART:20140101T000000
END:STANDARD
END:VTIMEZONE
BEGIN:VEVENT
DTSTART;TZID=UTC:20150922T180000
DTEND;TZID=UTC:20150922T210000
DTSTAMP:20260423T222435
CREATED:20150807T215938Z
LAST-MODIFIED:20150825T194758Z
UID:10000050-1442944800-1442955600@halletoakgallery.com
SUMMARY:Intro to Oil Painting by Michael Windberg
DESCRIPTION:Michael Windberg\, classical realism oil painter\, will teach an introductory class to oil painting. This Introduction Workshop will be for four consecutive Tuesdays from 6:00 pm to 9:00 pm.\nStarting on Tuesday\, Sept. 1st through Sept. 29th\, 2015.  Cost is $30 per class. Please register in advance by contacting Michael Windberg directly at 361–649-2833\, or email Michael at mnwindberg@gmail.com \nMichael Windberg has been teaching classes and workshops for the last decade and has assisted his father\, Dalhart Windberg for twenty-five years.\nAll classes are taught in the medium of Oil and in the traditional techniques of representational art with emphases on composition\, values\, and techniques. All opaque mediums\, wet\, or dry\, are welcome.   \n“I encourage painters of all levels to join us.  All you will need is the desire to expand your knowledge.” – Michael Windberg \n \nShare this:\n				Share on Facebook (Opens in new window)\n				Facebook\n			\n				Share on X (Opens in new window)\n				X\n			\n				Share on LinkedIn (Opens in new window)\n				LinkedIn\n			\n				Share on Pinterest (Opens in new window)\n				Pinterest\n			More\n				Share on Reddit (Opens in new window)\n				Reddit\n			\n				Share on Tumblr (Opens in new window)\n				Tumblr\n			\n				Email a link to a friend (Opens in new window)\n				Email\n			\n				Print (Opens in new window)\n				Print
URL:https://halletoakgallery.com/event/intro-to-oil-painting-by-michael-windberg-3/
LOCATION:Hallet Oak Gallery
ORGANIZER;CN="Michael Windberg - Artist":MAILTO:mnwindberg@gmaill.com
END:VEVENT
BEGIN:VEVENT
DTSTART;TZID=UTC:20150905T000000
DTEND;TZID=UTC:20150905T130000
DTSTAMP:20260423T222435
CREATED:20150820T194841Z
LAST-MODIFIED:20150902T100703Z
UID:10000009-1441411200-1441458000@halletoakgallery.com
SUMMARY:Lunch & Learn: Mata Ortiz Pottery
DESCRIPTION:Hosted by the Hallet Oak Gallery. Please register by email at venue@halletoakgallery.com to attend this lunch and learn. Guest speaker is Baca St. Onge. Baca\, a fused glass jewelry artist and art collector\, will speak on Mata Ortiz pottery. \nRegistration is at 11:00 to 11:30 Lunch and talk begin at 12.  Please RSVP to help with the count for the box lunches to be ordered.   \nWalk-ins\, please bring a sack lunch\, and may have $5 off ticket price \nLunch & Learn: Mata Ortiz Pottery \n \nhttps://www.victoriaadvocate.com/news/2015/sep/01/mata-ortiz-pottery-discussion-at-hallet-oak-galler/ \nShare this:\n				Share on Facebook (Opens in new window)\n				Facebook\n			\n				Share on X (Opens in new window)\n				X\n			\n				Share on LinkedIn (Opens in new window)\n				LinkedIn\n			\n				Share on Pinterest (Opens in new window)\n				Pinterest\n			More\n				Share on Reddit (Opens in new window)\n				Reddit\n			\n				Share on Tumblr (Opens in new window)\n				Tumblr\n			\n				Email a link to a friend (Opens in new window)\n				Email\n			\n				Print (Opens in new window)\n				Print
URL:https://halletoakgallery.com/event/lunch-learn-mata-ortiz-pottery-2/
LOCATION:Hallet Oak Gallery
ATTACH;FMTTYPE=image/jpeg:https://halletoakgallery.com/wp-content/uploads/2015/08/sm2x2IMG_1539.jpg
ORGANIZER;CN="Hallet Oak Gallery":MAILTO:venue@halletoakgallery.com
END:VEVENT
END:VCALENDAR