BEGIN:VCALENDAR
VERSION:2.0
PRODID:-//Hallet Oak Foundation Inc - ECPv6.15.20//NONSGML v1.0//EN
CALSCALE:GREGORIAN
METHOD:PUBLISH
X-ORIGINAL-URL:https://halletoakgallery.com
X-WR-CALDESC:Events for Hallet Oak Foundation Inc
REFRESH-INTERVAL;VALUE=DURATION:PT1H
X-Robots-Tag:noindex
X-PUBLISHED-TTL:PT1H
BEGIN:VTIMEZONE
TZID:America/Chicago
BEGIN:DAYLIGHT
TZOFFSETFROM:-0600
TZOFFSETTO:-0500
TZNAME:CDT
DTSTART:20200308T080000
END:DAYLIGHT
BEGIN:STANDARD
TZOFFSETFROM:-0500
TZOFFSETTO:-0600
TZNAME:CST
DTSTART:20201101T070000
END:STANDARD
BEGIN:DAYLIGHT
TZOFFSETFROM:-0600
TZOFFSETTO:-0500
TZNAME:CDT
DTSTART:20210314T080000
END:DAYLIGHT
BEGIN:STANDARD
TZOFFSETFROM:-0500
TZOFFSETTO:-0600
TZNAME:CST
DTSTART:20211107T070000
END:STANDARD
BEGIN:DAYLIGHT
TZOFFSETFROM:-0600
TZOFFSETTO:-0500
TZNAME:CDT
DTSTART:20220313T080000
END:DAYLIGHT
BEGIN:STANDARD
TZOFFSETFROM:-0500
TZOFFSETTO:-0600
TZNAME:CST
DTSTART:20221106T070000
END:STANDARD
BEGIN:DAYLIGHT
TZOFFSETFROM:-0600
TZOFFSETTO:-0500
TZNAME:CDT
DTSTART:20230312T080000
END:DAYLIGHT
BEGIN:STANDARD
TZOFFSETFROM:-0500
TZOFFSETTO:-0600
TZNAME:CST
DTSTART:20231105T070000
END:STANDARD
END:VTIMEZONE
BEGIN:VEVENT
DTSTART;TZID=America/Chicago:20220806T110000
DTEND;TZID=America/Chicago:20220806T150000
DTSTAMP:20260424T091815
CREATED:20220203T150158Z
LAST-MODIFIED:20220729T213454Z
UID:10000693-1659783600-1659798000@halletoakgallery.com
SUMMARY:Michael Windberg Demo on Oil Painting & Windberg Art Supplies for Sale
DESCRIPTION:Saturday\, August 6\, 2022\nMichael Windberg Oil   Painting Demonstration\n\n\n\n\n\n\n\n\n\n\n\n\n\n\n\n Free and Open to the Public \nMeet & Greet 11:00 – Noon \n1:00 PM to 2:30 PM Demo \n3:00 PM Doors close \nWindberg Brand Brushes and Painting Supplies will be for Sale for Walk-ins!  \nEnjoy our Scavenger Hunts and  \nExhibits throughout the Day! \n  \n  \n  \n \n\n\n\n\n\n\n\n\n\n\n\n\n\n\n\n\n\n\n\n\n\n\n\n\n\n\n\n\n\n\nHallet Oak Gallery\n\n\n\n\n\n\n\n\n\n\n\n\n\n\n\n  \nSponsored by  \n  \nCity of Hallettsville \n  \nH-E-B \n  \nHallet Oak Foundation  \n\n\n\n\n\n\n\n\n\n  \nShare this:\n				Share on Facebook (Opens in new window)\n				Facebook\n			\n				Share on X (Opens in new window)\n				X\n			\n				Share on LinkedIn (Opens in new window)\n				LinkedIn\n			\n				Share on Pinterest (Opens in new window)\n				Pinterest\n			More\n				Share on Reddit (Opens in new window)\n				Reddit\n			\n				Share on Tumblr (Opens in new window)\n				Tumblr\n			\n				Email a link to a friend (Opens in new window)\n				Email\n			\n				Print (Opens in new window)\n				Print
URL:https://halletoakgallery.com/event/michael-windberg-demo-on-oil-painting-windberg-art-supplies-for-sale/
LOCATION:Hallet Oak Gallery
CATEGORIES:art,Art Center with Exhibit,Oil Painting
ATTACH;FMTTYPE=image/jpeg:https://halletoakgallery.com/wp-content/uploads/2015/04/IMG_2074-1.jpg
END:VEVENT
BEGIN:VEVENT
DTSTART;TZID=America/Chicago:20210807T110000
DTEND;TZID=America/Chicago:20210807T150000
DTSTAMP:20260424T091815
CREATED:20210126T165516Z
LAST-MODIFIED:20210126T165516Z
UID:10000616-1628334000-1628348400@halletoakgallery.com
SUMMARY:Michael Windberg Demo
DESCRIPTION:Saturday\, August 7  \nHALLETTSVILLE: Michael Windberg Demo   \n11:00 AM – 3:00 PM \nHallet Oak Gallery\, 115 N. Main St.\, Hallettsville\, TX 77964 \nwww.halletoakgallery.com  361-217-7030 \nFree and open to the public. Membership not required. \nShare this:\n				Share on Facebook (Opens in new window)\n				Facebook\n			\n				Share on X (Opens in new window)\n				X\n			\n				Share on LinkedIn (Opens in new window)\n				LinkedIn\n			\n				Share on Pinterest (Opens in new window)\n				Pinterest\n			More\n				Share on Reddit (Opens in new window)\n				Reddit\n			\n				Share on Tumblr (Opens in new window)\n				Tumblr\n			\n				Email a link to a friend (Opens in new window)\n				Email\n			\n				Print (Opens in new window)\n				Print
URL:https://halletoakgallery.com/event/michael-windberg-demo/
LOCATION:Hallet Oak Gallery
CATEGORIES:Oil Painting
ATTACH;FMTTYPE=image/jpeg:https://halletoakgallery.com/wp-content/uploads/2017/08/5x7michael_windbergIMG_1833.jpg
END:VEVENT
END:VCALENDAR