BEGIN:VCALENDAR
VERSION:2.0
PRODID:-//Hallet Oak Foundation Inc - ECPv6.15.20//NONSGML v1.0//EN
CALSCALE:GREGORIAN
METHOD:PUBLISH
X-ORIGINAL-URL:https://halletoakgallery.com
X-WR-CALDESC:Events for Hallet Oak Foundation Inc
REFRESH-INTERVAL;VALUE=DURATION:PT1H
X-Robots-Tag:noindex
X-PUBLISHED-TTL:PT1H
BEGIN:VTIMEZONE
TZID:America/Chicago
BEGIN:DAYLIGHT
TZOFFSETFROM:-0600
TZOFFSETTO:-0500
TZNAME:CDT
DTSTART:20240310T080000
END:DAYLIGHT
BEGIN:STANDARD
TZOFFSETFROM:-0500
TZOFFSETTO:-0600
TZNAME:CST
DTSTART:20241103T070000
END:STANDARD
BEGIN:DAYLIGHT
TZOFFSETFROM:-0600
TZOFFSETTO:-0500
TZNAME:CDT
DTSTART:20250309T080000
END:DAYLIGHT
BEGIN:STANDARD
TZOFFSETFROM:-0500
TZOFFSETTO:-0600
TZNAME:CST
DTSTART:20251102T070000
END:STANDARD
BEGIN:DAYLIGHT
TZOFFSETFROM:-0600
TZOFFSETTO:-0500
TZNAME:CDT
DTSTART:20260308T080000
END:DAYLIGHT
BEGIN:STANDARD
TZOFFSETFROM:-0500
TZOFFSETTO:-0600
TZNAME:CST
DTSTART:20261101T070000
END:STANDARD
END:VTIMEZONE
BEGIN:VTIMEZONE
TZID:UTC
BEGIN:STANDARD
TZOFFSETFROM:+0000
TZOFFSETTO:+0000
TZNAME:UTC
DTSTART:20170101T000000
END:STANDARD
END:VTIMEZONE
BEGIN:VEVENT
DTSTART;TZID=America/Chicago:20250906T090000
DTEND;TZID=America/Chicago:20251103T170000
DTSTAMP:20260423T192338
CREATED:20250814T121339Z
LAST-MODIFIED:20250814T121413Z
UID:10004346-1757149200-1762189200@halletoakgallery.com
SUMMARY:Michael Windberg Workshop – Pay in Advance
DESCRIPTION:Michael Windberg Workshop – Pay in Advance\nHallet Oak Gallery\nContact Michael Windberg for details\, call or text 361-649-2833 “Understanding the Landscape” – Composition\, Light Direction\, Mixing for Color Harmony 9 -5 pm on Saturday and 1 – 5 pm $75 each day\, $150 total. \nShare this:\n				Share on Facebook (Opens in new window)\n				Facebook\n			\n				Share on X (Opens in new window)\n				X\n			\n				Share on LinkedIn (Opens in new window)\n				LinkedIn\n			\n				Share on Pinterest (Opens in new window)\n				Pinterest\n			More\n				Share on Reddit (Opens in new window)\n				Reddit\n			\n				Share on Tumblr (Opens in new window)\n				Tumblr\n			\n				Email a link to a friend (Opens in new window)\n				Email\n			\n				Print (Opens in new window)\n				Print
URL:https://halletoakgallery.com/event/michael-windberg-workshop-pay-in-advance-6/
LOCATION:Hallet Oak Gallery
CATEGORIES:Art Lessons,Michael Windberg Oil Painting Workshop,Oil Painting
ATTACH;FMTTYPE=image/jpeg:https://halletoakgallery.com/wp-content/uploads/2025/04/5x7windbergIMG_8757.jpg
ORGANIZER;CN="Michael Windberg - Artist":MAILTO:mnwindberg@gmail.com
END:VEVENT
BEGIN:VEVENT
DTSTART;TZID=America/Chicago:20250803T130000
DTEND;TZID=America/Chicago:20250803T170000
DTSTAMP:20260423T192338
CREATED:20250801T225935Z
LAST-MODIFIED:20250801T225935Z
UID:10004345-1754226000-1754240400@halletoakgallery.com
SUMMARY:Michael Windberg Workshop - Pay in Advance
DESCRIPTION:Contact Michael Windberg for details\, call or text 361-649-2833 \n“Bring what you are working on or what you want to start.” – Composition\, Light Direction\, Mixing for Color Harmony \n9 -5 pm on Saturday and 1 – 5 pm on Sunday. \nClass is limited to eight Students\, $150 due before class date. Subject for this workshop is \nShare this:\n				Share on Facebook (Opens in new window)\n				Facebook\n			\n				Share on X (Opens in new window)\n				X\n			\n				Share on LinkedIn (Opens in new window)\n				LinkedIn\n			\n				Share on Pinterest (Opens in new window)\n				Pinterest\n			More\n				Share on Reddit (Opens in new window)\n				Reddit\n			\n				Share on Tumblr (Opens in new window)\n				Tumblr\n			\n				Email a link to a friend (Opens in new window)\n				Email\n			\n				Print (Opens in new window)\n				Print
URL:https://halletoakgallery.com/event/michael-windberg-workshop-pay-in-advance-5/
LOCATION:Hallet Oak Gallery
CATEGORIES:Art Lessons
ATTACH;FMTTYPE=image/jpeg:https://halletoakgallery.com/wp-content/uploads/2017/08/5x7michael_windbergIMG_1833.jpg
END:VEVENT
BEGIN:VEVENT
DTSTART;TZID=UTC:20180206T140000
DTEND;TZID=UTC:20180206T210000
DTSTAMP:20260423T192338
CREATED:20180120T220404Z
LAST-MODIFIED:20180120T220653Z
UID:10000212-1517925600-1517950800@halletoakgallery.com
SUMMARY:Michael Windberg Oil Painting Workshops Every Tuesday - Two classes to choose from early afternoon or evening.
DESCRIPTION:Michael Windberg is a master painter teaching his own oil painting workshops — to any level of artist willing to learn how to paint realism or impressionistic painting. \nMichael will provide a list of supplies needed and walk-ins are welcomed. $30 per class unless signed up for monthly classes\, then it’s $25 per class. Most artist paint every week to develop their talents and to develop their own style of painting. The results are fabulous! \nHours Michael is in the Gallery teaching is Every Tuesday – 2 PM to 5 PM and 7 PM to 9 PM. \nHallet Oak Gallery has six programs it supports\, and one of the programs is offering studio space to artist that are desiring to teach. \nBe a part of it\, teach your own workshop at the Hallet Oak Gallery! Our goal is to have a variety of classes every night of the week from ball room dancing\, painting and photography! \n  \nShare this:\n				Share on Facebook (Opens in new window)\n				Facebook\n			\n				Share on X (Opens in new window)\n				X\n			\n				Share on LinkedIn (Opens in new window)\n				LinkedIn\n			\n				Share on Pinterest (Opens in new window)\n				Pinterest\n			More\n				Share on Reddit (Opens in new window)\n				Reddit\n			\n				Share on Tumblr (Opens in new window)\n				Tumblr\n			\n				Email a link to a friend (Opens in new window)\n				Email\n			\n				Print (Opens in new window)\n				Print
URL:https://halletoakgallery.com/event/michael-windberg-oil-painting-workshops-every-tuesday-two-classes-to-choose-from-early-afternoon-or-evening/
LOCATION:Hallet Oak Gallery
CATEGORIES:Michael Windberg Oil Painting Workshop,Oil Painting
ATTACH;FMTTYPE=image/jpeg:https://halletoakgallery.com/wp-content/uploads/2018/01/web_michael_windberg_2017IMG_9650.jpg
ORGANIZER;CN="Michael Windberg - Artist":MAILTO:mnwindberg@gmail.com
END:VEVENT
END:VCALENDAR