BEGIN:VCALENDAR
VERSION:2.0
PRODID:-//Hallet Oak Foundation Inc - ECPv6.15.20//NONSGML v1.0//EN
CALSCALE:GREGORIAN
METHOD:PUBLISH
X-ORIGINAL-URL:https://halletoakgallery.com
X-WR-CALDESC:Events for Hallet Oak Foundation Inc
REFRESH-INTERVAL;VALUE=DURATION:PT1H
X-Robots-Tag:noindex
X-PUBLISHED-TTL:PT1H
BEGIN:VTIMEZONE
TZID:America/Chicago
BEGIN:DAYLIGHT
TZOFFSETFROM:-0600
TZOFFSETTO:-0500
TZNAME:CDT
DTSTART:20230312T080000
END:DAYLIGHT
BEGIN:STANDARD
TZOFFSETFROM:-0500
TZOFFSETTO:-0600
TZNAME:CST
DTSTART:20231105T070000
END:STANDARD
BEGIN:DAYLIGHT
TZOFFSETFROM:-0600
TZOFFSETTO:-0500
TZNAME:CDT
DTSTART:20240310T080000
END:DAYLIGHT
BEGIN:STANDARD
TZOFFSETFROM:-0500
TZOFFSETTO:-0600
TZNAME:CST
DTSTART:20241103T070000
END:STANDARD
BEGIN:DAYLIGHT
TZOFFSETFROM:-0600
TZOFFSETTO:-0500
TZNAME:CDT
DTSTART:20250309T080000
END:DAYLIGHT
BEGIN:STANDARD
TZOFFSETFROM:-0500
TZOFFSETTO:-0600
TZNAME:CST
DTSTART:20251102T070000
END:STANDARD
END:VTIMEZONE
BEGIN:VEVENT
DTSTART;TZID=America/Chicago:20240803T120000
DTEND;TZID=America/Chicago:20240803T150000
DTSTAMP:20260423T162654
CREATED:20240712T193828Z
LAST-MODIFIED:20240712T193829Z
UID:10003817-1722686400-1722697200@halletoakgallery.com
SUMMARY:Michael Windberg Demo
DESCRIPTION:Open to the Public – See an Oil Painting Being Created on a Blank Canvas! \nThe Public is invited to See a Michael Windberg Demo at Hallet Oak Gallery \nSaturday\, August 3\, 2024 \n12 PM  —3:00 PM \nFree Admission \nDemo Event Schedule: \n12:00 PM – 12:15 PM Free Refreshments & Painting Supplies on Sale \n12:15 PM Michael Windberg Demo Begins \n3:00 PM The Demo Painting Will Be Auctioned \n3:30 PM Doors Close \n  \n  \nSee www.halletoakgallery.com for more information. \n  \n  \nHallet Oak Gallery\, 115 N. Main St.\, Hallettsville\, TX 77964.  Open 12-3 Thurs-Sat. \nShare this:\n				Share on Facebook (Opens in new window)\n				Facebook\n			\n				Share on X (Opens in new window)\n				X\n			\n				Share on LinkedIn (Opens in new window)\n				LinkedIn\n			\n				Share on Pinterest (Opens in new window)\n				Pinterest\n			More\n				Share on Reddit (Opens in new window)\n				Reddit\n			\n				Share on Tumblr (Opens in new window)\n				Tumblr\n			\n				Email a link to a friend (Opens in new window)\n				Email\n			\n				Print (Opens in new window)\n				Print
URL:https://halletoakgallery.com/event/michael-windberg-demo-2/
LOCATION:Hallet Oak Gallery
CATEGORIES:art,Art Exhibit & Reception,Oil Painting
ATTACH;FMTTYPE=image/png:https://halletoakgallery.com/wp-content/uploads/2024/07/2024_windberg_demo.png
ORGANIZER;CN="Hallet Oak Gallery":MAILTO:venue@halletoakgallery.com
END:VEVENT
END:VCALENDAR