BEGIN:VCALENDAR
VERSION:2.0
PRODID:-//Hallet Oak Foundation Inc - ECPv6.15.20//NONSGML v1.0//EN
CALSCALE:GREGORIAN
METHOD:PUBLISH
X-ORIGINAL-URL:https://halletoakgallery.com
X-WR-CALDESC:Events for Hallet Oak Foundation Inc
REFRESH-INTERVAL;VALUE=DURATION:PT1H
X-Robots-Tag:noindex
X-PUBLISHED-TTL:PT1H
BEGIN:VTIMEZONE
TZID:UTC
BEGIN:STANDARD
TZOFFSETFROM:+0000
TZOFFSETTO:+0000
TZNAME:UTC
DTSTART:20160101T000000
END:STANDARD
END:VTIMEZONE
BEGIN:VEVENT
DTSTART;TZID=UTC:20171213T180000
DTEND;TZID=UTC:20171213T200000
DTSTAMP:20260424T002434
CREATED:20170812T161034Z
LAST-MODIFIED:20171119T001104Z
UID:10000347-1513188000-1513195200@halletoakgallery.com
SUMMARY:SCTAL
DESCRIPTION:  \nShare this:\n				Share on Facebook (Opens in new window)\n				Facebook\n			\n				Share on X (Opens in new window)\n				X\n			\n				Share on LinkedIn (Opens in new window)\n				LinkedIn\n			\n				Share on Pinterest (Opens in new window)\n				Pinterest\n			More\n				Share on Reddit (Opens in new window)\n				Reddit\n			\n				Share on Tumblr (Opens in new window)\n				Tumblr\n			\n				Email a link to a friend (Opens in new window)\n				Email\n			\n				Print (Opens in new window)\n				Print
URL:https://halletoakgallery.com/event/south-central-art-league-meeting-2nd-wednesday-5/
END:VEVENT
BEGIN:VEVENT
DTSTART;TZID=UTC:20171108T180000
DTEND;TZID=UTC:20171108T200000
DTSTAMP:20260424T002434
CREATED:20170812T160750Z
LAST-MODIFIED:20171118T231711Z
UID:10000341-1510164000-1510171200@halletoakgallery.com
SUMMARY:SCTAL
DESCRIPTION:  \n\nShare this:\n				Share on Facebook (Opens in new window)\n				Facebook\n			\n				Share on X (Opens in new window)\n				X\n			\n				Share on LinkedIn (Opens in new window)\n				LinkedIn\n			\n				Share on Pinterest (Opens in new window)\n				Pinterest\n			More\n				Share on Reddit (Opens in new window)\n				Reddit\n			\n				Share on Tumblr (Opens in new window)\n				Tumblr\n			\n				Email a link to a friend (Opens in new window)\n				Email\n			\n				Print (Opens in new window)\n				Print
URL:https://halletoakgallery.com/event/south-central-art-league-meeting-2nd-wednesday-4/
END:VEVENT
BEGIN:VEVENT
DTSTART;TZID=UTC:20171011T180000
DTEND;TZID=UTC:20171011T200000
DTSTAMP:20260424T002434
CREATED:20170812T160523Z
LAST-MODIFIED:20171118T224450Z
UID:10000336-1507744800-1507752000@halletoakgallery.com
SUMMARY:private booking lw
DESCRIPTION:Share this:\n				Share on Facebook (Opens in new window)\n				Facebook\n			\n				Share on X (Opens in new window)\n				X\n			\n				Share on LinkedIn (Opens in new window)\n				LinkedIn\n			\n				Share on Pinterest (Opens in new window)\n				Pinterest\n			More\n				Share on Reddit (Opens in new window)\n				Reddit\n			\n				Share on Tumblr (Opens in new window)\n				Tumblr\n			\n				Email a link to a friend (Opens in new window)\n				Email\n			\n				Print (Opens in new window)\n				Print
URL:https://halletoakgallery.com/event/south-central-art-league-meeting-2nd-wednesday-3/
END:VEVENT
BEGIN:VEVENT
DTSTART;TZID=UTC:20170913T180000
DTEND;TZID=UTC:20170913T200000
DTSTAMP:20260424T002434
CREATED:20170812T160139Z
LAST-MODIFIED:20170826T002322Z
UID:10000334-1505325600-1505332800@halletoakgallery.com
SUMMARY:South Central Texas Art League Meeting - 2nd Wednesday
DESCRIPTION:The South Central Texas Art League meets on the second Wednesday of every month from 6-8 PM at the Hallet Oak Gallery\, Historic Kahn & Stanzel Bldg.\, 115 N. Main Street\, Hallettsville\, TX 77964.    To sign up for notices by email\,  Contact SCAL \nSCTAL welcomes everyone interested \nin Art and Creativity! \nJoin us the second Wednesday of every month.\nYearly Dues: Individual\, $30; Couples\, $40; \nStudents\, $10; Sponsors\, $100+ \n​Founded in 2015 as the Hallettsville \nArt League\, we changed our name \nto the South  Central Texas Art \nLeague to include members from \nneighboring counties. We meet \nevery month in Hallettsville for \nprograms about art\, to share infor- \nmation about art shows and art \nactivities\, and to share tips\, tech- \nniques\, and resources. ​​Registered  \nas a nonprofit organization\, but not  \na 501 3-C\, the South Central Texas \nArt League endeavors to enrich  \nour communities through sharing\,  \nteaching\, and encouraging art. We \nseek cooperation with neighboring  \nart leagues. \n\nShare this:\n				Share on Facebook (Opens in new window)\n				Facebook\n			\n				Share on X (Opens in new window)\n				X\n			\n				Share on LinkedIn (Opens in new window)\n				LinkedIn\n			\n				Share on Pinterest (Opens in new window)\n				Pinterest\n			More\n				Share on Reddit (Opens in new window)\n				Reddit\n			\n				Share on Tumblr (Opens in new window)\n				Tumblr\n			\n				Email a link to a friend (Opens in new window)\n				Email\n			\n				Print (Opens in new window)\n				Print
URL:https://halletoakgallery.com/event/south-central-art-league-meeting-2nd-wednesday-2/
ATTACH;FMTTYPE=image/jpeg:https://halletoakgallery.com/wp-content/uploads/2016/10/14046045_1371549192859811_4741156120691733003_n.jpg
ORGANIZER;CN="South Central Art League":MAILTO:art@sctxartleague.com
END:VEVENT
END:VCALENDAR