BEGIN:VCALENDAR
VERSION:2.0
PRODID:-//Hallet Oak Foundation Inc - ECPv6.15.20//NONSGML v1.0//EN
CALSCALE:GREGORIAN
METHOD:PUBLISH
X-ORIGINAL-URL:https://halletoakgallery.com
X-WR-CALDESC:Events for Hallet Oak Foundation Inc
REFRESH-INTERVAL;VALUE=DURATION:PT1H
X-Robots-Tag:noindex
X-PUBLISHED-TTL:PT1H
BEGIN:VTIMEZONE
TZID:America/Chicago
BEGIN:DAYLIGHT
TZOFFSETFROM:-0600
TZOFFSETTO:-0500
TZNAME:CDT
DTSTART:20250309T080000
END:DAYLIGHT
BEGIN:STANDARD
TZOFFSETFROM:-0500
TZOFFSETTO:-0600
TZNAME:CST
DTSTART:20251102T070000
END:STANDARD
BEGIN:DAYLIGHT
TZOFFSETFROM:-0600
TZOFFSETTO:-0500
TZNAME:CDT
DTSTART:20260308T080000
END:DAYLIGHT
BEGIN:STANDARD
TZOFFSETFROM:-0500
TZOFFSETTO:-0600
TZNAME:CST
DTSTART:20261101T070000
END:STANDARD
BEGIN:DAYLIGHT
TZOFFSETFROM:-0600
TZOFFSETTO:-0500
TZNAME:CDT
DTSTART:20270314T080000
END:DAYLIGHT
BEGIN:STANDARD
TZOFFSETFROM:-0500
TZOFFSETTO:-0600
TZNAME:CST
DTSTART:20271107T070000
END:STANDARD
BEGIN:DAYLIGHT
TZOFFSETFROM:-0600
TZOFFSETTO:-0500
TZNAME:CDT
DTSTART:20280312T080000
END:DAYLIGHT
BEGIN:STANDARD
TZOFFSETFROM:-0500
TZOFFSETTO:-0600
TZNAME:CST
DTSTART:20281105T070000
END:STANDARD
END:VTIMEZONE
BEGIN:VEVENT
DTSTART;TZID=America/Chicago:20260224T120000
DTEND;TZID=America/Chicago:20261129T140000
DTSTAMP:20260423T163424
CREATED:20260211T223132Z
LAST-MODIFIED:20260211T224714Z
UID:10004429-1771934400-1795960800@halletoakgallery.com
SUMMARY:We're Open - Regular Hours
DESCRIPTION:  \nMonday thru Friday from noon to 4 pm: \nArtists’ Perspectives Art Opening On View Feb. 21 – Nov. 28\, 2026 \nFeaturing Artists: Paintings by Moses Adams\, Larry Charles\, Jo Edwards\,                 Gene Grant\, Mary Gullette\, Phyllis Rivera\, Christina Rollison\,  Lois Weiss\, Michael Windberg\, and Paige Woodring; Photography by Ken Kopacki\, Mieko Mahi\, and Steven Pituch; 3-Dimensional Art by Linda Cejka\, Gypsy Jewels\, Kristina Knebel\, Julie Marsh\, James Phillips\, and Charene Tobola. \nSchool and Group tours may be booked anytime any day of the week by leaving a voice message at 361-217-7030 or leaving an email: venue@halletoagallery.com Check schedule for special Saturday happenings and other events. \n  \nShare this:\n				Share on Facebook (Opens in new window)\n				Facebook\n			\n				Share on X (Opens in new window)\n				X\n			\n				Share on LinkedIn (Opens in new window)\n				LinkedIn\n			\n				Share on Pinterest (Opens in new window)\n				Pinterest\n			More\n				Share on Reddit (Opens in new window)\n				Reddit\n			\n				Share on Tumblr (Opens in new window)\n				Tumblr\n			\n				Email a link to a friend (Opens in new window)\n				Email\n			\n				Print (Opens in new window)\n				Print
URL:https://halletoakgallery.com/event/were-open-regular-hours/2026-02-24/
LOCATION:Hallet Oak Gallery
CATEGORIES:Art Center with Exhibit
ATTACH;FMTTYPE=image/jpeg:https://halletoakgallery.com/wp-content/uploads/2026/02/ad_halletoakgallery.hallettsville.2025.jpg
END:VEVENT
BEGIN:VEVENT
DTSTART;TZID=America/Chicago:20260414T180000
DTEND;TZID=America/Chicago:20260414T200000
DTSTAMP:20260423T163424
CREATED:20251008T181511Z
LAST-MODIFIED:20251008T181817Z
UID:10004360-1776189600-1776196800@halletoakgallery.com
SUMMARY:South Central Texas Art League Meeting and Program
DESCRIPTION:Share this:\n				Share on Facebook (Opens in new window)\n				Facebook\n			\n				Share on X (Opens in new window)\n				X\n			\n				Share on LinkedIn (Opens in new window)\n				LinkedIn\n			\n				Share on Pinterest (Opens in new window)\n				Pinterest\n			More\n				Share on Reddit (Opens in new window)\n				Reddit\n			\n				Share on Tumblr (Opens in new window)\n				Tumblr\n			\n				Email a link to a friend (Opens in new window)\n				Email\n			\n				Print (Opens in new window)\n				Print
URL:https://halletoakgallery.com/event/south-central-texas-art-league-meeting-and-program-5/2026-04-14/
LOCATION:Hallet Oak Gallery
ATTACH;FMTTYPE=image/jpeg:https://halletoakgallery.com/wp-content/uploads/2016/10/14046045_1371549192859811_4741156120691733003_n.jpg
END:VEVENT
BEGIN:VEVENT
DTSTART;TZID=America/Chicago:20260529T170000
DTEND;TZID=America/Chicago:20260529T210000
DTSTAMP:20260423T163424
CREATED:20260203T192504Z
LAST-MODIFIED:20260203T192504Z
UID:10004420-1780074000-1780088400@halletoakgallery.com
SUMMARY:Private Booking - E.M.
DESCRIPTION:Private Booking – E. M. \nShare this:\n				Share on Facebook (Opens in new window)\n				Facebook\n			\n				Share on X (Opens in new window)\n				X\n			\n				Share on LinkedIn (Opens in new window)\n				LinkedIn\n			\n				Share on Pinterest (Opens in new window)\n				Pinterest\n			More\n				Share on Reddit (Opens in new window)\n				Reddit\n			\n				Share on Tumblr (Opens in new window)\n				Tumblr\n			\n				Email a link to a friend (Opens in new window)\n				Email\n			\n				Print (Opens in new window)\n				Print
URL:https://halletoakgallery.com/event/private-booking-e-m/
LOCATION:Hallet Oak Gallery
END:VEVENT
BEGIN:VEVENT
DTSTART;TZID=America/Chicago:20260601T090000
DTEND;TZID=America/Chicago:20260601T120000
DTSTAMP:20260423T163424
CREATED:20260319T234845Z
LAST-MODIFIED:20260319T234845Z
UID:10004895-1780304400-1780315200@halletoakgallery.com
SUMMARY:Summer Camp by Georgia Pohl\, must have signed up by May 11.
DESCRIPTION:Summer Camp by Georgia Pohl\, must have signed up by May 11. For details contact venue@halletoakgallery.com or leave message at 362-217-7030. \nShare this:\n				Share on Facebook (Opens in new window)\n				Facebook\n			\n				Share on X (Opens in new window)\n				X\n			\n				Share on LinkedIn (Opens in new window)\n				LinkedIn\n			\n				Share on Pinterest (Opens in new window)\n				Pinterest\n			More\n				Share on Reddit (Opens in new window)\n				Reddit\n			\n				Share on Tumblr (Opens in new window)\n				Tumblr\n			\n				Email a link to a friend (Opens in new window)\n				Email\n			\n				Print (Opens in new window)\n				Print
URL:https://halletoakgallery.com/event/summer-camp-by-georgia-pohl-must-have-signed-up-by-may-11/
LOCATION:Hallet Oak Gallery
CATEGORIES:Summer Camp - children ages 7 to 12
ATTACH;FMTTYPE=image/jpeg:https://halletoakgallery.com/wp-content/uploads/2018/07/MG_2879.jpg
END:VEVENT
BEGIN:VEVENT
DTSTART;TZID=America/Chicago:20260611T090000
DTEND;TZID=America/Chicago:20260611T120000
DTSTAMP:20260423T163424
CREATED:20260319T233855Z
LAST-MODIFIED:20260319T233856Z
UID:10004892-1781168400-1781179200@halletoakgallery.com
SUMMARY:Leather Tooling Workshop by Darlene Immekus - Must sign up by May 11th.
DESCRIPTION:Leather Tooling Workshop to be held on June 11 and June 12\, 9 am to noon by Darlene Immekus – Must sign up by May 11th. $45 total for the two days. \nFor more details\, email venue@halletoakgallery.com or leave message at 361-217-7030. \nShare this:\n				Share on Facebook (Opens in new window)\n				Facebook\n			\n				Share on X (Opens in new window)\n				X\n			\n				Share on LinkedIn (Opens in new window)\n				LinkedIn\n			\n				Share on Pinterest (Opens in new window)\n				Pinterest\n			More\n				Share on Reddit (Opens in new window)\n				Reddit\n			\n				Share on Tumblr (Opens in new window)\n				Tumblr\n			\n				Email a link to a friend (Opens in new window)\n				Email\n			\n				Print (Opens in new window)\n				Print
URL:https://halletoakgallery.com/event/leather-tooling-workshop-by-darlene-immekus-must-sign-up-by-may-11th-2/
LOCATION:Hallet Oak Gallery
ATTACH;FMTTYPE=image/jpeg:https://halletoakgallery.com/wp-content/uploads/2022/01/darlene_immekus_leather_tooling_IMG_8114.jpg
END:VEVENT
BEGIN:VEVENT
DTSTART;TZID=America/Chicago:20260612T080000
DTEND;TZID=America/Chicago:20260612T120000
DTSTAMP:20260423T163425
CREATED:20260319T234407Z
LAST-MODIFIED:20260319T234407Z
UID:10004894-1781251200-1781265600@halletoakgallery.com
SUMMARY:Leather Tooling Workshop by Darlene Immekus
DESCRIPTION:Leather Tooling Workshop to be held on June 11 and June 12\, 9 am to noon by Darlene Immekus – Must sign up by May 11th. $45 total for the two days. \nFor more details\, email venue@halletoakgallery.com or leave message at 361-217-7030. \nShare this:\n				Share on Facebook (Opens in new window)\n				Facebook\n			\n				Share on X (Opens in new window)\n				X\n			\n				Share on LinkedIn (Opens in new window)\n				LinkedIn\n			\n				Share on Pinterest (Opens in new window)\n				Pinterest\n			More\n				Share on Reddit (Opens in new window)\n				Reddit\n			\n				Share on Tumblr (Opens in new window)\n				Tumblr\n			\n				Email a link to a friend (Opens in new window)\n				Email\n			\n				Print (Opens in new window)\n				Print
URL:https://halletoakgallery.com/event/leather-tooling-workshop-by-darlene-immekus/
LOCATION:Hallet Oak Gallery
ATTACH;FMTTYPE=image/jpeg:https://halletoakgallery.com/wp-content/uploads/2022/01/darlene_immekus_leather_tooling_IMG_8114.jpg
END:VEVENT
BEGIN:VEVENT
DTSTART;TZID=America/Chicago:20260808T120000
DTEND;TZID=America/Chicago:20260808T150000
DTSTAMP:20260423T163425
CREATED:20260315T151205Z
LAST-MODIFIED:20260315T151318Z
UID:10004890-1786190400-1786201200@halletoakgallery.com
SUMMARY:Michael Windberg Demo
DESCRIPTION:Free Oil Painting Demonstration with Master Artist Michael Windberg\nSaturday\, August 8\, 2026 | 12:00 PM – 3:00 PM\nHallet Oak Gallery | Hallettsville\, TX \nDISCOVER THE MAGIC BEHIND THE CANVAS \nEver wondered how a master painter transforms a blank canvas into a breathtaking work of art? Now’s your chance to witness it—live and up close! \nJoin us at Hallet Oak Gallery for a special oil painting demonstration by acclaimed artist Michael Windberg. Watch as he brings a painting to life from the first brushstroke\, sharing techniques\, insights\, and the artistic journey that has made him a celebrated name in fine art. \nWhether you’re an art lover\, aspiring artist\, or simply curious about the creative process\, this event will entertain\, educate\, and inspire. \nEVENT HIGHLIGHTS\n• Live painting demonstration from a blank canvas\n• Q&A opportunities with Michael Windberg\n• Windberg painting supplies may be available for purchase\n• Free admission\n• Complimentary refreshments (while they last)\n• Michael auctions off his live painting at the end – you could take home an original masterpiece! \nThis is a free public event hosted by the Hallet Oak Foundation. \nLOCATION\nHallet Oak Gallery\nHistoric Kahn & Stanzel Building\n115 N. Main St.\, Hallettsville\, TX 77964 \nBring friends\, bring questions\, bring your curiosity. Come for the art—stay for the inspiration! \nShare this:\n				Share on Facebook (Opens in new window)\n				Facebook\n			\n				Share on X (Opens in new window)\n				X\n			\n				Share on LinkedIn (Opens in new window)\n				LinkedIn\n			\n				Share on Pinterest (Opens in new window)\n				Pinterest\n			More\n				Share on Reddit (Opens in new window)\n				Reddit\n			\n				Share on Tumblr (Opens in new window)\n				Tumblr\n			\n				Email a link to a friend (Opens in new window)\n				Email\n			\n				Print (Opens in new window)\n				Print
URL:https://halletoakgallery.com/event/michael-windberg-demo-3/
LOCATION:Hallet Oak Gallery
ATTACH;FMTTYPE=image/jpeg:https://halletoakgallery.com/wp-content/uploads/2026/02/5x7_2025_windberg_painting_workshop_demo_IMG_6268.jpg
END:VEVENT
BEGIN:VEVENT
DTSTART;TZID=America/Chicago:20261024T160000
DTEND;TZID=America/Chicago:20261024T200000
DTSTAMP:20260423T163425
CREATED:20260211T011153Z
LAST-MODIFIED:20260211T012736Z
UID:10004425-1792857600-1792872000@halletoakgallery.com
SUMMARY:Open to the Public Pumpkin Party
DESCRIPTION:🎟 Free | Open to the Public October 24\, 2025\, 4 PM to 8 PM –  Pumpkin Party. Wildlife Forrest Tunnel Will Be Open. Open to all ages/ Wear costumes for treats! \nShare this:\n				Share on Facebook (Opens in new window)\n				Facebook\n			\n				Share on X (Opens in new window)\n				X\n			\n				Share on LinkedIn (Opens in new window)\n				LinkedIn\n			\n				Share on Pinterest (Opens in new window)\n				Pinterest\n			More\n				Share on Reddit (Opens in new window)\n				Reddit\n			\n				Share on Tumblr (Opens in new window)\n				Tumblr\n			\n				Email a link to a friend (Opens in new window)\n				Email\n			\n				Print (Opens in new window)\n				Print
URL:https://halletoakgallery.com/event/open-to-the-public-pumpkin-party/
LOCATION:Hallet Oak Gallery
CATEGORIES:Annual Event - Free,Halloween,Open House,Party
ATTACH;FMTTYPE=image/jpeg:https://halletoakgallery.com/wp-content/uploads/2026/02/5x7_halloween_gallery_IMG_7085.jpg
END:VEVENT
BEGIN:VEVENT
DTSTART;TZID=America/Chicago:20261128T120000
DTEND;TZID=America/Chicago:20261128T180000
DTSTAMP:20260423T163425
CREATED:20260211T220140Z
LAST-MODIFIED:20260211T220446Z
UID:10004426-1795867200-1795888800@halletoakgallery.com
SUMMARY:Free | Open House Christkindmarkt- November 28\, 2026\, 12 PM to 8 PM -
DESCRIPTION:  \n \n🎟 Free | Open to the Public November 28\, 2026\, 12 PM to 6 PM – Open House during Festival of Lights! Enjoy the 2026 Artists Exhibit and the Student Art Display titled:  You & Your Forest and Season Changes Contest Entries. \nShare this:\n				Share on Facebook (Opens in new window)\n				Facebook\n			\n				Share on X (Opens in new window)\n				X\n			\n				Share on LinkedIn (Opens in new window)\n				LinkedIn\n			\n				Share on Pinterest (Opens in new window)\n				Pinterest\n			More\n				Share on Reddit (Opens in new window)\n				Reddit\n			\n				Share on Tumblr (Opens in new window)\n				Tumblr\n			\n				Email a link to a friend (Opens in new window)\n				Email\n			\n				Print (Opens in new window)\n				Print
URL:https://halletoakgallery.com/event/free-open-house-christkindmarkt-november-28-2026-12-pm-to-8-pm/
LOCATION:Hallet Oak Gallery
CATEGORIES:Christkindlmarkt,Historical Building,Open House
ATTACH;FMTTYPE=image/jpeg:https://halletoakgallery.com/wp-content/uploads/2026/02/5x7_christkindmart_xmas_gallery_IMG_8623.jpg
END:VEVENT
BEGIN:VEVENT
DTSTART;TZID=America/Chicago:20270115T160000
DTEND;TZID=America/Chicago:20270115T190000
DTSTAMP:20260423T163425
CREATED:20260211T220732Z
LAST-MODIFIED:20260211T220745Z
UID:10004427-1800028800-1800039600@halletoakgallery.com
SUMMARY:Drop off Silent and Live Auction Items
DESCRIPTION:Pretty Baskets and Art welcomed! \nTo donate to silent and live auction items\, drop off on January 15\, 2027  from 4 PM to 7 PM. \nShare this:\n				Share on Facebook (Opens in new window)\n				Facebook\n			\n				Share on X (Opens in new window)\n				X\n			\n				Share on LinkedIn (Opens in new window)\n				LinkedIn\n			\n				Share on Pinterest (Opens in new window)\n				Pinterest\n			More\n				Share on Reddit (Opens in new window)\n				Reddit\n			\n				Share on Tumblr (Opens in new window)\n				Tumblr\n			\n				Email a link to a friend (Opens in new window)\n				Email\n			\n				Print (Opens in new window)\n				Print
URL:https://halletoakgallery.com/event/drop-off-silent-and-live-auction-items/
LOCATION:Hallet Oak Gallery
ATTACH;FMTTYPE=image/jpeg:https://halletoakgallery.com/wp-content/uploads/2026/02/5x7_hof_thanksgivinggallery_bldg_IMG_7688.jpg
END:VEVENT
BEGIN:VEVENT
DTSTART;TZID=America/Chicago:20270116T140000
DTEND;TZID=America/Chicago:20270116T180000
DTSTAMP:20260423T163425
CREATED:20260211T222257Z
LAST-MODIFIED:20260211T222257Z
UID:10004428-1800108000-1800122400@halletoakgallery.com
SUMMARY:A Special Soiree and Art Auction
DESCRIPTION:To donate to silent and live auction items\, drop off on January 15\, 2027  from 4 PM to 7 PM. \n  \nHallet Oak Gallery Annual Fundraiser – A Special Soiree and Art Auction \nSaturday\, January 16\, 2027 \n2:00 PM to 6:00 PM \nMeet the artists and enjoy light refreshments \nSilent Art Auction and Live Auction with Auctioneer. \nWear your best festive attire! \n  \nHallet Oak Gallery\, 115 N. Main St.\, Hallettsville\, TX 77964 \nwww.halletoakgallery.com    \n$55 per indivicual or $100 per couple. RSVP to 361-217-7030 and indicate the number in your party. \n  \nTo donate to silent and live auction items\, drop off on January 9 from 4 PM to 7 PM. \nHallet Oak Gallery\, Historic Kahn and Stanzel Bldg.\, 115 N. Main St.\, Hallettsville\, TX 77964 \nRegular open hours will begin in February 2026 after the opening show. \n  \nEmail venue@halletoakgallery.com or call and leave message for group tours: 361-317-7030. \nSee www.halletoakgallery.com for calendar of events. \nShare this:\n				Share on Facebook (Opens in new window)\n				Facebook\n			\n				Share on X (Opens in new window)\n				X\n			\n				Share on LinkedIn (Opens in new window)\n				LinkedIn\n			\n				Share on Pinterest (Opens in new window)\n				Pinterest\n			More\n				Share on Reddit (Opens in new window)\n				Reddit\n			\n				Share on Tumblr (Opens in new window)\n				Tumblr\n			\n				Email a link to a friend (Opens in new window)\n				Email\n			\n				Print (Opens in new window)\n				Print
URL:https://halletoakgallery.com/event/a-special-soiree-and-art-auction/
LOCATION:Hallet Oak Gallery
ATTACH;FMTTYPE=image/jpeg:https://halletoakgallery.com/wp-content/uploads/2026/02/202601_hof_art_auction_fundraiser000166950023-scaled.jpg
END:VEVENT
END:VCALENDAR