BEGIN:VCALENDAR
VERSION:2.0
PRODID:-//Hallet Oak Foundation Inc - ECPv6.15.20//NONSGML v1.0//EN
CALSCALE:GREGORIAN
METHOD:PUBLISH
X-ORIGINAL-URL:https://halletoakgallery.com
X-WR-CALDESC:Events for Hallet Oak Foundation Inc
REFRESH-INTERVAL;VALUE=DURATION:PT1H
X-Robots-Tag:noindex
X-PUBLISHED-TTL:PT1H
BEGIN:VTIMEZONE
TZID:America/Chicago
BEGIN:DAYLIGHT
TZOFFSETFROM:-0600
TZOFFSETTO:-0500
TZNAME:CDT
DTSTART:20250309T080000
END:DAYLIGHT
BEGIN:STANDARD
TZOFFSETFROM:-0500
TZOFFSETTO:-0600
TZNAME:CST
DTSTART:20251102T070000
END:STANDARD
BEGIN:DAYLIGHT
TZOFFSETFROM:-0600
TZOFFSETTO:-0500
TZNAME:CDT
DTSTART:20260308T080000
END:DAYLIGHT
BEGIN:STANDARD
TZOFFSETFROM:-0500
TZOFFSETTO:-0600
TZNAME:CST
DTSTART:20261101T070000
END:STANDARD
BEGIN:DAYLIGHT
TZOFFSETFROM:-0600
TZOFFSETTO:-0500
TZNAME:CDT
DTSTART:20270314T080000
END:DAYLIGHT
BEGIN:STANDARD
TZOFFSETFROM:-0500
TZOFFSETTO:-0600
TZNAME:CST
DTSTART:20271107T070000
END:STANDARD
END:VTIMEZONE
BEGIN:VEVENT
DTSTART;TZID=America/Chicago:20260210T173000
DTEND;TZID=America/Chicago:20260210T200000
DTSTAMP:20260423T214035
CREATED:20260203T201717Z
LAST-MODIFIED:20260203T202543Z
UID:10004421-1770744600-1770753600@halletoakgallery.com
SUMMARY:WWII Stolen Art: The Monuments Presentation with SCTAL meeting following
DESCRIPTION:Doors will be open at 5:30 pm. \nPresentation begins at 6pm: WWII Stolen Art: The Monuments\, Morrison Williams\,  speaker. \nThe South Central Texas Art League Meeting will follow. \nDoor close by 8:30 pm. For more information contact Blanche Cavarretta. \n  \nShare this:\n				Share on Facebook (Opens in new window)\n				Facebook\n			\n				Share on X (Opens in new window)\n				X\n			\n				Share on LinkedIn (Opens in new window)\n				LinkedIn\n			\n				Share on Pinterest (Opens in new window)\n				Pinterest\n			More\n				Share on Reddit (Opens in new window)\n				Reddit\n			\n				Share on Tumblr (Opens in new window)\n				Tumblr\n			\n				Email a link to a friend (Opens in new window)\n				Email\n			\n				Print (Opens in new window)\n				Print
URL:https://halletoakgallery.com/event/wwii-stolen-art-the-monuments-presentation-with-sctal-meeting-following/
LOCATION:Hallet Oak Gallery
CATEGORIES:art
ATTACH;FMTTYPE=image/jpeg:https://halletoakgallery.com/wp-content/uploads/2016/10/14046045_1371549192859811_4741156120691733003_n.jpg
END:VEVENT
BEGIN:VEVENT
DTSTART;TZID=America/Chicago:20260210T180000
DTEND;TZID=America/Chicago:20260210T200000
DTSTAMP:20260423T214035
CREATED:20251008T181511Z
LAST-MODIFIED:20251008T181817Z
UID:10004358-1770746400-1770753600@halletoakgallery.com
SUMMARY:South Central Texas Art League Meeting and Program
DESCRIPTION:Share this:\n				Share on Facebook (Opens in new window)\n				Facebook\n			\n				Share on X (Opens in new window)\n				X\n			\n				Share on LinkedIn (Opens in new window)\n				LinkedIn\n			\n				Share on Pinterest (Opens in new window)\n				Pinterest\n			More\n				Share on Reddit (Opens in new window)\n				Reddit\n			\n				Share on Tumblr (Opens in new window)\n				Tumblr\n			\n				Email a link to a friend (Opens in new window)\n				Email\n			\n				Print (Opens in new window)\n				Print
URL:https://halletoakgallery.com/event/south-central-texas-art-league-meeting-and-program-5/2026-02-10/
LOCATION:Hallet Oak Gallery
ATTACH;FMTTYPE=image/jpeg:https://halletoakgallery.com/wp-content/uploads/2016/10/14046045_1371549192859811_4741156120691733003_n.jpg
END:VEVENT
BEGIN:VEVENT
DTSTART;TZID=America/Chicago:20260221T120000
DTEND;TZID=America/Chicago:20260221T160000
DTSTAMP:20260423T214035
CREATED:20260208T204244Z
LAST-MODIFIED:20260208T204244Z
UID:10004423-1771675200-1771689600@halletoakgallery.com
SUMMARY:2026 Artists’ Perspectives Opening Reception
DESCRIPTION:  \n \n2026 Artists’ Perspectives On View: February 21\, 2026 – November 28\, 2026 \nGallery Regular Hours After Opening Show: Feb-Nov Mon-Fri\, Noon to 2:00 PM \nOpening Reception – Open House: Saturday\, February 21\, 2026 Noon to 4:00 PM Meet the artists and enjoy light refreshments! \nFeatured Artists and Media: \nPaintings \n\nMoses Adams – mixed media\, watercolor\nLarry Charles – watercolor\nJo Edwards – oil\nGene Grant – oil\nMary Gullette – mixed media\nPhyllis Rivera – oil\nChristina Rollison – mixed media\nLois Weiss – oil\nMichael Windberg – oil\nPaige Woodring – mixed media\n\nPhotography \n\nMieko Mahi – industrial\nKen Kopacki – fine art\nSteven Pituch – fine art\n\n3-Dimensional Art \n\nLinda Cejka – jewelry\nGypsy Jewels – mixed media\nKristina Knebel – mixed media\nJulie Marsh – glass sculpture\nJames Phillips – wood sculpture\nCharlene Tobola – mixed media\n\nThe exhibition has been thoughtfully arranged by color\, size\, and occasionally subject\, allowing each piece to shine in its own space. The conception design of the show is by handled by Julie Marsh and Lois Wiess.  \nGallery Setting: Hallet Oak Gallery is housed in the historic 1890 Kahn and Stanzel Building\, designed by renowned architect James Riely Gordon. Across the square\, the 1897 Lavaca County Courthouse\, designed by Eugene T. Heiner\, adds to the charm and ambiance. \nAll artwork is available for purchase. \nAdmission: Free and open to the public. Membership not required. Feb-Nov Regular Hallet Oak Gallery open hours to the public: M-F noon to 2pm\, group tours available anyway of the week by appointment only\, 361-217-7030\, leave voice message. \nLocation: Hallet Oak Gallery 115 N. Main St.\, Hallettsville\, TX 77964 \nCheck website for local happenings:  More Information: www.halletoakgallery.com \nShare this:\n				Share on Facebook (Opens in new window)\n				Facebook\n			\n				Share on X (Opens in new window)\n				X\n			\n				Share on LinkedIn (Opens in new window)\n				LinkedIn\n			\n				Share on Pinterest (Opens in new window)\n				Pinterest\n			More\n				Share on Reddit (Opens in new window)\n				Reddit\n			\n				Share on Tumblr (Opens in new window)\n				Tumblr\n			\n				Email a link to a friend (Opens in new window)\n				Email\n			\n				Print (Opens in new window)\n				Print
URL:https://halletoakgallery.com/event/2026-artists-perspectives-opening-reception/
LOCATION:Hallet Oak Gallery
CATEGORIES:Annual Event - Free,art,Art Exhibit & Reception
ATTACH;FMTTYPE=image/jpeg:https://halletoakgallery.com/wp-content/uploads/2026/02/5X7_opening_exhibit_IMG_6187.jpg
END:VEVENT
BEGIN:VEVENT
DTSTART;TZID=America/Chicago:20260224T120000
DTEND;TZID=America/Chicago:20261129T140000
DTSTAMP:20260423T214035
CREATED:20260211T223132Z
LAST-MODIFIED:20260211T224714Z
UID:10004429-1771934400-1795960800@halletoakgallery.com
SUMMARY:We're Open - Regular Hours
DESCRIPTION:  \nMonday thru Friday from noon to 4 pm: \nArtists’ Perspectives Art Opening On View Feb. 21 – Nov. 28\, 2026 \nFeaturing Artists: Paintings by Moses Adams\, Larry Charles\, Jo Edwards\,                 Gene Grant\, Mary Gullette\, Phyllis Rivera\, Christina Rollison\,  Lois Weiss\, Michael Windberg\, and Paige Woodring; Photography by Ken Kopacki\, Mieko Mahi\, and Steven Pituch; 3-Dimensional Art by Linda Cejka\, Gypsy Jewels\, Kristina Knebel\, Julie Marsh\, James Phillips\, and Charene Tobola. \nSchool and Group tours may be booked anytime any day of the week by leaving a voice message at 361-217-7030 or leaving an email: venue@halletoagallery.com Check schedule for special Saturday happenings and other events. \n  \nShare this:\n				Share on Facebook (Opens in new window)\n				Facebook\n			\n				Share on X (Opens in new window)\n				X\n			\n				Share on LinkedIn (Opens in new window)\n				LinkedIn\n			\n				Share on Pinterest (Opens in new window)\n				Pinterest\n			More\n				Share on Reddit (Opens in new window)\n				Reddit\n			\n				Share on Tumblr (Opens in new window)\n				Tumblr\n			\n				Email a link to a friend (Opens in new window)\n				Email\n			\n				Print (Opens in new window)\n				Print
URL:https://halletoakgallery.com/event/were-open-regular-hours/2026-02-24/
LOCATION:Hallet Oak Gallery
CATEGORIES:Art Center with Exhibit
ATTACH;FMTTYPE=image/jpeg:https://halletoakgallery.com/wp-content/uploads/2026/02/ad_halletoakgallery.hallettsville.2025.jpg
END:VEVENT
BEGIN:VEVENT
DTSTART;TZID=America/Chicago:20260225T120000
DTEND;TZID=America/Chicago:20261130T140000
DTSTAMP:20260423T214035
CREATED:20260211T223132Z
LAST-MODIFIED:20260211T224714Z
UID:10004430-1772020800-1796047200@halletoakgallery.com
SUMMARY:We're Open - Regular Hours
DESCRIPTION:  \nMonday thru Friday from noon to 4 pm: \nArtists’ Perspectives Art Opening On View Feb. 21 – Nov. 28\, 2026 \nFeaturing Artists: Paintings by Moses Adams\, Larry Charles\, Jo Edwards\,                 Gene Grant\, Mary Gullette\, Phyllis Rivera\, Christina Rollison\,  Lois Weiss\, Michael Windberg\, and Paige Woodring; Photography by Ken Kopacki\, Mieko Mahi\, and Steven Pituch; 3-Dimensional Art by Linda Cejka\, Gypsy Jewels\, Kristina Knebel\, Julie Marsh\, James Phillips\, and Charene Tobola. \nSchool and Group tours may be booked anytime any day of the week by leaving a voice message at 361-217-7030 or leaving an email: venue@halletoagallery.com Check schedule for special Saturday happenings and other events. \n  \nShare this:\n				Share on Facebook (Opens in new window)\n				Facebook\n			\n				Share on X (Opens in new window)\n				X\n			\n				Share on LinkedIn (Opens in new window)\n				LinkedIn\n			\n				Share on Pinterest (Opens in new window)\n				Pinterest\n			More\n				Share on Reddit (Opens in new window)\n				Reddit\n			\n				Share on Tumblr (Opens in new window)\n				Tumblr\n			\n				Email a link to a friend (Opens in new window)\n				Email\n			\n				Print (Opens in new window)\n				Print
URL:https://halletoakgallery.com/event/were-open-regular-hours/2026-02-25/
LOCATION:Hallet Oak Gallery
CATEGORIES:Art Center with Exhibit
ATTACH;FMTTYPE=image/jpeg:https://halletoakgallery.com/wp-content/uploads/2026/02/ad_halletoakgallery.hallettsville.2025.jpg
END:VEVENT
BEGIN:VEVENT
DTSTART;TZID=America/Chicago:20260226T120000
DTEND;TZID=America/Chicago:20261201T140000
DTSTAMP:20260423T214035
CREATED:20260211T223132Z
LAST-MODIFIED:20260211T224714Z
UID:10004431-1772107200-1796133600@halletoakgallery.com
SUMMARY:We're Open - Regular Hours
DESCRIPTION:  \nMonday thru Friday from noon to 4 pm: \nArtists’ Perspectives Art Opening On View Feb. 21 – Nov. 28\, 2026 \nFeaturing Artists: Paintings by Moses Adams\, Larry Charles\, Jo Edwards\,                 Gene Grant\, Mary Gullette\, Phyllis Rivera\, Christina Rollison\,  Lois Weiss\, Michael Windberg\, and Paige Woodring; Photography by Ken Kopacki\, Mieko Mahi\, and Steven Pituch; 3-Dimensional Art by Linda Cejka\, Gypsy Jewels\, Kristina Knebel\, Julie Marsh\, James Phillips\, and Charene Tobola. \nSchool and Group tours may be booked anytime any day of the week by leaving a voice message at 361-217-7030 or leaving an email: venue@halletoagallery.com Check schedule for special Saturday happenings and other events. \n  \nShare this:\n				Share on Facebook (Opens in new window)\n				Facebook\n			\n				Share on X (Opens in new window)\n				X\n			\n				Share on LinkedIn (Opens in new window)\n				LinkedIn\n			\n				Share on Pinterest (Opens in new window)\n				Pinterest\n			More\n				Share on Reddit (Opens in new window)\n				Reddit\n			\n				Share on Tumblr (Opens in new window)\n				Tumblr\n			\n				Email a link to a friend (Opens in new window)\n				Email\n			\n				Print (Opens in new window)\n				Print
URL:https://halletoakgallery.com/event/were-open-regular-hours/2026-02-26/
LOCATION:Hallet Oak Gallery
CATEGORIES:Art Center with Exhibit
ATTACH;FMTTYPE=image/jpeg:https://halletoakgallery.com/wp-content/uploads/2026/02/ad_halletoakgallery.hallettsville.2025.jpg
END:VEVENT
BEGIN:VEVENT
DTSTART;TZID=America/Chicago:20260227T120000
DTEND;TZID=America/Chicago:20261202T140000
DTSTAMP:20260423T214035
CREATED:20260211T223132Z
LAST-MODIFIED:20260211T224714Z
UID:10004432-1772193600-1796220000@halletoakgallery.com
SUMMARY:We're Open - Regular Hours
DESCRIPTION:  \nMonday thru Friday from noon to 4 pm: \nArtists’ Perspectives Art Opening On View Feb. 21 – Nov. 28\, 2026 \nFeaturing Artists: Paintings by Moses Adams\, Larry Charles\, Jo Edwards\,                 Gene Grant\, Mary Gullette\, Phyllis Rivera\, Christina Rollison\,  Lois Weiss\, Michael Windberg\, and Paige Woodring; Photography by Ken Kopacki\, Mieko Mahi\, and Steven Pituch; 3-Dimensional Art by Linda Cejka\, Gypsy Jewels\, Kristina Knebel\, Julie Marsh\, James Phillips\, and Charene Tobola. \nSchool and Group tours may be booked anytime any day of the week by leaving a voice message at 361-217-7030 or leaving an email: venue@halletoagallery.com Check schedule for special Saturday happenings and other events. \n  \nShare this:\n				Share on Facebook (Opens in new window)\n				Facebook\n			\n				Share on X (Opens in new window)\n				X\n			\n				Share on LinkedIn (Opens in new window)\n				LinkedIn\n			\n				Share on Pinterest (Opens in new window)\n				Pinterest\n			More\n				Share on Reddit (Opens in new window)\n				Reddit\n			\n				Share on Tumblr (Opens in new window)\n				Tumblr\n			\n				Email a link to a friend (Opens in new window)\n				Email\n			\n				Print (Opens in new window)\n				Print
URL:https://halletoakgallery.com/event/were-open-regular-hours/2026-02-27/
LOCATION:Hallet Oak Gallery
CATEGORIES:Art Center with Exhibit
ATTACH;FMTTYPE=image/jpeg:https://halletoakgallery.com/wp-content/uploads/2026/02/ad_halletoakgallery.hallettsville.2025.jpg
END:VEVENT
END:VCALENDAR