BEGIN:VCALENDAR
VERSION:2.0
PRODID:-//Hallet Oak Foundation Inc - ECPv6.15.20//NONSGML v1.0//EN
CALSCALE:GREGORIAN
METHOD:PUBLISH
X-ORIGINAL-URL:https://halletoakgallery.com
X-WR-CALDESC:Events for Hallet Oak Foundation Inc
REFRESH-INTERVAL;VALUE=DURATION:PT1H
X-Robots-Tag:noindex
X-PUBLISHED-TTL:PT1H
BEGIN:VTIMEZONE
TZID:America/Chicago
BEGIN:DAYLIGHT
TZOFFSETFROM:-0600
TZOFFSETTO:-0500
TZNAME:CDT
DTSTART:20190310T080000
END:DAYLIGHT
BEGIN:STANDARD
TZOFFSETFROM:-0500
TZOFFSETTO:-0600
TZNAME:CST
DTSTART:20191103T070000
END:STANDARD
BEGIN:DAYLIGHT
TZOFFSETFROM:-0600
TZOFFSETTO:-0500
TZNAME:CDT
DTSTART:20200308T080000
END:DAYLIGHT
BEGIN:STANDARD
TZOFFSETFROM:-0500
TZOFFSETTO:-0600
TZNAME:CST
DTSTART:20201101T070000
END:STANDARD
BEGIN:DAYLIGHT
TZOFFSETFROM:-0600
TZOFFSETTO:-0500
TZNAME:CDT
DTSTART:20210314T080000
END:DAYLIGHT
BEGIN:STANDARD
TZOFFSETFROM:-0500
TZOFFSETTO:-0600
TZNAME:CST
DTSTART:20211107T070000
END:STANDARD
END:VTIMEZONE
BEGIN:VEVENT
DTSTART;TZID=America/Chicago:20200303T160000
DTEND;TZID=America/Chicago:20200303T170000
DTSTAMP:20260425T073832
CREATED:20200120T034057Z
LAST-MODIFIED:20200120T034057Z
UID:10000318-1583251200-1583254800@halletoakgallery.com
SUMMARY:River Committee Meeting! All are welcome!
DESCRIPTION:March 3\, 2020\, First Tuesday of Every Month  \nHALLETTSVILLE: Friends of Hallettsville Downtown Revitalization (FHDR) \nFriends of the River Committee Meeting 4:30 PM to 6 PM \nDress: Casual. Refreshments will be served. Cash Bar. \nEl Vaquero Mexican Restaurant\, Downtown Hallettsville \nwww.halletoakgallery.com 361-217-7030 \nFree. Membership not required. \nShare this:\n				Share on Facebook (Opens in new window)\n				Facebook\n			\n				Share on X (Opens in new window)\n				X\n			\n				Share on LinkedIn (Opens in new window)\n				LinkedIn\n			\n				Share on Pinterest (Opens in new window)\n				Pinterest\n			More\n				Share on Reddit (Opens in new window)\n				Reddit\n			\n				Share on Tumblr (Opens in new window)\n				Tumblr\n			\n				Email a link to a friend (Opens in new window)\n				Email\n			\n				Print (Opens in new window)\n				Print
URL:https://halletoakgallery.com/event/river-committee-meeting-all-are-welcome/
LOCATION:Hallet Oak Gallery
CATEGORIES:Beautification
ATTACH;FMTTYPE=image/jpeg:https://halletoakgallery.com/wp-content/uploads/2015/10/3x4IMG_2869.jpg
END:VEVENT
BEGIN:VEVENT
DTSTART;TZID=America/Chicago:20200307T110000
DTEND;TZID=America/Chicago:20200307T150000
DTSTAMP:20260425T073832
CREATED:20200120T033500Z
LAST-MODIFIED:20200120T033613Z
UID:10000545-1583578800-1583593200@halletoakgallery.com
SUMMARY:Doors are open! See exhibits & enjoy activities!
DESCRIPTION:Every Saturday\, March 7 – 28 Doors are open every Saturday to view 2020 Artists Exhibit! Scavenger Hunts for Children! \nHALLETTSVILLE: There is not an admission fee to enter Gallery. Hallet Oak Foundation\, a 501 (3) c nonprofit\, operates Hallet Oak Gallery as a place to see and enjoy art. Donations are appreciated. The 2020 Artists include: Moses Adams\, Dianne Appelt\, Blanche Cavarretta\, Roy Cavarretta\, Linda Cejka\, Larry Charles\, Erica Estrada\, Mary Gullette\, Debbie Halling\, Ken Kopacki\, Mieko Mahi\, Paula Patterson\, Dennis Pesek\, James Phillips\, Steven Pituch\, Georgia Pohl\, Phyllis Rivera\, Timothy Sadler\, Lois Weiss\, Michael Windberg\, and Bria Woods.  \nHallet Oak Gallery\, 115 N. Main St.\, Hallettsville\, TX 77964 www.halletoakgallery.com 361-217-7030 \nFree \nLois Weiss\, oil painter\, Ken Kopacki\, landscape photographer\, and Bria Woods\, portrait photographer\, and Debbie Halling\, watercolor and oil painter\, will be present in Gallery throughout March. \nShare this:\n				Share on Facebook (Opens in new window)\n				Facebook\n			\n				Share on X (Opens in new window)\n				X\n			\n				Share on LinkedIn (Opens in new window)\n				LinkedIn\n			\n				Share on Pinterest (Opens in new window)\n				Pinterest\n			More\n				Share on Reddit (Opens in new window)\n				Reddit\n			\n				Share on Tumblr (Opens in new window)\n				Tumblr\n			\n				Email a link to a friend (Opens in new window)\n				Email\n			\n				Print (Opens in new window)\n				Print
URL:https://halletoakgallery.com/event/doors-are-open-see-exhibits-enjoy-activities/2020-03-07/
LOCATION:Hallet Oak Gallery
CATEGORIES:Art Center with Exhibit,Scavenger Hunts
ATTACH;FMTTYPE=image/jpeg:https://halletoakgallery.com/wp-content/uploads/2020/01/web_gallery_openingIMG_1856.jpg
ORGANIZER;CN="Hallet Oak Gallery":MAILTO:venue@halletoakgallery.com
END:VEVENT
BEGIN:VEVENT
DTSTART;TZID=America/Chicago:20200311T180000
DTEND;TZID=America/Chicago:20200311T210000
DTSTAMP:20260425T073832
CREATED:20200120T035619Z
LAST-MODIFIED:20200120T035619Z
UID:10000322-1583949600-1583960400@halletoakgallery.com
SUMMARY:South Central Texas Art League Art Presentation
DESCRIPTION:South Central Texas Art League (SCTAL) Art Presentation. Refreshments will be served. Meeting following presentation. \nShare this:\n				Share on Facebook (Opens in new window)\n				Facebook\n			\n				Share on X (Opens in new window)\n				X\n			\n				Share on LinkedIn (Opens in new window)\n				LinkedIn\n			\n				Share on Pinterest (Opens in new window)\n				Pinterest\n			More\n				Share on Reddit (Opens in new window)\n				Reddit\n			\n				Share on Tumblr (Opens in new window)\n				Tumblr\n			\n				Email a link to a friend (Opens in new window)\n				Email\n			\n				Print (Opens in new window)\n				Print
URL:https://halletoakgallery.com/event/south-central-texas-art-league-art-presentation-2/
LOCATION:Hallet Oak Gallery
ATTACH;FMTTYPE=image/jpeg:https://halletoakgallery.com/wp-content/uploads/2016/10/14046045_1371549192859811_4741156120691733003_n.jpg
END:VEVENT
BEGIN:VEVENT
DTSTART;TZID=America/Chicago:20200314T110000
DTEND;TZID=America/Chicago:20200314T150000
DTSTAMP:20260425T073832
CREATED:20200120T033500Z
LAST-MODIFIED:20200120T033613Z
UID:10000546-1584183600-1584198000@halletoakgallery.com
SUMMARY:Doors are open! See exhibits & enjoy activities!
DESCRIPTION:Every Saturday\, March 7 – 28 Doors are open every Saturday to view 2020 Artists Exhibit! Scavenger Hunts for Children! \nHALLETTSVILLE: There is not an admission fee to enter Gallery. Hallet Oak Foundation\, a 501 (3) c nonprofit\, operates Hallet Oak Gallery as a place to see and enjoy art. Donations are appreciated. The 2020 Artists include: Moses Adams\, Dianne Appelt\, Blanche Cavarretta\, Roy Cavarretta\, Linda Cejka\, Larry Charles\, Erica Estrada\, Mary Gullette\, Debbie Halling\, Ken Kopacki\, Mieko Mahi\, Paula Patterson\, Dennis Pesek\, James Phillips\, Steven Pituch\, Georgia Pohl\, Phyllis Rivera\, Timothy Sadler\, Lois Weiss\, Michael Windberg\, and Bria Woods.  \nHallet Oak Gallery\, 115 N. Main St.\, Hallettsville\, TX 77964 www.halletoakgallery.com 361-217-7030 \nFree \nLois Weiss\, oil painter\, Ken Kopacki\, landscape photographer\, and Bria Woods\, portrait photographer\, and Debbie Halling\, watercolor and oil painter\, will be present in Gallery throughout March. \nShare this:\n				Share on Facebook (Opens in new window)\n				Facebook\n			\n				Share on X (Opens in new window)\n				X\n			\n				Share on LinkedIn (Opens in new window)\n				LinkedIn\n			\n				Share on Pinterest (Opens in new window)\n				Pinterest\n			More\n				Share on Reddit (Opens in new window)\n				Reddit\n			\n				Share on Tumblr (Opens in new window)\n				Tumblr\n			\n				Email a link to a friend (Opens in new window)\n				Email\n			\n				Print (Opens in new window)\n				Print
URL:https://halletoakgallery.com/event/doors-are-open-see-exhibits-enjoy-activities/2020-03-14/
LOCATION:Hallet Oak Gallery
CATEGORIES:Art Center with Exhibit,Scavenger Hunts
ATTACH;FMTTYPE=image/jpeg:https://halletoakgallery.com/wp-content/uploads/2020/01/web_gallery_openingIMG_1856.jpg
ORGANIZER;CN="Hallet Oak Gallery":MAILTO:venue@halletoakgallery.com
END:VEVENT
BEGIN:VEVENT
DTSTART;TZID=America/Chicago:20200319T110000
DTEND;TZID=America/Chicago:20200319T180000
DTSTAMP:20260425T073832
CREATED:20200120T034550Z
LAST-MODIFIED:20200120T034550Z
UID:10000320-1584615600-1584640800@halletoakgallery.com
SUMMARY:First Day of Spring Chalk Art - Live Music & Student Artworks
DESCRIPTION:Thursday\, March 19    \nHALLETTSVILLE: First Day of Spring Chalk Art featuring Local Schools Artworks \nOpen 11:00 AM – 6 PM \nThe Memorial VFW Auxiliary #6382 Young American Creative Patriotic Art entries and the Houston Livestock & Rodeo Art entries by Hallettsville High School will be on display. Western Art from Grades 2nd – 6 th Moulton ISD will be on display. Exhibit ends March 31st. Local artist and instructor Michael Windberg will be judging these school exhibits for Hallet Oak Gallery recognition awards for first\, second\, third and honorable mention. \nDoors open at 11 AM. Live outdoor music begins 4 PM – 6 PM. Space tunnel will be open. Pets welcome. \nHallet Oak Gallery\, 115 N. Main St.\, Hallettsville\, TX 77964 www.halletoakgallery.com 361-217-7030 \nFree \n  \nShare this:\n				Share on Facebook (Opens in new window)\n				Facebook\n			\n				Share on X (Opens in new window)\n				X\n			\n				Share on LinkedIn (Opens in new window)\n				LinkedIn\n			\n				Share on Pinterest (Opens in new window)\n				Pinterest\n			More\n				Share on Reddit (Opens in new window)\n				Reddit\n			\n				Share on Tumblr (Opens in new window)\n				Tumblr\n			\n				Email a link to a friend (Opens in new window)\n				Email\n			\n				Print (Opens in new window)\n				Print
URL:https://halletoakgallery.com/event/first-day-of-spring-chalk-art-live-music-student-artworks/
LOCATION:Hallet Oak Gallery
CATEGORIES:Annual Event - Free,Chalk Art,Live Music
ATTACH;FMTTYPE=image/jpeg:https://halletoakgallery.com/wp-content/uploads/2020/01/web__spring_IMG_7450.jpg
ORGANIZER;CN="Hallet Oak Gallery":MAILTO:venue@halletoakgallery.com
END:VEVENT
BEGIN:VEVENT
DTSTART;TZID=America/Chicago:20200321T110000
DTEND;TZID=America/Chicago:20200321T150000
DTSTAMP:20260425T073832
CREATED:20200120T033500Z
LAST-MODIFIED:20200120T033613Z
UID:10000547-1584788400-1584802800@halletoakgallery.com
SUMMARY:Doors are open! See exhibits & enjoy activities!
DESCRIPTION:Every Saturday\, March 7 – 28 Doors are open every Saturday to view 2020 Artists Exhibit! Scavenger Hunts for Children! \nHALLETTSVILLE: There is not an admission fee to enter Gallery. Hallet Oak Foundation\, a 501 (3) c nonprofit\, operates Hallet Oak Gallery as a place to see and enjoy art. Donations are appreciated. The 2020 Artists include: Moses Adams\, Dianne Appelt\, Blanche Cavarretta\, Roy Cavarretta\, Linda Cejka\, Larry Charles\, Erica Estrada\, Mary Gullette\, Debbie Halling\, Ken Kopacki\, Mieko Mahi\, Paula Patterson\, Dennis Pesek\, James Phillips\, Steven Pituch\, Georgia Pohl\, Phyllis Rivera\, Timothy Sadler\, Lois Weiss\, Michael Windberg\, and Bria Woods.  \nHallet Oak Gallery\, 115 N. Main St.\, Hallettsville\, TX 77964 www.halletoakgallery.com 361-217-7030 \nFree \nLois Weiss\, oil painter\, Ken Kopacki\, landscape photographer\, and Bria Woods\, portrait photographer\, and Debbie Halling\, watercolor and oil painter\, will be present in Gallery throughout March. \nShare this:\n				Share on Facebook (Opens in new window)\n				Facebook\n			\n				Share on X (Opens in new window)\n				X\n			\n				Share on LinkedIn (Opens in new window)\n				LinkedIn\n			\n				Share on Pinterest (Opens in new window)\n				Pinterest\n			More\n				Share on Reddit (Opens in new window)\n				Reddit\n			\n				Share on Tumblr (Opens in new window)\n				Tumblr\n			\n				Email a link to a friend (Opens in new window)\n				Email\n			\n				Print (Opens in new window)\n				Print
URL:https://halletoakgallery.com/event/doors-are-open-see-exhibits-enjoy-activities/2020-03-21/
LOCATION:Hallet Oak Gallery
CATEGORIES:Art Center with Exhibit,Scavenger Hunts
ATTACH;FMTTYPE=image/jpeg:https://halletoakgallery.com/wp-content/uploads/2020/01/web_gallery_openingIMG_1856.jpg
ORGANIZER;CN="Hallet Oak Gallery":MAILTO:venue@halletoakgallery.com
END:VEVENT
BEGIN:VEVENT
DTSTART;TZID=America/Chicago:20200328T110000
DTEND;TZID=America/Chicago:20200328T150000
DTSTAMP:20260425T073832
CREATED:20200120T033500Z
LAST-MODIFIED:20200120T033613Z
UID:10000548-1585393200-1585407600@halletoakgallery.com
SUMMARY:Doors are open! See exhibits & enjoy activities!
DESCRIPTION:Every Saturday\, March 7 – 28 Doors are open every Saturday to view 2020 Artists Exhibit! Scavenger Hunts for Children! \nHALLETTSVILLE: There is not an admission fee to enter Gallery. Hallet Oak Foundation\, a 501 (3) c nonprofit\, operates Hallet Oak Gallery as a place to see and enjoy art. Donations are appreciated. The 2020 Artists include: Moses Adams\, Dianne Appelt\, Blanche Cavarretta\, Roy Cavarretta\, Linda Cejka\, Larry Charles\, Erica Estrada\, Mary Gullette\, Debbie Halling\, Ken Kopacki\, Mieko Mahi\, Paula Patterson\, Dennis Pesek\, James Phillips\, Steven Pituch\, Georgia Pohl\, Phyllis Rivera\, Timothy Sadler\, Lois Weiss\, Michael Windberg\, and Bria Woods.  \nHallet Oak Gallery\, 115 N. Main St.\, Hallettsville\, TX 77964 www.halletoakgallery.com 361-217-7030 \nFree \nLois Weiss\, oil painter\, Ken Kopacki\, landscape photographer\, and Bria Woods\, portrait photographer\, and Debbie Halling\, watercolor and oil painter\, will be present in Gallery throughout March. \nShare this:\n				Share on Facebook (Opens in new window)\n				Facebook\n			\n				Share on X (Opens in new window)\n				X\n			\n				Share on LinkedIn (Opens in new window)\n				LinkedIn\n			\n				Share on Pinterest (Opens in new window)\n				Pinterest\n			More\n				Share on Reddit (Opens in new window)\n				Reddit\n			\n				Share on Tumblr (Opens in new window)\n				Tumblr\n			\n				Email a link to a friend (Opens in new window)\n				Email\n			\n				Print (Opens in new window)\n				Print
URL:https://halletoakgallery.com/event/doors-are-open-see-exhibits-enjoy-activities/2020-03-28/
LOCATION:Hallet Oak Gallery
CATEGORIES:Art Center with Exhibit,Scavenger Hunts
ATTACH;FMTTYPE=image/jpeg:https://halletoakgallery.com/wp-content/uploads/2020/01/web_gallery_openingIMG_1856.jpg
ORGANIZER;CN="Hallet Oak Gallery":MAILTO:venue@halletoakgallery.com
END:VEVENT
END:VCALENDAR